Workbook

Sheet DESTAQUE
V2: CLASSE | W2: JANEIRO | X2: FEVEREIRO | Y2: MARÇO | Z2: MÉDIA
V3: CLASSE 1 | W3: ='CLASSE 1'!D74 -> 0.48 | X3: ='CLASSE 1'!$I$74 -> 0.72 | Y3: ='CLASSE 1'!$N$74 -> 0.76 | Z3: =AVERAGE(W3:Y3) -> 0.65333333 | AA3: ='CLASSE 1'!H74 -> 0 | AB3: ='CLASSE 1'!I74 -> 0.72 | AC3: ='CLASSE 1'!J74 -> 0 | AD3: ='CLASSE 1'!K74 -> 0 | AE3: ='CLASSE 1'!L74 -> 0 | AF3: ='CLASSE 1'!M74 -> 0 | AG3: ='CLASSE 1'!N74 -> 0.76 | AH3: ='CLASSE 1'!O74 -> 0 | ... AK3: ='CLASSE 1'!R74 -> 0
V4: CLASSE 2 | W4: ='CLASSE 2'!D74 -> 0.48 | X4: ='CLASSE 2'!$I$74 -> 0.72 | Y4: ='CLASSE 2'!$N$74 -> 0.76 | Z4: =AVERAGE(W4:Y4) -> 0.65333333 | AA4: ='CLASSE 2'!H74 -> 0 | AB4: ='CLASSE 2'!I74 -> 0.72 | AC4: ='CLASSE 2'!J74 -> 0 | AD4: ='CLASSE 2'!K74 -> 0 | AE4: ='CLASSE 2'!L74 -> 0 | AF4: ='CLASSE 2'!M74 -> 0 | AG4: ='CLASSE 2'!N74 -> 0.76 | AH4: ='CLASSE 2'!O74 -> 0 | ... AK4: ='CLASSE 2'!R74 -> 0
V5: CLASSE 3 | W5: ='CLASSE 3'!$D$74 -> 0.48 | X5: ='CLASSE 3'!$I$74 -> 0.72 | Y5: ='CLASSE 3'!$N$74 -> 0.76 | Z5: =AVERAGE(W5:Y5) -> 0.65333333 | AA5: ='CLASSE 2'!H75 -> 0 | AB5: ='CLASSE 2'!I75 -> 0 | AC5: ='CLASSE 2'!J75 -> 0 | AD5: ='CLASSE 2'!K75 -> 0 | AE5: ='CLASSE 2'!L75 -> 0 | AF5: ='CLASSE 2'!M75 -> 0 | AG5: ='CLASSE 2'!N75 -> 0 | AH5: ='CLASSE 2'!O75 -> 0 | ... AK5: ='CLASSE 2'!R75 -> 0
V6: CLASSE 4 | W6: ='CLASSE 4'!$D$74 -> 0.48 | X6: ='CLASSE 4'!$I$74 -> 0.72 | Y6: ='CLASSE 4'!$N$74 -> 0.76 | Z6: =AVERAGE(W6:Y6) -> 0.65333333
V7: CLASSE 5 | W7: ='CLASSE 5'!$D$74 -> 0.48 | X7: ='CLASSE 5'!$I$74 -> 0.72 | Y7: ='CLASSE 5'!$N$74 -> 0.76 | Z7: =AVERAGE(W7:Y7) -> 0.65333333
V8: CLASSE 6 | W8: ='CLASSE 6'!$D$74 -> 0.48 | X8: ='CLASSE 6'!$I$74 -> 0.72 | Y8: ='CLASSE 6'!$N$74 -> 0.76 | Z8: =AVERAGE(W8:Y8) -> 0.65333333
V9: CLASSE 7 | W9: ='CLASSE 7'!$D$74 -> 0.48 | X9: ='CLASSE 7'!$I$74 -> 0.72 | Y9: ='CLASSE 7'!$N$74 -> 0.76 | Z9: =AVERAGE(W9:Y9) -> 0.65333333
V10: CLASSE 8 | W10: ='CLASSE 8'!$D$74 -> 0.48 | X10: ='CLASSE 8'!$I$74 -> 0.72 | Y10: ='CLASSE 8'!$N$74 -> 0.76 | Z10: =AVERAGE(W10:Y10) -> 0.65333333
V11: CLASSE 9 | W11: ='CLASSE 9'!$D$74 -> 0.48 | X11: ='CLASSE 9'!$I$74 -> 0.72 | Y11: ='CLASSE 9'!$N$74 -> 0.76 | Z11: =AVERAGE(W11:Y11) -> 0.65333333
V12: CLASSE 10 | W12: ='CLASSE 10'!D74 -> 0.48 | X12: ='CLASSE 10'!I74 -> 0.72 | Y12: ='CLASSE 10'!N74 -> 0.76 | Z12: =AVERAGE(W12:Y12) -> 0.65333333

Sheet CLASSE 1
A1: NOME DA CLASSE: | C1: CLASSE 1 | Z1: =$C$1 -> CLASSE 1 | AV1: =$C$1 -> CLASSE 1 | BR1: =$C$1 -> CLASSE 1
A2: Nº | B2: ALUNO | C2: OBSERVAÇÕES | D2: JANEIRO | I2: FEVEREIRO | N2: MARÇO | S2: Frequencia do Trimestre | Y2: 1 | Z2: ABRIL | AE2: MAIO | AJ2: JUNHO | AO2: Frequencia do Trimestre | AU2: 2 | AV2: JULHO | BA2: AGOSTO | BF2: SETEMBRO | BK2: Frequencia do Trimestre | BQ2: 3 | BR2: OUTUBRO | BW2: NOVEMBRO | CB2: DEZEMBRO | CG2: Frequencia do Trimestre
D3: 1º | E3: 2º | F3: 3º | G3: 4º | H3: 5º | I3: 1º | J3: 2º | K3: 3º | L3: 4º | M3: 5º | N3: 1º | O3: 2º | P3: 3º | Q3: 4º | R3: 5º | S3: J | T3: F | U3: M | V3: P | W3: F | X3: Frequencia % | Z3: 1º | AA3: 2º | AB3: 3º | AC3: 4º | AD3: 5º | AE3: 1º | AF3: 2º | AG3: 3º | AH3: 4º | AI3: 5º | AJ3: 1º | AK3: 2º | AL3: 3º | AM3: 4º | AN3: 5º | AO3: J | AP3: F | AQ3: M | AR3: P | AS3: F | AT3: Frequencia % | AV3: 1º | AW3: 2º | AX3: 3º | AY3: 4º | AZ3: 5º | BA3: 1º | BB3: 2º | BC3: 3º | BD3: 4º | BE3: 5º | BF3: 1º | BG3: 2º | BH3: 3º | BI3: 4º | BJ3: 5º | BK3: J | BL3: F | BM3: M | BN3: P | BO3: F | BP3: Frequencia % | BR3: 1º | BS3: 2º | BT3: 3º | BU3: 4º | BV3: 5º | BW3: 1º | BX3: 2º | BY3: 3º | BZ3: 4º | CA3: 5º | CB3: 1º | CC3: 2º | CD3: 3º | CE3: 4º | CF3: 5º | CG3: J | CH3: F | CI3: M | CJ3: P | CK3: F | CL3: Frequencia %
A4: 1 | B4: ALUNO 1 | C4: PRESBITERO | D4: P | E4: J | F4: F | G4: F | H4: P | I4: P | J4: P | K4: P | L4: F | M4: P | N4: P | O4: P | P4: P | Q4: P | R4: P | S4: =COUNTIF(D4:R4,"J") -> 1 | T4: =COUNTIF(D4:R4,"F") -> 3 | U4: =COUNTIF(D4:R4,"M") -> 0 | V4: =COUNTIF(D4:R4,"P") -> 11 | W4: =COUNTIF(D4:R4,"F") -> 3 | X4: =SUM(V4/(V4+W4)) -> 0.78571429 | Z4: P | AA4: P | AB4: P | AC4: P | AD4: F | AE4: P | AF4: P | AG4: P | AH4: P | AI4: P | AJ4: P | AK4: P | AL4: P | AM4: P | AN4: P | AO4: =COUNTIF(Z4:AN4,"J") -> 0 | AP4: =COUNTIF(Z4:AN4,"F") -> 1 | AQ4: =COUNTIF(Z4:AN4,"M") -> 0 | AR4: =COUNTIF(Z4:AN4,"P") -> 14 | AS4: =COUNTIF(Z4:AN4,"F") -> 1 | AT4: =SUM(AR4/(AR4+AS4)) -> 0.93333333 | AV4: P | AW4: P | AX4: P | AY4: P | AZ4: F | BA4: P | BB4: P | BC4: P | BD4: P | BE4: F | BF4: P | BG4: P | BH4: P | BI4: P | BJ4: F | BK4: =COUNTIF(AV4:BJ4,"J") -> 0 | BL4: =COUNTIF(AV4:BJ4,"F") -> 3 | BM4: =COUNTIF(AV4:BJ4,"M") -> 0 | BN4: =COUNTIF(AV4:BJ4,"P") -> 12 | BO4: =COUNTIF(AV4:BJ4,"F") -> 3 | BP4: =SUM(BN4/(BN4+BO4)) -> 0.8 | BR4: P | BS4: P | BT4: P | BU4: P | BV4: F | BW4: P | BX4: P | BY4: P | BZ4: P | CA4: F | CB4: P | CC4: P | CD4: P | CE4: P | CF4: F | CG4: =COUNTIF(BR4:CF4,"J") -> 0 | CH4: =COUNTIF(BR4:CF4,"F") -> 3 | CI4: =COUNTIF(BR4:CF4,"M") -> 0 | CJ4: =COUNTIF(BR4:CF4,"P") -> 12 | CK4: =COUNTIF(BR4:CF4,"F") -> 3 | CL4: =SUM(CJ4/(CJ4+CK4)) -> 0.8
A5: =A4+1 -> 2 | B5: ALUNO 2 | C5: EVANGELISTA | D5: P | E5: P | F5: F | G5: F | H5: F | I5: F | J5: F | K5: F | L5: F | M5: F | N5: F | O5: F | P5: F | Q5: F | R5: F | S5: =COUNTIF(D5:R5,"J") -> 0 | T5: =COUNTIF(D5:R5,"F") -> 13 | U5: =COUNTIF(D5:R5,"M") -> 0 | V5: =COUNTIF(D5:R5,"P") -> 2 | W5: =COUNTIF(D5:R5,"F") -> 13 | X5: =SUM(V5/(V5+W5)) -> 0.13333333 | Z5: P | AA5: P | AB5: F | AC5: F | AD5: F | AE5: F | AF5: F | AG5: F | AH5: F | AI5: F | AJ5: F | AK5: F | AL5: F | AM5: F | AN5: F | AO5: =COUNTIF(Z5:AN5,"J") -> 0 | AP5: =COUNTIF(Z5:AN5,"F") -> 13 | AQ5: =COUNTIF(Z5:AN5,"M") -> 0 | AR5: =COUNTIF(Z5:AN5,"P") -> 2 | AS5: =COUNTIF(Z5:AN5,"F") -> 13 | AT5: =SUM(AR5/(AR5+AS5)) -> 0.13333333 | AV5: P | AW5: P | AX5: F | AY5: F | AZ5: F | BA5: F | BB5: F | BC5: F | BD5: F | BE5: F | BF5: F | BG5: F | BH5: F | BI5: F | BJ5: F | BK5: =COUNTIF(AV5:BJ5,"J") -> 0 | BL5: =COUNTIF(AV5:BJ5,"F") -> 13 | BM5: =COUNTIF(AV5:BJ5,"M") -> 0 | BN5: =COUNTIF(AV5:BJ5,"P") -> 2 | BO5: =COUNTIF(AV5:BJ5,"F") -> 13 | BP5: =SUM(BN5/(BN5+BO5)) -> 0.13333333 | BR5: P | BS5: P | BT5: F | BU5: F | BV5: F | BW5: F | BX5: F | BY5: F | BZ5: F | CA5: F | CB5: F | CC5: F | CD5: F | CE5: F | CF5: F | CG5: =COUNTIF(BR5:CF5,"J") -> 0 | CH5: =COUNTIF(BR5:CF5,"F") -> 13 | CI5: =COUNTIF(BR5:CF5,"M") -> 0 | CJ5: =COUNTIF(BR5:CF5,"P") -> 2 | CK5: =COUNTIF(BR5:CF5,"F") -> 13 | CL5: =SUM(CJ5/(CJ5+CK5)) -> 0.13333333
A6: =A5+1 -> 3 | B6: ALUNO 3 | C6: PRESBITERO | D6: P | E6: P | F6: F | G6: F | H6: P | I6: P | J6: P | K6: P | L6: P | M6: P | N6: P | O6: P | P6: P | Q6: P | R6: P | S6: =COUNTIF(D6:R6,"J") -> 0 | T6: =COUNTIF(D6:R6,"F") -> 2 | U6: =COUNTIF(D6:R6,"M") -> 0 | V6: =COUNTIF(D6:R6,"P") -> 13 | W6: =COUNTIF(D6:R6,"F") -> 2 | X6: =SUM(V6/(V6+W6)) -> 0.86666667 | Z6: P | AA6: P | AB6: F | AC6: F | AD6: P | AE6: P | AF6: P | AG6: P | AH6: P | AI6: P | AJ6: P | AK6: P | AL6: P | AM6: P | AN6: P | AO6: =COUNTIF(Z6:AN6,"J") -> 0 | AP6: =COUNTIF(Z6:AN6,"F") -> 2 | AQ6: =COUNTIF(Z6:AN6,"M") -> 0 | AR6: =COUNTIF(Z6:AN6,"P") -> 13 | AS6: =COUNTIF(Z6:AN6,"F") -> 2 | AT6: =SUM(AR6/(AR6+AS6)) -> 0.86666667 | AV6: P | AW6: P | AX6: F | AY6: F | AZ6: P | BA6: P | BB6: P | BC6: P | BD6: P | BE6: P | BF6: P | BG6: P | BH6: P | BI6: P | BJ6: P | BK6: =COUNTIF(AV6:BJ6,"J") -> 0 | BL6: =COUNTIF(AV6:BJ6,"F") -> 2 | BM6: =COUNTIF(AV6:BJ6,"M") -> 0 | BN6: =COUNTIF(AV6:BJ6,"P") -> 13 | BO6: =COUNTIF(AV6:BJ6,"F") -> 2 | BP6: =SUM(BN6/(BN6+BO6)) -> 0.86666667 | BR6: P | BS6: P | BT6: F | BU6: F | BV6: P | BW6: P | BX6: P | BY6: P | BZ6: P | CA6: P | CB6: P | CC6: P | CD6: P | CE6: P | CF6: P | CG6: =COUNTIF(BR6:CF6,"J") -> 0 | CH6: =COUNTIF(BR6:CF6,"F") -> 2 | CI6: =COUNTIF(BR6:CF6,"M") -> 0 | CJ6: =COUNTIF(BR6:CF6,"P") -> 13 | CK6: =COUNTIF(BR6:CF6,"F") -> 2 | CL6: =SUM(CJ6/(CJ6+CK6)) -> 0.86666667
A7: =A6+1 -> 4 | B7: ALUNO 4 | C7: COOPERADOR | D7: P | E7: F | F7: F | G7: F | H7: F | I7: P | J7: P | K7: P | L7: P | M7: F | N7: P | O7: P | P7: P | Q7: P | R7: F | S7: =COUNTIF(D7:R7,"J") -> 0 | T7: =COUNTIF(D7:R7,"F") -> 6 | U7: =COUNTIF(D7:R7,"M") -> 0 | V7: =COUNTIF(D7:R7,"P") -> 9 | W7: =COUNTIF(D7:R7,"F") -> 6 | X7: =SUM(V7/(V7+W7)) -> 0.6 | Z7: P | AA7: F | AB7: F | AC7: F | AD7: F | AE7: P | AF7: P | AG7: P | AH7: P | AI7: P | AJ7: P | AK7: P | AL7: P | AM7: P | AN7: P | AO7: =COUNTIF(Z7:AN7,"J") -> 0 | AP7: =COUNTIF(Z7:AN7,"F") -> 4 | AQ7: =COUNTIF(Z7:AN7,"M") -> 0 | AR7: =COUNTIF(Z7:AN7,"P") -> 11 | AS7: =COUNTIF(Z7:AN7,"F") -> 4 | AT7: =SUM(AR7/(AR7+AS7)) -> 0.73333333 | AV7: P | AW7: F | AX7: F | AY7: F | AZ7: F | BA7: P | BB7: P | BC7: P | BD7: P | BE7: F | BF7: P | BG7: P | BH7: P | BI7: P | BJ7: F | BK7: =COUNTIF(AV7:BJ7,"J") -> 0 | BL7: =COUNTIF(AV7:BJ7,"F") -> 6 | BM7: =COUNTIF(AV7:BJ7,"M") -> 0 | BN7: =COUNTIF(AV7:BJ7,"P") -> 9 | BO7: =COUNTIF(AV7:BJ7,"F") -> 6 | BP7: =SUM(BN7/(BN7+BO7)) -> 0.6 | BR7: P | BS7: F | BT7: F | BU7: F | BV7: F | BW7: P | BX7: P | BY7: P | BZ7: P | CA7: F | CB7: P | CC7: P | CD7: P | CE7: P | CF7: F | CG7: =COUNTIF(BR7:CF7,"J") -> 0 | CH7: =COUNTIF(BR7:CF7,"F") -> 6 | CI7: =COUNTIF(BR7:CF7,"M") -> 0 | CJ7: =COUNTIF(BR7:CF7,"P") -> 9 | CK7: =COUNTIF(BR7:CF7,"F") -> 6 | CL7: =SUM(CJ7/(CJ7+CK7)) -> 0.6
A8: =A7+1 -> 5 | B8: ALUNO 5 | C8: PRESBITERO | D8: P | E8: F | F8: P | G8: P | H8: P | I8: P | J8: P | K8: P | L8: P | M8: P | N8: P | O8: P | P8: P | Q8: P | R8: P | S8: =COUNTIF(D8:R8,"J") -> 0 | T8: =COUNTIF(D8:R8,"F") -> 1 | U8: =COUNTIF(D8:R8,"M") -> 0 | V8: =COUNTIF(D8:R8,"P") -> 14 | W8: =COUNTIF(D8:R8,"F") -> 1 | X8: =SUM(V8/(V8+W8)) -> 0.93333333 | Z8: P | AA8: F | AB8: P | AC8: P | AD8: P | AE8: P | AF8: P | AG8: P | AH8: P | AI8: P | AJ8: P | AK8: P | AL8: P | AM8: P | AN8: P | AO8: =COUNTIF(Z8:AN8,"J") -> 0 | AP8: =COUNTIF(Z8:AN8,"F") -> 1 | AQ8: =COUNTIF(Z8:AN8,"M") -> 0 | AR8: =COUNTIF(Z8:AN8,"P") -> 14 | AS8: =COUNTIF(Z8:AN8,"F") -> 1 | AT8: =SUM(AR8/(AR8+AS8)) -> 0.93333333 | AV8: P | AW8: F | AX8: P | AY8: P | AZ8: P | BA8: P | BB8: P | BC8: P | BD8: P | BE8: P | BF8: P | BG8: P | BH8: P | BI8: P | BJ8: P | BK8: =COUNTIF(AV8:BJ8,"J") -> 0 | BL8: =COUNTIF(AV8:BJ8,"F") -> 1 | BM8: =COUNTIF(AV8:BJ8,"M") -> 0 | BN8: =COUNTIF(AV8:BJ8,"P") -> 14 | BO8: =COUNTIF(AV8:BJ8,"F") -> 1 | BP8: =SUM(BN8/(BN8+BO8)) -> 0.93333333 | BR8: P | BS8: F | BT8: P | BU8: P | BV8: P | BW8: P | BX8: P | BY8: P | BZ8: P | CA8: P | CB8: P | CC8: P | CD8: P | CE8: P | CF8: P | CG8: =COUNTIF(BR8:CF8,"J") -> 0 | CH8: =COUNTIF(BR8:CF8,"F") -> 1 | CI8: =COUNTIF(BR8:CF8,"M") -> 0 | CJ8: =COUNTIF(BR8:CF8,"P") -> 14 | CK8: =COUNTIF(BR8:CF8,"F") -> 1 | CL8: =SUM(CJ8/(CJ8+CK8)) -> 0.93333333
A9: =A8+1 -> 6 | S9: =COUNTIF(D9:R9,"J") -> 0 | T9: =COUNTIF(D9:R9,"F") -> 0 | U9: =COUNTIF(D9:R9,"M") -> 0 | V9: =COUNTIF(D9:R9,"P") -> 0 | W9: =COUNTIF(D9:R9,"F") -> 0 | X9: =SUM(V9/(V9+W9)) -> #DIV/0! | AO9: =COUNTIF(Z9:AN9,"J") -> 0 | AP9: =COUNTIF(Z9:AN9,"F") -> 0 | AQ9: =COUNTIF(Z9:AN9,"M") -> 0 | AR9: =COUNTIF(Z9:AN9,"P") -> 0 | AS9: =COUNTIF(Z9:AN9,"F") -> 0 | AT9: =SUM(AR9/(AR9+AS9)) -> #DIV/0! | BK9: =COUNTIF(AV9:BJ9,"J") -> 0 | BL9: =COUNTIF(AV9:BJ9,"F") -> 0 | BM9: =COUNTIF(AV9:BJ9,"M") -> 0 | BN9: =COUNTIF(AV9:BJ9,"P") -> 0 | BO9: =COUNTIF(AV9:BJ9,"F") -> 0 | BP9: =SUM(BN9/(BN9+BO9)) -> #DIV/0! | CG9: =COUNTIF(BR9:CF9,"J") -> 0 | CH9: =COUNTIF(BR9:CF9,"F") -> 0 | CI9: =COUNTIF(BR9:CF9,"M") -> 0 | CJ9: =COUNTIF(BR9:CF9,"P") -> 0 | CK9: =COUNTIF(BR9:CF9,"F") -> 0 | CL9: =SUM(CJ9/(CJ9+CK9)) -> #DIV/0!
A10: =A9+1 -> 7 | S10: =COUNTIF(D10:R10,"J") -> 0 | T10: =COUNTIF(D10:R10,"F") -> 0 | U10: =COUNTIF(D10:R10,"M") -> 0 | V10: =COUNTIF(D10:R10,"P") -> 0 | W10: =COUNTIF(D10:R10,"F") -> 0 | X10: =SUM(V10/(V10+W10)) -> #DIV/0! | AO10: =COUNTIF(Z10:AN10,"J") -> 0 | AP10: =COUNTIF(Z10:AN10,"F") -> 0 | AQ10: =COUNTIF(Z10:AN10,"M") -> 0 | AR10: =COUNTIF(Z10:AN10,"P") -> 0 | AS10: =COUNTIF(Z10:AN10,"F") -> 0 | AT10: =SUM(AR10/(AR10+AS10)) -> #DIV/0! | BK10: =COUNTIF(AV10:BJ10,"J") -> 0 | BL10: =COUNTIF(AV10:BJ10,"F") -> 0 | BM10: =COUNTIF(AV10:BJ10,"M") -> 0 | BN10: =COUNTIF(AV10:BJ10,"P") -> 0 | BO10: =COUNTIF(AV10:BJ10,"F") -> 0 | BP10: =SUM(BN10/(BN10+BO10)) -> #DIV/0! | CG10: =COUNTIF(BR10:CF10,"J") -> 0 | CH10: =COUNTIF(BR10:CF10,"F") -> 0 | CI10: =COUNTIF(BR10:CF10,"M") -> 0 | CJ10: =COUNTIF(BR10:CF10,"P") -> 0 | CK10: =COUNTIF(BR10:CF10,"F") -> 0 | CL10: =SUM(CJ10/(CJ10+CK10)) -> #DIV/0!
A11: =A10+1 -> 8 | S11: =COUNTIF(D11:R11,"J") -> 0 | T11: =COUNTIF(D11:R11,"F") -> 0 | U11: =COUNTIF(D11:R11,"M") -> 0 | V11: =COUNTIF(D11:R11,"P") -> 0 | W11: =COUNTIF(D11:R11,"F") -> 0 | X11: =SUM(V11/(V11+W11)) -> #DIV/0! | AO11: =COUNTIF(Z11:AN11,"J") -> 0 | AP11: =COUNTIF(Z11:AN11,"F") -> 0 | AQ11: =COUNTIF(Z11:AN11,"M") -> 0 | AR11: =COUNTIF(Z11:AN11,"P") -> 0 | AS11: =COUNTIF(Z11:AN11,"F") -> 0 | AT11: =SUM(AR11/(AR11+AS11)) -> #DIV/0! | BK11: =COUNTIF(AV11:BJ11,"J") -> 0 | BL11: =COUNTIF(AV11:BJ11,"F") -> 0 | BM11: =COUNTIF(AV11:BJ11,"M") -> 0 | BN11: =COUNTIF(AV11:BJ11,"P") -> 0 | BO11: =COUNTIF(AV11:BJ11,"F") -> 0 | BP11: =SUM(BN11/(BN11+BO11)) -> #DIV/0! | CG11: =COUNTIF(BR11:CF11,"J") -> 0 | CH11: =COUNTIF(BR11:CF11,"F") -> 0 | CI11: =COUNTIF(BR11:CF11,"M") -> 0 | CJ11: =COUNTIF(BR11:CF11,"P") -> 0 | CK11: =COUNTIF(BR11:CF11,"F") -> 0 | CL11: =SUM(CJ11/(CJ11+CK11)) -> #DIV/0!
A12: =A11+1 -> 9 | S12: =COUNTIF(D12:R12,"J") -> 0 | T12: =COUNTIF(D12:R12,"F") -> 0 | U12: =COUNTIF(D12:R12,"M") -> 0 | V12: =COUNTIF(D12:R12,"P") -> 0 | W12: =COUNTIF(D12:R12,"F") -> 0 | X12: =SUM(V12/(V12+W12)) -> #DIV/0! | AO12: =COUNTIF(Z12:AN12,"J") -> 0 | AP12: =COUNTIF(Z12:AN12,"F") -> 0 | AQ12: =COUNTIF(Z12:AN12,"M") -> 0 | AR12: =COUNTIF(Z12:AN12,"P") -> 0 | AS12: =COUNTIF(Z12:AN12,"F") -> 0 | AT12: =SUM(AR12/(AR12+AS12)) -> #DIV/0! | BK12: =COUNTIF(AV12:BJ12,"J") -> 0 | BL12: =COUNTIF(AV12:BJ12,"F") -> 0 | BM12: =COUNTIF(AV12:BJ12,"M") -> 0 | BN12: =COUNTIF(AV12:BJ12,"P") -> 0 | BO12: =COUNTIF(AV12:BJ12,"F") -> 0 | BP12: =SUM(BN12/(BN12+BO12)) -> #DIV/0! | CG12: =COUNTIF(BR12:CF12,"J") -> 0 | CH12: =COUNTIF(BR12:CF12,"F") -> 0 | CI12: =COUNTIF(BR12:CF12,"M") -> 0 | CJ12: =COUNTIF(BR12:CF12,"P") -> 0 | CK12: =COUNTIF(BR12:CF12,"F") -> 0 | CL12: =SUM(CJ12/(CJ12+CK12)) -> #DIV/0!
A13: =A12+1 -> 10 | S13: =COUNTIF(D13:R13,"J") -> 0 | T13: =COUNTIF(D13:R13,"F") -> 0 | U13: =COUNTIF(D13:R13,"M") -> 0 | V13: =COUNTIF(D13:R13,"P") -> 0 | W13: =COUNTIF(D13:R13,"F") -> 0 | X13: =SUM(V13/(V13+W13)) -> #DIV/0! | AO13: =COUNTIF(Z13:AN13,"J") -> 0 | AP13: =COUNTIF(Z13:AN13,"F") -> 0 | AQ13: =COUNTIF(Z13:AN13,"M") -> 0 | AR13: =COUNTIF(Z13:AN13,"P") -> 0 | AS13: =COUNTIF(Z13:AN13,"F") -> 0 | AT13: =SUM(AR13/(AR13+AS13)) -> #DIV/0! | BK13: =COUNTIF(AV13:BJ13,"J") -> 0 | BL13: =COUNTIF(AV13:BJ13,"F") -> 0 | BM13: =COUNTIF(AV13:BJ13,"M") -> 0 | BN13: =COUNTIF(AV13:BJ13,"P") -> 0 | BO13: =COUNTIF(AV13:BJ13,"F") -> 0 | BP13: =SUM(BN13/(BN13+BO13)) -> #DIV/0! | CG13: =COUNTIF(BR13:CF13,"J") -> 0 | CH13: =COUNTIF(BR13:CF13,"F") -> 0 | CI13: =COUNTIF(BR13:CF13,"M") -> 0 | CJ13: =COUNTIF(BR13:CF13,"P") -> 0 | CK13: =COUNTIF(BR13:CF13,"F") -> 0 | CL13: =SUM(CJ13/(CJ13+CK13)) -> #DIV/0!
A14: =A13+1 -> 11 | S14: =COUNTIF(D14:R14,"J") -> 0 | T14: =COUNTIF(D14:R14,"F") -> 0 | U14: =COUNTIF(D14:R14,"M") -> 0 | V14: =COUNTIF(D14:R14,"P") -> 0 | W14: =COUNTIF(D14:R14,"F") -> 0 | X14: =SUM(V14/(V14+W14)) -> #DIV/0! | AO14: =COUNTIF(Z14:AN14,"J") -> 0 | AP14: =COUNTIF(Z14:AN14,"F") -> 0 | AQ14: =COUNTIF(Z14:AN14,"M") -> 0 | AR14: =COUNTIF(Z14:AN14,"P") -> 0 | AS14: =COUNTIF(Z14:AN14,"F") -> 0 | AT14: =SUM(AR14/(AR14+AS14)) -> #DIV/0! | BK14: =COUNTIF(AV14:BJ14,"J") -> 0 | BL14: =COUNTIF(AV14:BJ14,"F") -> 0 | BM14: =COUNTIF(AV14:BJ14,"M") -> 0 | BN14: =COUNTIF(AV14:BJ14,"P") -> 0 | BO14: =COUNTIF(AV14:BJ14,"F") -> 0 | BP14: =SUM(BN14/(BN14+BO14)) -> #DIV/0! | CG14: =COUNTIF(BR14:CF14,"J") -> 0 | CH14: =COUNTIF(BR14:CF14,"F") -> 0 | CI14: =COUNTIF(BR14:CF14,"M") -> 0 | CJ14: =COUNTIF(BR14:CF14,"P") -> 0 | CK14: =COUNTIF(BR14:CF14,"F") -> 0 | CL14: =SUM(CJ14/(CJ14+CK14)) -> #DIV/0!
A15: =A14+1 -> 12 | S15: =COUNTIF(D15:R15,"J") -> 0 | T15: =COUNTIF(D15:R15,"F") -> 0 | U15: =COUNTIF(D15:R15,"M") -> 0 | V15: =COUNTIF(D15:R15,"P") -> 0 | W15: =COUNTIF(D15:R15,"F") -> 0 | X15: =SUM(V15/(V15+W15)) -> #DIV/0! | AO15: =COUNTIF(Z15:AN15,"J") -> 0 | AP15: =COUNTIF(Z15:AN15,"F") -> 0 | AQ15: =COUNTIF(Z15:AN15,"M") -> 0 | AR15: =COUNTIF(Z15:AN15,"P") -> 0 | AS15: =COUNTIF(Z15:AN15,"F") -> 0 | AT15: =SUM(AR15/(AR15+AS15)) -> #DIV/0! | BK15: =COUNTIF(AV15:BJ15,"J") -> 0 | BL15: =COUNTIF(AV15:BJ15,"F") -> 0 | BM15: =COUNTIF(AV15:BJ15,"M") -> 0 | BN15: =COUNTIF(AV15:BJ15,"P") -> 0 | BO15: =COUNTIF(AV15:BJ15,"F") -> 0 | BP15: =SUM(BN15/(BN15+BO15)) -> #DIV/0! | CG15: =COUNTIF(BR15:CF15,"J") -> 0 | CH15: =COUNTIF(BR15:CF15,"F") -> 0 | CI15: =COUNTIF(BR15:CF15,"M") -> 0 | CJ15: =COUNTIF(BR15:CF15,"P") -> 0 | CK15: =COUNTIF(BR15:CF15,"F") -> 0 | CL15: =SUM(CJ15/(CJ15+CK15)) -> #DIV/0!
A16: =A15+1 -> 13 | S16: =COUNTIF(D16:R16,"J") -> 0 | T16: =COUNTIF(D16:R16,"F") -> 0 | U16: =COUNTIF(D16:R16,"M") -> 0 | V16: =COUNTIF(D16:R16,"P") -> 0 | W16: =COUNTIF(D16:R16,"F") -> 0 | X16: =SUM(V16/(V16+W16)) -> #DIV/0! | AO16: =COUNTIF(Z16:AN16,"J") -> 0 | AP16: =COUNTIF(Z16:AN16,"F") -> 0 | AQ16: =COUNTIF(Z16:AN16,"M") -> 0 | AR16: =COUNTIF(Z16:AN16,"P") -> 0 | AS16: =COUNTIF(Z16:AN16,"F") -> 0 | AT16: =SUM(AR16/(AR16+AS16)) -> #DIV/0! | BK16: =COUNTIF(AV16:BJ16,"J") -> 0 | BL16: =COUNTIF(AV16:BJ16,"F") -> 0 | BM16: =COUNTIF(AV16:BJ16,"M") -> 0 | BN16: =COUNTIF(AV16:BJ16,"P") -> 0 | BO16: =COUNTIF(AV16:BJ16,"F") -> 0 | BP16: =SUM(BN16/(BN16+BO16)) -> #DIV/0! | CG16: =COUNTIF(BR16:CF16,"J") -> 0 | CH16: =COUNTIF(BR16:CF16,"F") -> 0 | CI16: =COUNTIF(BR16:CF16,"M") -> 0 | CJ16: =COUNTIF(BR16:CF16,"P") -> 0 | CK16: =COUNTIF(BR16:CF16,"F") -> 0 | CL16: =SUM(CJ16/(CJ16+CK16)) -> #DIV/0!
A17: =A16+1 -> 14 | S17: =COUNTIF(D17:R17,"J") -> 0 | T17: =COUNTIF(D17:R17,"F") -> 0 | U17: =COUNTIF(D17:R17,"M") -> 0 | V17: =COUNTIF(D17:R17,"P") -> 0 | W17: =COUNTIF(D17:R17,"F") -> 0 | X17: =SUM(V17/(V17+W17)) -> #DIV/0! | AO17: =COUNTIF(Z17:AN17,"J") -> 0 | AP17: =COUNTIF(Z17:AN17,"F") -> 0 | AQ17: =COUNTIF(Z17:AN17,"M") -> 0 | AR17: =COUNTIF(Z17:AN17,"P") -> 0 | AS17: =COUNTIF(Z17:AN17,"F") -> 0 | AT17: =SUM(AR17/(AR17+AS17)) -> #DIV/0! | BK17: =COUNTIF(AV17:BJ17,"J") -> 0 | BL17: =COUNTIF(AV17:BJ17,"F") -> 0 | BM17: =COUNTIF(AV17:BJ17,"M") -> 0 | BN17: =COUNTIF(AV17:BJ17,"P") -> 0 | BO17: =COUNTIF(AV17:BJ17,"F") -> 0 | BP17: =SUM(BN17/(BN17+BO17)) -> #DIV/0! | CG17: =COUNTIF(BR17:CF17,"J") -> 0 | CH17: =COUNTIF(BR17:CF17,"F") -> 0 | CI17: =COUNTIF(BR17:CF17,"M") -> 0 | CJ17: =COUNTIF(BR17:CF17,"P") -> 0 | CK17: =COUNTIF(BR17:CF17,"F") -> 0 | CL17: =SUM(CJ17/(CJ17+CK17)) -> #DIV/0!
A18: =A17+1 -> 15 | S18: =COUNTIF(D18:R18,"J") -> 0 | T18: =COUNTIF(D18:R18,"F") -> 0 | U18: =COUNTIF(D18:R18,"M") -> 0 | V18: =COUNTIF(D18:R18,"P") -> 0 | W18: =COUNTIF(D18:R18,"F") -> 0 | X18: =SUM(V18/(V18+W18)) -> #DIV/0! | AO18: =COUNTIF(Z18:AN18,"J") -> 0 | AP18: =COUNTIF(Z18:AN18,"F") -> 0 | AQ18: =COUNTIF(Z18:AN18,"M") -> 0 | AR18: =COUNTIF(Z18:AN18,"P") -> 0 | AS18: =COUNTIF(Z18:AN18,"F") -> 0 | AT18: =SUM(AR18/(AR18+AS18)) -> #DIV/0! | BK18: =COUNTIF(AV18:BJ18,"J") -> 0 | BL18: =COUNTIF(AV18:BJ18,"F") -> 0 | BM18: =COUNTIF(AV18:BJ18,"M") -> 0 | BN18: =COUNTIF(AV18:BJ18,"P") -> 0 | BO18: =COUNTIF(AV18:BJ18,"F") -> 0 | BP18: =SUM(BN18/(BN18+BO18)) -> #DIV/0! | CG18: =COUNTIF(BR18:CF18,"J") -> 0 | CH18: =COUNTIF(BR18:CF18,"F") -> 0 | CI18: =COUNTIF(BR18:CF18,"M") -> 0 | CJ18: =COUNTIF(BR18:CF18,"P") -> 0 | CK18: =COUNTIF(BR18:CF18,"F") -> 0 | CL18: =SUM(CJ18/(CJ18+CK18)) -> #DIV/0!
A19: =A18+1 -> 16 | S19: =COUNTIF(D19:R19,"J") -> 0 | T19: =COUNTIF(D19:R19,"F") -> 0 | U19: =COUNTIF(D19:R19,"M") -> 0 | V19: =COUNTIF(D19:R19,"P") -> 0 | W19: =COUNTIF(D19:R19,"F") -> 0 | X19: =SUM(V19/(V19+W19)) -> #DIV/0! | AO19: =COUNTIF(Z19:AN19,"J") -> 0 | AP19: =COUNTIF(Z19:AN19,"F") -> 0 | AQ19: =COUNTIF(Z19:AN19,"M") -> 0 | AR19: =COUNTIF(Z19:AN19,"P") -> 0 | AS19: =COUNTIF(Z19:AN19,"F") -> 0 | AT19: =SUM(AR19/(AR19+AS19)) -> #DIV/0! | BK19: =COUNTIF(AV19:BJ19,"J") -> 0 | BL19: =COUNTIF(AV19:BJ19,"F") -> 0 | BM19: =COUNTIF(AV19:BJ19,"M") -> 0 | BN19: =COUNTIF(AV19:BJ19,"P") -> 0 | BO19: =COUNTIF(AV19:BJ19,"F") -> 0 | BP19: =SUM(BN19/(BN19+BO19)) -> #DIV/0! | CG19: =COUNTIF(BR19:CF19,"J") -> 0 | CH19: =COUNTIF(BR19:CF19,"F") -> 0 | CI19: =COUNTIF(BR19:CF19,"M") -> 0 | CJ19: =COUNTIF(BR19:CF19,"P") -> 0 | CK19: =COUNTIF(BR19:CF19,"F") -> 0 | CL19: =SUM(CJ19/(CJ19+CK19)) -> #DIV/0!
A20: =A19+1 -> 17 | S20: =COUNTIF(D20:R20,"J") -> 0 | T20: =COUNTIF(D20:R20,"F") -> 0 | U20: =COUNTIF(D20:R20,"M") -> 0 | V20: =COUNTIF(D20:R20,"P") -> 0 | W20: =COUNTIF(D20:R20,"F") -> 0 | X20: =SUM(V20/(V20+W20)) -> #DIV/0! | AO20: =COUNTIF(Z20:AN20,"J") -> 0 | AP20: =COUNTIF(Z20:AN20,"F") -> 0 | AQ20: =COUNTIF(Z20:AN20,"M") -> 0 | AR20: =COUNTIF(Z20:AN20,"P") -> 0 | AS20: =COUNTIF(Z20:AN20,"F") -> 0 | AT20: =SUM(AR20/(AR20+AS20)) -> #DIV/0! | BK20: =COUNTIF(AV20:BJ20,"J") -> 0 | BL20: =COUNTIF(AV20:BJ20,"F") -> 0 | BM20: =COUNTIF(AV20:BJ20,"M") -> 0 | BN20: =COUNTIF(AV20:BJ20,"P") -> 0 | BO20: =COUNTIF(AV20:BJ20,"F") -> 0 | BP20: =SUM(BN20/(BN20+BO20)) -> #DIV/0! | CG20: =COUNTIF(BR20:CF20,"J") -> 0 | CH20: =COUNTIF(BR20:CF20,"F") -> 0 | CI20: =COUNTIF(BR20:CF20,"M") -> 0 | CJ20: =COUNTIF(BR20:CF20,"P") -> 0 | CK20: =COUNTIF(BR20:CF20,"F") -> 0 | CL20: =SUM(CJ20/(CJ20+CK20)) -> #DIV/0!
... A63: =A62+1 -> 60 | S63: =COUNTIF(D63:R63,"J") -> 0 | T63: =COUNTIF(D63:R63,"F") -> 0 | U63: =COUNTIF(D63:R63,"M") -> 0 | V63: =COUNTIF(D63:R63,"P") -> 0 | W63: =COUNTIF(D63:R63,"F") -> 0 | X63: =SUM(V63/(V63+W63)) -> #DIV/0! | AO63: =COUNTIF(Z63:AN63,"J") -> 0 | AP63: =COUNTIF(Z63:AN63,"F") -> 0 | AQ63: =COUNTIF(Z63:AN63,"M") -> 0 | AR63: =COUNTIF(Z63:AN63,"P") -> 0 | AS63: =COUNTIF(Z63:AN63,"F") -> 0 | AT63: =SUM(AR63/(AR63+AS63)) -> #DIV/0! | BK63: =COUNTIF(AV63:BJ63,"J") -> 0 | BL63: =COUNTIF(AV63:BJ63,"F") -> 0 | BM63: =COUNTIF(AV63:BJ63,"M") -> 0 | BN63: =COUNTIF(AV63:BJ63,"P") -> 0 | BO63: =COUNTIF(AV63:BJ63,"F") -> 0 | BP63: =SUM(BN63/(BN63+BO63)) -> #DIV/0! | CG63: =COUNTIF(BR63:CF63,"J") -> 0 | CH63: =COUNTIF(BR63:CF63,"F") -> 0 | CI63: =COUNTIF(BR63:CF63,"M") -> 0 | CJ63: =COUNTIF(BR63:CF63,"P") -> 0 | CK63: =COUNTIF(BR63:CF63,"F") -> 0 | CL63: =SUM(CJ63/(CJ63+CK63)) -> #DIV/0!
C64: Alunos matriculados | D64: =COUNTA(D4:D63) -> 5 | E64: =COUNTA(E4:E63) -> 5 | F64: =COUNTA(F4:F63) -> 5 | G64: =COUNTA(G4:G63) -> 5 | H64: =COUNTA(H4:H63) -> 5 | I64: =COUNTA(I4:I63) -> 5 | J64: =COUNTA(J4:J63) -> 5 | K64: =COUNTA(K4:K63) -> 5 | ... R64: =COUNTA(R4:R63) -> 5 | Z64: =COUNTA(Z4:Z63) -> 5 | AA64: =COUNTA(AA4:AA63) -> 5 | AB64: =COUNTA(AB4:AB63) -> 5 | AC64: =COUNTA(AC4:AC63) -> 5 | AD64: =COUNTA(AD4:AD63) -> 5 | AE64: =COUNTA(AE4:AE63) -> 5 | AF64: =COUNTA(AF4:AF63) -> 5 | AG64: =COUNTA(AG4:AG63) -> 5 | ... AN64: =COUNTA(AN4:AN63) -> 5 | AV64: =COUNTA(AV4:AV63) -> 5 | AW64: =COUNTA(AW4:AW63) -> 5 | AX64: =COUNTA(AX4:AX63) -> 5 | AY64: =COUNTA(AY4:AY63) -> 5 | AZ64: =COUNTA(AZ4:AZ63) -> 5 | BA64: =COUNTA(BA4:BA63) -> 5 | BB64: =COUNTA(BB4:BB63) -> 5 | BC64: =COUNTA(BC4:BC63) -> 5 | ... BJ64: =COUNTA(BJ4:BJ63) -> 5 | BR64: =COUNTA(BR4:BR63) -> 5 | BS64: =COUNTA(BS4:BS63) -> 5 | BT64: =COUNTA(BT4:BT63) -> 5 | BU64: =COUNTA(BU4:BU63) -> 5 | BV64: =COUNTA(BV4:BV63) -> 5 | BW64: =COUNTA(BW4:BW63) -> 5 | BX64: =COUNTA(BX4:BX63) -> 5 | BY64: =COUNTA(BY4:BY63) -> 5 | ... CF64: =COUNTA(CF4:CF63) -> 5
C65: Ausentes | D65: =COUNTIF(D4:D63,"F") -> 0 | E65: =COUNTIF(E4:E63,"F") -> 2 | F65: =COUNTIF(F4:F63,"F") -> 4 | G65: =COUNTIF(G4:G63,"F") -> 4 | H65: =COUNTIF(H4:H63,"F") -> 2 | I65: =COUNTIF(I4:I63,"F") -> 1 | J65: =COUNTIF(J4:J63,"F") -> 1 | K65: =COUNTIF(K4:K63,"F") -> 1 | ... R65: =COUNTIF(R4:R63,"F") -> 2 | Z65: =COUNTIF(Z4:Z63,"F") -> 0 | AA65: =COUNTIF(AA4:AA63,"F") -> 2 | AB65: =COUNTIF(AB4:AB63,"F") -> 3 | AC65: =COUNTIF(AC4:AC63,"F") -> 3 | AD65: =COUNTIF(AD4:AD63,"F") -> 3 | AE65: =COUNTIF(AE4:AE63,"F") -> 1 | AF65: =COUNTIF(AF4:AF63,"F") -> 1 | AG65: =COUNTIF(AG4:AG63,"F") -> 1 | ... AN65: =COUNTIF(AN4:AN63,"F") -> 1 | AV65: =COUNTIF(AV4:AV63,"F") -> 0 | AW65: =COUNTIF(AW4:AW63,"F") -> 2 | AX65: =COUNTIF(AX4:AX63,"F") -> 3 | AY65: =COUNTIF(AY4:AY63,"F") -> 3 | AZ65: =COUNTIF(AZ4:AZ63,"F") -> 3 | BA65: =COUNTIF(BA4:BA63,"F") -> 1 | BB65: =COUNTIF(BB4:BB63,"F") -> 1 | BC65: =COUNTIF(BC4:BC63,"F") -> 1 | ... BJ65: =COUNTIF(BJ4:BJ63,"F") -> 3 | BR65: =COUNTIF(BR4:BR63,"F") -> 0 | BS65: =COUNTIF(BS4:BS63,"F") -> 2 | BT65: =COUNTIF(BT4:BT63,"F") -> 3 | BU65: =COUNTIF(BU4:BU63,"F") -> 3 | BV65: =COUNTIF(BV4:BV63,"F") -> 3 | BW65: =COUNTIF(BW4:BW63,"F") -> 1 | BX65: =COUNTIF(BX4:BX63,"F") -> 1 | BY65: =COUNTIF(BY4:BY63,"F") -> 1 | ... CF65: =COUNTIF(CF4:CF63,"F") -> 3
C66: Presentes | D66: =COUNTIF(D4:D63,"P") -> 5 | E66: =COUNTIF(E4:E63,"P") -> 2 | F66: =COUNTIF(F4:F63,"P") -> 1 | G66: =COUNTIF(G4:G63,"P") -> 1 | H66: =COUNTIF(H4:H63,"P") -> 3 | I66: =COUNTIF(I4:I63,"P") -> 4 | J66: =COUNTIF(J4:J63,"P") -> 4 | K66: =COUNTIF(K4:K63,"P") -> 4 | ... R66: =COUNTIF(R4:R63,"P") -> 3 | Z66: =COUNTIF(Z4:Z63,"P") -> 5 | AA66: =COUNTIF(AA4:AA63,"P") -> 3 | AB66: =COUNTIF(AB4:AB63,"P") -> 2 | AC66: =COUNTIF(AC4:AC63,"P") -> 2 | AD66: =COUNTIF(AD4:AD63,"P") -> 2 | AE66: =COUNTIF(AE4:AE63,"P") -> 4 | AF66: =COUNTIF(AF4:AF63,"P") -> 4 | AG66: =COUNTIF(AG4:AG63,"P") -> 4 | ... AN66: =COUNTIF(AN4:AN63,"P") -> 4 | AV66: =COUNTIF(AV4:AV63,"P") -> 5 | AW66: =COUNTIF(AW4:AW63,"P") -> 3 | AX66: =COUNTIF(AX4:AX63,"P") -> 2 | AY66: =COUNTIF(AY4:AY63,"P") -> 2 | AZ66: =COUNTIF(AZ4:AZ63,"P") -> 2 | BA66: =COUNTIF(BA4:BA63,"P") -> 4 | BB66: =COUNTIF(BB4:BB63,"P") -> 4 | BC66: =COUNTIF(BC4:BC63,"P") -> 4 | ... BJ66: =COUNTIF(BJ4:BJ63,"P") -> 2 | BR66: =COUNTIF(BR4:BR63,"P") -> 5 | BS66: =COUNTIF(BS4:BS63,"P") -> 3 | BT66: =COUNTIF(BT4:BT63,"P") -> 2 | BU66: =COUNTIF(BU4:BU63,"P") -> 2 | BV66: =COUNTIF(BV4:BV63,"P") -> 2 | BW66: =COUNTIF(BW4:BW63,"P") -> 4 | BX66: =COUNTIF(BX4:BX63,"P") -> 4 | BY66: =COUNTIF(BY4:BY63,"P") -> 4 | ... CF66: =COUNTIF(CF4:CF63,"P") -> 2
C67: Visitantes | D67: 8 | E67: 6 | F67: 6 | G67: 0 | H67: 6 | I67: 5 | Z67: 8 | AA67: 6 | AB67: 6 | AC67: 0 | AD67: 6 | AE67: 5 | AV67: 8 | AW67: 6 | AX67: 6 | AY67: 0 | AZ67: 6 | BA67: 5 | BR67: 8 | BS67: 6 | BT67: 6 | BU67: 0 | BV67: 6 | BW67: 5
C68: Total de Assistencia | D68: =D66+D67 -> 13 | E68: =E66+E67 -> 8 | F68: =F66+F67 -> 7 | G68: =G66+G67 -> 1 | H68: =H66+H67 -> 9 | I68: =I66+I67 -> 9 | J68: =J66+J67 -> 4 | K68: =K66+K67 -> 4 | ... R68: =R66+R67 -> 3 | Z68: =Z66+Z67 -> 13 | AA68: =AA66+AA67 -> 9 | AB68: =AB66+AB67 -> 8 | AC68: =AC66+AC67 -> 2 | AD68: =AD66+AD67 -> 8 | AE68: =AE66+AE67 -> 9 | AF68: =AF66+AF67 -> 4 | AG68: =AG66+AG67 -> 4 | ... AN68: =AN66+AN67 -> 4 | AV68: =AV66+AV67 -> 13 | AW68: =AW66+AW67 -> 9 | AX68: =AX66+AX67 -> 8 | AY68: =AY66+AY67 -> 2 | AZ68: =AZ66+AZ67 -> 8 | BA68: =BA66+BA67 -> 9 | BB68: =BB66+BB67 -> 4 | BC68: =BC66+BC67 -> 4 | ... BJ68: =BJ66+BJ67 -> 2 | BR68: =BR66+BR67 -> 13 | BS68: =BS66+BS67 -> 9 | BT68: =BT66+BT67 -> 8 | BU68: =BU66+BU67 -> 2 | BV68: =BV66+BV67 -> 8 | BW68: =BW66+BW67 -> 9 | BX68: =BX66+BX67 -> 4 | BY68: =BY66+BY67 -> 4 | ... CF68: =CF66+CF67 -> 2
C69: Bíblias | D69: 30 | E69: 27 | F69: 27 | G69: 0 | H69: 26 | I69: 39 | Z69: 30 | AA69: 27 | AB69: 27 | AC69: 0 | AD69: 26 | AE69: 39 | AV69: 30 | AW69: 27 | AX69: 27 | AY69: 0 | AZ69: 26 | BA69: 39 | BR69: 30 | BS69: 27 | BT69: 27 | BU69: 0 | BV69: 26 | BW69: 39
C70: Revistas | D70: 30 | E70: 25 | F70: 27 | G70: 0 | H70: 20 | I70: 30 | Z70: 30 | AA70: 25 | AB70: 27 | AC70: 0 | AD70: 20 | AE70: 30 | AV70: 30 | AW70: 25 | AX70: 27 | AY70: 0 | AZ70: 20 | BA70: 30 | BR70: 30 | BS70: 25 | BT70: 27 | BU70: 0 | BV70: 20 | BW70: 30
C71: Oferta | D71: 0 | E71: 0 | F71: 0 | G71: 0 | H71: 0 | I71: 0 | Z71: 0 | AA71: 0 | AB71: 0 | AC71: 0 | AD71: 0 | AE71: 0 | AV71: 0 | AW71: 0 | AX71: 0 | AY71: 0 | AZ71: 0 | BA71: 0 | BR71: 0 | BS71: 0 | BT71: 0 | BU71: 0 | BV71: 0 | BW71: 0
C74: MÉDIA GERAL DE ASSISTENCIA | D74: =D79 -> 0.48 | I74: =I79 -> 0.72 | N74: =N79 -> 0.76 | Z74: =Z79 -> 0.56 | AE74: =AE79 -> 0.8 | AJ74: =AJ79 -> 0.8 | AV74: =AV79 -> 0.56 | BA74: =BA79 -> 0.72 | BF74: =BF79 -> 0.72 | BR74: =BR79 -> 0.56 | BW74: =BW79 -> 0.72 | CB74: =CB79 -> 0.72
C77: Matriculados | D77: =SUM(D64:H64) -> 25 | I77: =SUM(I64:M64) -> 25 | N77: =SUM(N64:R64) -> 25 | Z77: =SUM(Z64:AD64) -> 25 | AE77: =SUM(AE64:AI64) -> 25 | AJ77: =SUM(AJ64:AN64) -> 25 | AV77: =SUM(AV64:AZ64) -> 25 | BA77: =SUM(BA64:BE64) -> 25 | BF77: =SUM(BF64:BJ64) -> 25 | BR77: =SUM(BR64:BV64) -> 25 | BW77: =SUM(BW64:CA64) -> 25 | CB77: =SUM(CB64:CF64) -> 25
C78: Presenças | D78: =SUM(D66:H66) -> 12 | I78: =SUM(I66:M66) -> 18 | N78: =SUM(N66:R66) -> 19 | Z78: =SUM(Z66:AD66) -> 14 | AE78: =SUM(AE66:AI66) -> 20 | AJ78: =SUM(AJ66:AN66) -> 20 | AV78: =SUM(AV66:AZ66) -> 14 | BA78: =SUM(BA66:BE66) -> 18 | BF78: =SUM(BF66:BJ66) -> 18 | BR78: =SUM(BR66:BV66) -> 14 | BW78: =SUM(BW66:CA66) -> 18 | CB78: =SUM(CB66:CF66) -> 18
C79: Percetual de pres. | D79: =D78/D77 -> 0.48 | I79: =I78/I77 -> 0.72 | N79: =N78/N77 -> 0.76 | Z79: =Z78/Z77 -> 0.56 | AE79: =AE78/AE77 -> 0.8 | AJ79: =AJ78/AJ77 -> 0.8 | AV79: =AV78/AV77 -> 0.56 | BA79: =BA78/BA77 -> 0.72 | BF79: =BF78/BF77 -> 0.72 | BR79: =BR78/BR77 -> 0.56 | BW79: =BW78/BW77 -> 0.72 | CB79: =CB78/CB77 -> 0.72

Sheet CLASSE 2
A1: NOME DA CLASSE: | C1: CLASSE 2 | Z1: =$C$1 -> CLASSE 2 | AV1: =$C$1 -> CLASSE 2 | BR1: =$C$1 -> CLASSE 2
A2: Nº | B2: ALUNO | C2: OBSERVAÇÕES | D2: JANEIRO | I2: FEVEREIRO | N2: MARÇO | S2: Frequencia do Trimestre | Z2: ABRIL | AE2: MAIO | AJ2: JUNHO | AO2: Frequencia do Trimestre | AV2: JULHO | BA2: AGOSTO | BF2: SETEMBRO | BK2: Frequencia do Trimestre | BR2: OUTUBRO | BW2: NOVEMBRO | CB2: DEZEMBRO | CG2: Frequencia do Trimestre
D3: 1º | E3: 2º | F3: 3º | G3: 4º | H3: 5º | I3: 1º | J3: 2º | K3: 3º | L3: 4º | M3: 5º | N3: 1º | O3: 2º | P3: 3º | Q3: 4º | R3: 5º | S3: J | T3: F | U3: M | V3: P | W3: F | X3: Frequencia % | Z3: 1º | AA3: 2º | AB3: 3º | AC3: 4º | AD3: 5º | AE3: 1º | AF3: 2º | AG3: 3º | AH3: 4º | AI3: 5º | AJ3: 1º | AK3: 2º | AL3: 3º | AM3: 4º | AN3: 5º | AO3: J | AP3: F | AQ3: M | AR3: P | AS3: F | AT3: Frequencia % | AV3: 1º | AW3: 2º | AX3: 3º | AY3: 4º | AZ3: 5º | BA3: 1º | BB3: 2º | BC3: 3º | BD3: 4º | BE3: 5º | BF3: 1º | BG3: 2º | BH3: 3º | BI3: 4º | BJ3: 5º | BK3: J | BL3: F | BM3: M | BN3: P | BO3: F | BP3: Frequencia % | BR3: 1º | BS3: 2º | BT3: 3º | BU3: 4º | BV3: 5º | BW3: 1º | BX3: 2º | BY3: 3º | BZ3: 4º | CA3: 5º | CB3: 1º | CC3: 2º | CD3: 3º | CE3: 4º | CF3: 5º | CG3: J | CH3: F | CI3: M | CJ3: P | CK3: F | CL3: Frequencia %
A4: 1 | B4: ALUNO 1 | D4: P | E4: J | F4: F | G4: F | H4: P | I4: P | J4: P | K4: P | L4: F | M4: P | N4: P | O4: P | P4: P | Q4: P | R4: P | S4: =COUNTIF(D4:R4,"J") -> 1 | T4: =COUNTIF(D4:R4,"F") -> 3 | U4: =COUNTIF(D4:R4,"M") -> 0 | V4: =COUNTIF(D4:R4,"P") -> 11 | W4: =COUNTIF(D4:R4,"F") -> 3 | X4: =SUM(V4/(V4+W4)) -> 0.78571429 | Z4: P | AA4: P | AB4: P | AC4: P | AD4: F | AE4: P | AF4: P | AG4: P | AH4: P | AI4: P | AJ4: P | AK4: P | AL4: P | AM4: P | AN4: P | AO4: =COUNTIF(Z4:AN4,"J") -> 0 | AP4: =COUNTIF(Z4:AN4,"F") -> 1 | AQ4: =COUNTIF(Z4:AN4,"M") -> 0 | AR4: =COUNTIF(Z4:AN4,"P") -> 14 | AS4: =COUNTIF(Z4:AN4,"F") -> 1 | AT4: =SUM(AR4/(AR4+AS4)) -> 0.93333333 | AV4: P | AW4: P | AX4: P | AY4: P | AZ4: F | BA4: P | BB4: P | BC4: P | BD4: P | BE4: F | BF4: P | BG4: P | BH4: P | BI4: P | BJ4: F | BK4: =COUNTIF(AV4:BJ4,"J") -> 0 | BL4: =COUNTIF(AV4:BJ4,"F") -> 3 | BM4: =COUNTIF(AV4:BJ4,"M") -> 0 | BN4: =COUNTIF(AV4:BJ4,"P") -> 12 | BO4: =COUNTIF(AV4:BJ4,"F") -> 3 | BP4: =SUM(BN4/(BN4+BO4)) -> 0.8 | BR4: P | BS4: P | BT4: P | BU4: P | BV4: F | BW4: P | BX4: P | BY4: P | BZ4: P | CA4: F | CB4: P | CC4: P | CD4: P | CE4: P | CF4: F | CG4: =COUNTIF(BR4:CF4,"J") -> 0 | CH4: =COUNTIF(BR4:CF4,"F") -> 3 | CI4: =COUNTIF(BR4:CF4,"M") -> 0 | CJ4: =COUNTIF(BR4:CF4,"P") -> 12 | CK4: =COUNTIF(BR4:CF4,"F") -> 3 | CL4: =SUM(CJ4/(CJ4+CK4)) -> 0.8
A5: =A4+1 -> 2 | B5: ALUNO 2 | D5: P | E5: P | F5: F | G5: F | H5: F | I5: F | J5: F | K5: F | L5: F | M5: F | N5: F | O5: F | P5: F | Q5: F | R5: F | S5: =COUNTIF(D5:R5,"J") -> 0 | T5: =COUNTIF(D5:R5,"F") -> 13 | U5: =COUNTIF(D5:R5,"M") -> 0 | V5: =COUNTIF(D5:R5,"P") -> 2 | W5: =COUNTIF(D5:R5,"F") -> 13 | X5: =SUM(V5/(V5+W5)) -> 0.13333333 | Z5: P | AA5: P | AB5: F | AC5: F | AD5: F | AE5: F | AF5: F | AG5: F | AH5: F | AI5: F | AJ5: F | AK5: F | AL5: F | AM5: F | AN5: F | AO5: =COUNTIF(Z5:AN5,"J") -> 0 | AP5: =COUNTIF(Z5:AN5,"F") -> 13 | AQ5: =COUNTIF(Z5:AN5,"M") -> 0 | AR5: =COUNTIF(Z5:AN5,"P") -> 2 | AS5: =COUNTIF(Z5:AN5,"F") -> 13 | AT5: =SUM(AR5/(AR5+AS5)) -> 0.13333333 | AV5: P | AW5: P | AX5: F | AY5: F | AZ5: F | BA5: F | BB5: F | BC5: F | BD5: F | BE5: F | BF5: F | BG5: F | BH5: F | BI5: F | BJ5: F | BK5: =COUNTIF(AV5:BJ5,"J") -> 0 | BL5: =COUNTIF(AV5:BJ5,"F") -> 13 | BM5: =COUNTIF(AV5:BJ5,"M") -> 0 | BN5: =COUNTIF(AV5:BJ5,"P") -> 2 | BO5: =COUNTIF(AV5:BJ5,"F") -> 13 | BP5: =SUM(BN5/(BN5+BO5)) -> 0.13333333 | BR5: P | BS5: P | BT5: F | BU5: F | BV5: F | BW5: F | BX5: F | BY5: F | BZ5: F | CA5: F | CB5: F | CC5: F | CD5: F | CE5: F | CF5: F | CG5: =COUNTIF(BR5:CF5,"J") -> 0 | CH5: =COUNTIF(BR5:CF5,"F") -> 13 | CI5: =COUNTIF(BR5:CF5,"M") -> 0 | CJ5: =COUNTIF(BR5:CF5,"P") -> 2 | CK5: =COUNTIF(BR5:CF5,"F") -> 13 | CL5: =SUM(CJ5/(CJ5+CK5)) -> 0.13333333
A6: =A5+1 -> 3 | B6: ALUNO 3 | D6: P | E6: P | F6: F | G6: F | H6: P | I6: P | J6: P | K6: P | L6: P | M6: P | N6: P | O6: P | P6: P | Q6: P | R6: P | S6: =COUNTIF(D6:R6,"J") -> 0 | T6: =COUNTIF(D6:R6,"F") -> 2 | U6: =COUNTIF(D6:R6,"M") -> 0 | V6: =COUNTIF(D6:R6,"P") -> 13 | W6: =COUNTIF(D6:R6,"F") -> 2 | X6: =SUM(V6/(V6+W6)) -> 0.86666667 | Z6: P | AA6: P | AB6: F | AC6: F | AD6: P | AE6: P | AF6: P | AG6: P | AH6: P | AI6: P | AJ6: P | AK6: P | AL6: P | AM6: P | AN6: P | AO6: =COUNTIF(Z6:AN6,"J") -> 0 | AP6: =COUNTIF(Z6:AN6,"F") -> 2 | AQ6: =COUNTIF(Z6:AN6,"M") -> 0 | AR6: =COUNTIF(Z6:AN6,"P") -> 13 | AS6: =COUNTIF(Z6:AN6,"F") -> 2 | AT6: =SUM(AR6/(AR6+AS6)) -> 0.86666667 | AV6: P | AW6: P | AX6: F | AY6: F | AZ6: P | BA6: P | BB6: P | BC6: P | BD6: P | BE6: P | BF6: P | BG6: P | BH6: P | BI6: P | BJ6: P | BK6: =COUNTIF(AV6:BJ6,"J") -> 0 | BL6: =COUNTIF(AV6:BJ6,"F") -> 2 | BM6: =COUNTIF(AV6:BJ6,"M") -> 0 | BN6: =COUNTIF(AV6:BJ6,"P") -> 13 | BO6: =COUNTIF(AV6:BJ6,"F") -> 2 | BP6: =SUM(BN6/(BN6+BO6)) -> 0.86666667 | BR6: P | BS6: P | BT6: F | BU6: F | BV6: P | BW6: P | BX6: P | BY6: P | BZ6: P | CA6: P | CB6: P | CC6: P | CD6: P | CE6: P | CF6: P | CG6: =COUNTIF(BR6:CF6,"J") -> 0 | CH6: =COUNTIF(BR6:CF6,"F") -> 2 | CI6: =COUNTIF(BR6:CF6,"M") -> 0 | CJ6: =COUNTIF(BR6:CF6,"P") -> 13 | CK6: =COUNTIF(BR6:CF6,"F") -> 2 | CL6: =SUM(CJ6/(CJ6+CK6)) -> 0.86666667
A7: =A6+1 -> 4 | B7: ALUNO 4 | D7: P | E7: F | F7: F | G7: F | H7: F | I7: P | J7: P | K7: P | L7: P | M7: F | N7: P | O7: P | P7: P | Q7: P | R7: F | S7: =COUNTIF(D7:R7,"J") -> 0 | T7: =COUNTIF(D7:R7,"F") -> 6 | U7: =COUNTIF(D7:R7,"M") -> 0 | V7: =COUNTIF(D7:R7,"P") -> 9 | W7: =COUNTIF(D7:R7,"F") -> 6 | X7: =SUM(V7/(V7+W7)) -> 0.6 | Z7: P | AA7: F | AB7: F | AC7: F | AD7: F | AE7: P | AF7: P | AG7: P | AH7: P | AI7: P | AJ7: P | AK7: P | AL7: P | AM7: P | AN7: P | AO7: =COUNTIF(Z7:AN7,"J") -> 0 | AP7: =COUNTIF(Z7:AN7,"F") -> 4 | AQ7: =COUNTIF(Z7:AN7,"M") -> 0 | AR7: =COUNTIF(Z7:AN7,"P") -> 11 | AS7: =COUNTIF(Z7:AN7,"F") -> 4 | AT7: =SUM(AR7/(AR7+AS7)) -> 0.73333333 | AV7: P | AW7: F | AX7: F | AY7: F | AZ7: F | BA7: P | BB7: P | BC7: P | BD7: P | BE7: F | BF7: P | BG7: P | BH7: P | BI7: P | BJ7: F | BK7: =COUNTIF(AV7:BJ7,"J") -> 0 | BL7: =COUNTIF(AV7:BJ7,"F") -> 6 | BM7: =COUNTIF(AV7:BJ7,"M") -> 0 | BN7: =COUNTIF(AV7:BJ7,"P") -> 9 | BO7: =COUNTIF(AV7:BJ7,"F") -> 6 | BP7: =SUM(BN7/(BN7+BO7)) -> 0.6 | BR7: P | BS7: F | BT7: F | BU7: F | BV7: F | BW7: P | BX7: P | BY7: P | BZ7: P | CA7: F | CB7: P | CC7: P | CD7: P | CE7: P | CF7: F | CG7: =COUNTIF(BR7:CF7,"J") -> 0 | CH7: =COUNTIF(BR7:CF7,"F") -> 6 | CI7: =COUNTIF(BR7:CF7,"M") -> 0 | CJ7: =COUNTIF(BR7:CF7,"P") -> 9 | CK7: =COUNTIF(BR7:CF7,"F") -> 6 | CL7: =SUM(CJ7/(CJ7+CK7)) -> 0.6
A8: =A7+1 -> 5 | B8: ALUNO 5 | D8: P | E8: F | F8: P | G8: P | H8: P | I8: P | J8: P | K8: P | L8: P | M8: P | N8: P | O8: P | P8: P | Q8: P | R8: P | S8: =COUNTIF(D8:R8,"J") -> 0 | T8: =COUNTIF(D8:R8,"F") -> 1 | U8: =COUNTIF(D8:R8,"M") -> 0 | V8: =COUNTIF(D8:R8,"P") -> 14 | W8: =COUNTIF(D8:R8,"F") -> 1 | X8: =SUM(V8/(V8+W8)) -> 0.93333333 | Z8: P | AA8: F | AB8: P | AC8: P | AD8: P | AE8: P | AF8: P | AG8: P | AH8: P | AI8: P | AJ8: P | AK8: P | AL8: P | AM8: P | AN8: P | AO8: =COUNTIF(Z8:AN8,"J") -> 0 | AP8: =COUNTIF(Z8:AN8,"F") -> 1 | AQ8: =COUNTIF(Z8:AN8,"M") -> 0 | AR8: =COUNTIF(Z8:AN8,"P") -> 14 | AS8: =COUNTIF(Z8:AN8,"F") -> 1 | AT8: =SUM(AR8/(AR8+AS8)) -> 0.93333333 | AV8: P | AW8: F | AX8: P | AY8: P | AZ8: P | BA8: P | BB8: P | BC8: P | BD8: P | BE8: P | BF8: P | BG8: P | BH8: P | BI8: P | BJ8: P | BK8: =COUNTIF(AV8:BJ8,"J") -> 0 | BL8: =COUNTIF(AV8:BJ8,"F") -> 1 | BM8: =COUNTIF(AV8:BJ8,"M") -> 0 | BN8: =COUNTIF(AV8:BJ8,"P") -> 14 | BO8: =COUNTIF(AV8:BJ8,"F") -> 1 | BP8: =SUM(BN8/(BN8+BO8)) -> 0.93333333 | BR8: P | BS8: F | BT8: P | BU8: P | BV8: P | BW8: P | BX8: P | BY8: P | BZ8: P | CA8: P | CB8: P | CC8: P | CD8: P | CE8: P | CF8: P | CG8: =COUNTIF(BR8:CF8,"J") -> 0 | CH8: =COUNTIF(BR8:CF8,"F") -> 1 | CI8: =COUNTIF(BR8:CF8,"M") -> 0 | CJ8: =COUNTIF(BR8:CF8,"P") -> 14 | CK8: =COUNTIF(BR8:CF8,"F") -> 1 | CL8: =SUM(CJ8/(CJ8+CK8)) -> 0.93333333
A9: =A8+1 -> 6 | S9: =COUNTIF(D9:R9,"J") -> 0 | T9: =COUNTIF(D9:R9,"F") -> 0 | U9: =COUNTIF(D9:R9,"M") -> 0 | V9: =COUNTIF(D9:R9,"P") -> 0 | W9: =COUNTIF(D9:R9,"F") -> 0 | X9: =SUM(V9/(V9+W9)) -> #DIV/0! | AO9: =COUNTIF(Z9:AN9,"J") -> 0 | AP9: =COUNTIF(Z9:AN9,"F") -> 0 | AQ9: =COUNTIF(Z9:AN9,"M") -> 0 | AR9: =COUNTIF(Z9:AN9,"P") -> 0 | AS9: =COUNTIF(Z9:AN9,"F") -> 0 | AT9: =SUM(AR9/(AR9+AS9)) -> #DIV/0! | BK9: =COUNTIF(AV9:BJ9,"J") -> 0 | BL9: =COUNTIF(AV9:BJ9,"F") -> 0 | BM9: =COUNTIF(AV9:BJ9,"M") -> 0 | BN9: =COUNTIF(AV9:BJ9,"P") -> 0 | BO9: =COUNTIF(AV9:BJ9,"F") -> 0 | BP9: =SUM(BN9/(BN9+BO9)) -> #DIV/0! | CG9: =COUNTIF(BR9:CF9,"J") -> 0 | CH9: =COUNTIF(BR9:CF9,"F") -> 0 | CI9: =COUNTIF(BR9:CF9,"M") -> 0 | CJ9: =COUNTIF(BR9:CF9,"P") -> 0 | CK9: =COUNTIF(BR9:CF9,"F") -> 0 | CL9: =SUM(CJ9/(CJ9+CK9)) -> #DIV/0!
A10: =A9+1 -> 7 | S10: =COUNTIF(D10:R10,"J") -> 0 | T10: =COUNTIF(D10:R10,"F") -> 0 | U10: =COUNTIF(D10:R10,"M") -> 0 | V10: =COUNTIF(D10:R10,"P") -> 0 | W10: =COUNTIF(D10:R10,"F") -> 0 | X10: =SUM(V10/(V10+W10)) -> #DIV/0! | AO10: =COUNTIF(Z10:AN10,"J") -> 0 | AP10: =COUNTIF(Z10:AN10,"F") -> 0 | AQ10: =COUNTIF(Z10:AN10,"M") -> 0 | AR10: =COUNTIF(Z10:AN10,"P") -> 0 | AS10: =COUNTIF(Z10:AN10,"F") -> 0 | AT10: =SUM(AR10/(AR10+AS10)) -> #DIV/0! | BK10: =COUNTIF(AV10:BJ10,"J") -> 0 | BL10: =COUNTIF(AV10:BJ10,"F") -> 0 | BM10: =COUNTIF(AV10:BJ10,"M") -> 0 | BN10: =COUNTIF(AV10:BJ10,"P") -> 0 | BO10: =COUNTIF(AV10:BJ10,"F") -> 0 | BP10: =SUM(BN10/(BN10+BO10)) -> #DIV/0! | CG10: =COUNTIF(BR10:CF10,"J") -> 0 | CH10: =COUNTIF(BR10:CF10,"F") -> 0 | CI10: =COUNTIF(BR10:CF10,"M") -> 0 | CJ10: =COUNTIF(BR10:CF10,"P") -> 0 | CK10: =COUNTIF(BR10:CF10,"F") -> 0 | CL10: =SUM(CJ10/(CJ10+CK10)) -> #DIV/0!
A11: =A10+1 -> 8 | S11: =COUNTIF(D11:R11,"J") -> 0 | T11: =COUNTIF(D11:R11,"F") -> 0 | U11: =COUNTIF(D11:R11,"M") -> 0 | V11: =COUNTIF(D11:R11,"P") -> 0 | W11: =COUNTIF(D11:R11,"F") -> 0 | X11: =SUM(V11/(V11+W11)) -> #DIV/0! | AO11: =COUNTIF(Z11:AN11,"J") -> 0 | AP11: =COUNTIF(Z11:AN11,"F") -> 0 | AQ11: =COUNTIF(Z11:AN11,"M") -> 0 | AR11: =COUNTIF(Z11:AN11,"P") -> 0 | AS11: =COUNTIF(Z11:AN11,"F") -> 0 | AT11: =SUM(AR11/(AR11+AS11)) -> #DIV/0! | BK11: =COUNTIF(AV11:BJ11,"J") -> 0 | BL11: =COUNTIF(AV11:BJ11,"F") -> 0 | BM11: =COUNTIF(AV11:BJ11,"M") -> 0 | BN11: =COUNTIF(AV11:BJ11,"P") -> 0 | BO11: =COUNTIF(AV11:BJ11,"F") -> 0 | BP11: =SUM(BN11/(BN11+BO11)) -> #DIV/0! | CG11: =COUNTIF(BR11:CF11,"J") -> 0 | CH11: =COUNTIF(BR11:CF11,"F") -> 0 | CI11: =COUNTIF(BR11:CF11,"M") -> 0 | CJ11: =COUNTIF(BR11:CF11,"P") -> 0 | CK11: =COUNTIF(BR11:CF11,"F") -> 0 | CL11: =SUM(CJ11/(CJ11+CK11)) -> #DIV/0!
A12: =A11+1 -> 9 | S12: =COUNTIF(D12:R12,"J") -> 0 | T12: =COUNTIF(D12:R12,"F") -> 0 | U12: =COUNTIF(D12:R12,"M") -> 0 | V12: =COUNTIF(D12:R12,"P") -> 0 | W12: =COUNTIF(D12:R12,"F") -> 0 | X12: =SUM(V12/(V12+W12)) -> #DIV/0! | AO12: =COUNTIF(Z12:AN12,"J") -> 0 | AP12: =COUNTIF(Z12:AN12,"F") -> 0 | AQ12: =COUNTIF(Z12:AN12,"M") -> 0 | AR12: =COUNTIF(Z12:AN12,"P") -> 0 | AS12: =COUNTIF(Z12:AN12,"F") -> 0 | AT12: =SUM(AR12/(AR12+AS12)) -> #DIV/0! | BK12: =COUNTIF(AV12:BJ12,"J") -> 0 | BL12: =COUNTIF(AV12:BJ12,"F") -> 0 | BM12: =COUNTIF(AV12:BJ12,"M") -> 0 | BN12: =COUNTIF(AV12:BJ12,"P") -> 0 | BO12: =COUNTIF(AV12:BJ12,"F") -> 0 | BP12: =SUM(BN12/(BN12+BO12)) -> #DIV/0! | CG12: =COUNTIF(BR12:CF12,"J") -> 0 | CH12: =COUNTIF(BR12:CF12,"F") -> 0 | CI12: =COUNTIF(BR12:CF12,"M") -> 0 | CJ12: =COUNTIF(BR12:CF12,"P") -> 0 | CK12: =COUNTIF(BR12:CF12,"F") -> 0 | CL12: =SUM(CJ12/(CJ12+CK12)) -> #DIV/0!
A13: =A12+1 -> 10 | S13: =COUNTIF(D13:R13,"J") -> 0 | T13: =COUNTIF(D13:R13,"F") -> 0 | U13: =COUNTIF(D13:R13,"M") -> 0 | V13: =COUNTIF(D13:R13,"P") -> 0 | W13: =COUNTIF(D13:R13,"F") -> 0 | X13: =SUM(V13/(V13+W13)) -> #DIV/0! | AO13: =COUNTIF(Z13:AN13,"J") -> 0 | AP13: =COUNTIF(Z13:AN13,"F") -> 0 | AQ13: =COUNTIF(Z13:AN13,"M") -> 0 | AR13: =COUNTIF(Z13:AN13,"P") -> 0 | AS13: =COUNTIF(Z13:AN13,"F") -> 0 | AT13: =SUM(AR13/(AR13+AS13)) -> #DIV/0! | BK13: =COUNTIF(AV13:BJ13,"J") -> 0 | BL13: =COUNTIF(AV13:BJ13,"F") -> 0 | BM13: =COUNTIF(AV13:BJ13,"M") -> 0 | BN13: =COUNTIF(AV13:BJ13,"P") -> 0 | BO13: =COUNTIF(AV13:BJ13,"F") -> 0 | BP13: =SUM(BN13/(BN13+BO13)) -> #DIV/0! | CG13: =COUNTIF(BR13:CF13,"J") -> 0 | CH13: =COUNTIF(BR13:CF13,"F") -> 0 | CI13: =COUNTIF(BR13:CF13,"M") -> 0 | CJ13: =COUNTIF(BR13:CF13,"P") -> 0 | CK13: =COUNTIF(BR13:CF13,"F") -> 0 | CL13: =SUM(CJ13/(CJ13+CK13)) -> #DIV/0!
A14: =A13+1 -> 11 | S14: =COUNTIF(D14:R14,"J") -> 0 | T14: =COUNTIF(D14:R14,"F") -> 0 | U14: =COUNTIF(D14:R14,"M") -> 0 | V14: =COUNTIF(D14:R14,"P") -> 0 | W14: =COUNTIF(D14:R14,"F") -> 0 | X14: =SUM(V14/(V14+W14)) -> #DIV/0! | AO14: =COUNTIF(Z14:AN14,"J") -> 0 | AP14: =COUNTIF(Z14:AN14,"F") -> 0 | AQ14: =COUNTIF(Z14:AN14,"M") -> 0 | AR14: =COUNTIF(Z14:AN14,"P") -> 0 | AS14: =COUNTIF(Z14:AN14,"F") -> 0 | AT14: =SUM(AR14/(AR14+AS14)) -> #DIV/0! | BK14: =COUNTIF(AV14:BJ14,"J") -> 0 | BL14: =COUNTIF(AV14:BJ14,"F") -> 0 | BM14: =COUNTIF(AV14:BJ14,"M") -> 0 | BN14: =COUNTIF(AV14:BJ14,"P") -> 0 | BO14: =COUNTIF(AV14:BJ14,"F") -> 0 | BP14: =SUM(BN14/(BN14+BO14)) -> #DIV/0! | CG14: =COUNTIF(BR14:CF14,"J") -> 0 | CH14: =COUNTIF(BR14:CF14,"F") -> 0 | CI14: =COUNTIF(BR14:CF14,"M") -> 0 | CJ14: =COUNTIF(BR14:CF14,"P") -> 0 | CK14: =COUNTIF(BR14:CF14,"F") -> 0 | CL14: =SUM(CJ14/(CJ14+CK14)) -> #DIV/0!
A15: =A14+1 -> 12 | S15: =COUNTIF(D15:R15,"J") -> 0 | T15: =COUNTIF(D15:R15,"F") -> 0 | U15: =COUNTIF(D15:R15,"M") -> 0 | V15: =COUNTIF(D15:R15,"P") -> 0 | W15: =COUNTIF(D15:R15,"F") -> 0 | X15: =SUM(V15/(V15+W15)) -> #DIV/0! | AO15: =COUNTIF(Z15:AN15,"J") -> 0 | AP15: =COUNTIF(Z15:AN15,"F") -> 0 | AQ15: =COUNTIF(Z15:AN15,"M") -> 0 | AR15: =COUNTIF(Z15:AN15,"P") -> 0 | AS15: =COUNTIF(Z15:AN15,"F") -> 0 | AT15: =SUM(AR15/(AR15+AS15)) -> #DIV/0! | BK15: =COUNTIF(AV15:BJ15,"J") -> 0 | BL15: =COUNTIF(AV15:BJ15,"F") -> 0 | BM15: =COUNTIF(AV15:BJ15,"M") -> 0 | BN15: =COUNTIF(AV15:BJ15,"P") -> 0 | BO15: =COUNTIF(AV15:BJ15,"F") -> 0 | BP15: =SUM(BN15/(BN15+BO15)) -> #DIV/0! | CG15: =COUNTIF(BR15:CF15,"J") -> 0 | CH15: =COUNTIF(BR15:CF15,"F") -> 0 | CI15: =COUNTIF(BR15:CF15,"M") -> 0 | CJ15: =COUNTIF(BR15:CF15,"P") -> 0 | CK15: =COUNTIF(BR15:CF15,"F") -> 0 | CL15: =SUM(CJ15/(CJ15+CK15)) -> #DIV/0!
A16: =A15+1 -> 13 | S16: =COUNTIF(D16:R16,"J") -> 0 | T16: =COUNTIF(D16:R16,"F") -> 0 | U16: =COUNTIF(D16:R16,"M") -> 0 | V16: =COUNTIF(D16:R16,"P") -> 0 | W16: =COUNTIF(D16:R16,"F") -> 0 | X16: =SUM(V16/(V16+W16)) -> #DIV/0! | AO16: =COUNTIF(Z16:AN16,"J") -> 0 | AP16: =COUNTIF(Z16:AN16,"F") -> 0 | AQ16: =COUNTIF(Z16:AN16,"M") -> 0 | AR16: =COUNTIF(Z16:AN16,"P") -> 0 | AS16: =COUNTIF(Z16:AN16,"F") -> 0 | AT16: =SUM(AR16/(AR16+AS16)) -> #DIV/0! | BK16: =COUNTIF(AV16:BJ16,"J") -> 0 | BL16: =COUNTIF(AV16:BJ16,"F") -> 0 | BM16: =COUNTIF(AV16:BJ16,"M") -> 0 | BN16: =COUNTIF(AV16:BJ16,"P") -> 0 | BO16: =COUNTIF(AV16:BJ16,"F") -> 0 | BP16: =SUM(BN16/(BN16+BO16)) -> #DIV/0! | CG16: =COUNTIF(BR16:CF16,"J") -> 0 | CH16: =COUNTIF(BR16:CF16,"F") -> 0 | CI16: =COUNTIF(BR16:CF16,"M") -> 0 | CJ16: =COUNTIF(BR16:CF16,"P") -> 0 | CK16: =COUNTIF(BR16:CF16,"F") -> 0 | CL16: =SUM(CJ16/(CJ16+CK16)) -> #DIV/0!
A17: =A16+1 -> 14 | S17: =COUNTIF(D17:R17,"J") -> 0 | T17: =COUNTIF(D17:R17,"F") -> 0 | U17: =COUNTIF(D17:R17,"M") -> 0 | V17: =COUNTIF(D17:R17,"P") -> 0 | W17: =COUNTIF(D17:R17,"F") -> 0 | X17: =SUM(V17/(V17+W17)) -> #DIV/0! | AO17: =COUNTIF(Z17:AN17,"J") -> 0 | AP17: =COUNTIF(Z17:AN17,"F") -> 0 | AQ17: =COUNTIF(Z17:AN17,"M") -> 0 | AR17: =COUNTIF(Z17:AN17,"P") -> 0 | AS17: =COUNTIF(Z17:AN17,"F") -> 0 | AT17: =SUM(AR17/(AR17+AS17)) -> #DIV/0! | BK17: =COUNTIF(AV17:BJ17,"J") -> 0 | BL17: =COUNTIF(AV17:BJ17,"F") -> 0 | BM17: =COUNTIF(AV17:BJ17,"M") -> 0 | BN17: =COUNTIF(AV17:BJ17,"P") -> 0 | BO17: =COUNTIF(AV17:BJ17,"F") -> 0 | BP17: =SUM(BN17/(BN17+BO17)) -> #DIV/0! | CG17: =COUNTIF(BR17:CF17,"J") -> 0 | CH17: =COUNTIF(BR17:CF17,"F") -> 0 | CI17: =COUNTIF(BR17:CF17,"M") -> 0 | CJ17: =COUNTIF(BR17:CF17,"P") -> 0 | CK17: =COUNTIF(BR17:CF17,"F") -> 0 | CL17: =SUM(CJ17/(CJ17+CK17)) -> #DIV/0!
A18: =A17+1 -> 15 | S18: =COUNTIF(D18:R18,"J") -> 0 | T18: =COUNTIF(D18:R18,"F") -> 0 | U18: =COUNTIF(D18:R18,"M") -> 0 | V18: =COUNTIF(D18:R18,"P") -> 0 | W18: =COUNTIF(D18:R18,"F") -> 0 | X18: =SUM(V18/(V18+W18)) -> #DIV/0! | AO18: =COUNTIF(Z18:AN18,"J") -> 0 | AP18: =COUNTIF(Z18:AN18,"F") -> 0 | AQ18: =COUNTIF(Z18:AN18,"M") -> 0 | AR18: =COUNTIF(Z18:AN18,"P") -> 0 | AS18: =COUNTIF(Z18:AN18,"F") -> 0 | AT18: =SUM(AR18/(AR18+AS18)) -> #DIV/0! | BK18: =COUNTIF(AV18:BJ18,"J") -> 0 | BL18: =COUNTIF(AV18:BJ18,"F") -> 0 | BM18: =COUNTIF(AV18:BJ18,"M") -> 0 | BN18: =COUNTIF(AV18:BJ18,"P") -> 0 | BO18: =COUNTIF(AV18:BJ18,"F") -> 0 | BP18: =SUM(BN18/(BN18+BO18)) -> #DIV/0! | CG18: =COUNTIF(BR18:CF18,"J") -> 0 | CH18: =COUNTIF(BR18:CF18,"F") -> 0 | CI18: =COUNTIF(BR18:CF18,"M") -> 0 | CJ18: =COUNTIF(BR18:CF18,"P") -> 0 | CK18: =COUNTIF(BR18:CF18,"F") -> 0 | CL18: =SUM(CJ18/(CJ18+CK18)) -> #DIV/0!
A19: =A18+1 -> 16 | S19: =COUNTIF(D19:R19,"J") -> 0 | T19: =COUNTIF(D19:R19,"F") -> 0 | U19: =COUNTIF(D19:R19,"M") -> 0 | V19: =COUNTIF(D19:R19,"P") -> 0 | W19: =COUNTIF(D19:R19,"F") -> 0 | X19: =SUM(V19/(V19+W19)) -> #DIV/0! | AO19: =COUNTIF(Z19:AN19,"J") -> 0 | AP19: =COUNTIF(Z19:AN19,"F") -> 0 | AQ19: =COUNTIF(Z19:AN19,"M") -> 0 | AR19: =COUNTIF(Z19:AN19,"P") -> 0 | AS19: =COUNTIF(Z19:AN19,"F") -> 0 | AT19: =SUM(AR19/(AR19+AS19)) -> #DIV/0! | BK19: =COUNTIF(AV19:BJ19,"J") -> 0 | BL19: =COUNTIF(AV19:BJ19,"F") -> 0 | BM19: =COUNTIF(AV19:BJ19,"M") -> 0 | BN19: =COUNTIF(AV19:BJ19,"P") -> 0 | BO19: =COUNTIF(AV19:BJ19,"F") -> 0 | BP19: =SUM(BN19/(BN19+BO19)) -> #DIV/0! | CG19: =COUNTIF(BR19:CF19,"J") -> 0 | CH19: =COUNTIF(BR19:CF19,"F") -> 0 | CI19: =COUNTIF(BR19:CF19,"M") -> 0 | CJ19: =COUNTIF(BR19:CF19,"P") -> 0 | CK19: =COUNTIF(BR19:CF19,"F") -> 0 | CL19: =SUM(CJ19/(CJ19+CK19)) -> #DIV/0!
A20: =A19+1 -> 17 | S20: =COUNTIF(D20:R20,"J") -> 0 | T20: =COUNTIF(D20:R20,"F") -> 0 | U20: =COUNTIF(D20:R20,"M") -> 0 | V20: =COUNTIF(D20:R20,"P") -> 0 | W20: =COUNTIF(D20:R20,"F") -> 0 | X20: =SUM(V20/(V20+W20)) -> #DIV/0! | AO20: =COUNTIF(Z20:AN20,"J") -> 0 | AP20: =COUNTIF(Z20:AN20,"F") -> 0 | AQ20: =COUNTIF(Z20:AN20,"M") -> 0 | AR20: =COUNTIF(Z20:AN20,"P") -> 0 | AS20: =COUNTIF(Z20:AN20,"F") -> 0 | AT20: =SUM(AR20/(AR20+AS20)) -> #DIV/0! | BK20: =COUNTIF(AV20:BJ20,"J") -> 0 | BL20: =COUNTIF(AV20:BJ20,"F") -> 0 | BM20: =COUNTIF(AV20:BJ20,"M") -> 0 | BN20: =COUNTIF(AV20:BJ20,"P") -> 0 | BO20: =COUNTIF(AV20:BJ20,"F") -> 0 | BP20: =SUM(BN20/(BN20+BO20)) -> #DIV/0! | CG20: =COUNTIF(BR20:CF20,"J") -> 0 | CH20: =COUNTIF(BR20:CF20,"F") -> 0 | CI20: =COUNTIF(BR20:CF20,"M") -> 0 | CJ20: =COUNTIF(BR20:CF20,"P") -> 0 | CK20: =COUNTIF(BR20:CF20,"F") -> 0 | CL20: =SUM(CJ20/(CJ20+CK20)) -> #DIV/0!
... A63: =A62+1 -> 60 | S63: =COUNTIF(D63:R63,"J") -> 0 | T63: =COUNTIF(D63:R63,"F") -> 0 | U63: =COUNTIF(D63:R63,"M") -> 0 | V63: =COUNTIF(D63:R63,"P") -> 0 | W63: =COUNTIF(D63:R63,"F") -> 0 | X63: =SUM(V63/(V63+W63)) -> #DIV/0! | AO63: =COUNTIF(Z63:AN63,"J") -> 0 | AP63: =COUNTIF(Z63:AN63,"F") -> 0 | AQ63: =COUNTIF(Z63:AN63,"M") -> 0 | AR63: =COUNTIF(Z63:AN63,"P") -> 0 | AS63: =COUNTIF(Z63:AN63,"F") -> 0 | AT63: =SUM(AR63/(AR63+AS63)) -> #DIV/0! | BK63: =COUNTIF(AV63:BJ63,"J") -> 0 | BL63: =COUNTIF(AV63:BJ63,"F") -> 0 | BM63: =COUNTIF(AV63:BJ63,"M") -> 0 | BN63: =COUNTIF(AV63:BJ63,"P") -> 0 | BO63: =COUNTIF(AV63:BJ63,"F") -> 0 | BP63: =SUM(BN63/(BN63+BO63)) -> #DIV/0! | CG63: =COUNTIF(BR63:CF63,"J") -> 0 | CH63: =COUNTIF(BR63:CF63,"F") -> 0 | CI63: =COUNTIF(BR63:CF63,"M") -> 0 | CJ63: =COUNTIF(BR63:CF63,"P") -> 0 | CK63: =COUNTIF(BR63:CF63,"F") -> 0 | CL63: =SUM(CJ63/(CJ63+CK63)) -> #DIV/0!
C64: Alunos matriculados | D64: =COUNTA(D4:D63) -> 5 | E64: =COUNTA(E4:E63) -> 5 | F64: =COUNTA(F4:F63) -> 5 | G64: =COUNTA(G4:G63) -> 5 | H64: =COUNTA(H4:H63) -> 5 | I64: =COUNTA(I4:I63) -> 5 | J64: =COUNTA(J4:J63) -> 5 | K64: =COUNTA(K4:K63) -> 5 | ... R64: =COUNTA(R4:R63) -> 5 | Z64: =COUNTA(Z4:Z63) -> 5 | AA64: =COUNTA(AA4:AA63) -> 5 | AB64: =COUNTA(AB4:AB63) -> 5 | AC64: =COUNTA(AC4:AC63) -> 5 | AD64: =COUNTA(AD4:AD63) -> 5 | AE64: =COUNTA(AE4:AE63) -> 5 | AF64: =COUNTA(AF4:AF63) -> 5 | AG64: =COUNTA(AG4:AG63) -> 5 | ... AN64: =COUNTA(AN4:AN63) -> 5 | AV64: =COUNTA(AV4:AV63) -> 5 | AW64: =COUNTA(AW4:AW63) -> 5 | AX64: =COUNTA(AX4:AX63) -> 5 | AY64: =COUNTA(AY4:AY63) -> 5 | AZ64: =COUNTA(AZ4:AZ63) -> 5 | BA64: =COUNTA(BA4:BA63) -> 5 | BB64: =COUNTA(BB4:BB63) -> 5 | BC64: =COUNTA(BC4:BC63) -> 5 | ... BJ64: =COUNTA(BJ4:BJ63) -> 5 | BR64: =COUNTA(BR4:BR63) -> 5 | BS64: =COUNTA(BS4:BS63) -> 5 | BT64: =COUNTA(BT4:BT63) -> 5 | BU64: =COUNTA(BU4:BU63) -> 5 | BV64: =COUNTA(BV4:BV63) -> 5 | BW64: =COUNTA(BW4:BW63) -> 5 | BX64: =COUNTA(BX4:BX63) -> 5 | BY64: =COUNTA(BY4:BY63) -> 5 | ... CF64: =COUNTA(CF4:CF63) -> 5
C65: Ausentes | D65: =COUNTIF(D4:D63,"F") -> 0 | E65: =COUNTIF(E4:E63,"F") -> 2 | F65: =COUNTIF(F4:F63,"F") -> 4 | G65: =COUNTIF(G4:G63,"F") -> 4 | H65: =COUNTIF(H4:H63,"F") -> 2 | I65: =COUNTIF(I4:I63,"F") -> 1 | J65: =COUNTIF(J4:J63,"F") -> 1 | K65: =COUNTIF(K4:K63,"F") -> 1 | ... R65: =COUNTIF(R4:R63,"F") -> 2 | Z65: =COUNTIF(Z4:Z63,"F") -> 0 | AA65: =COUNTIF(AA4:AA63,"F") -> 2 | AB65: =COUNTIF(AB4:AB63,"F") -> 3 | AC65: =COUNTIF(AC4:AC63,"F") -> 3 | AD65: =COUNTIF(AD4:AD63,"F") -> 3 | AE65: =COUNTIF(AE4:AE63,"F") -> 1 | AF65: =COUNTIF(AF4:AF63,"F") -> 1 | AG65: =COUNTIF(AG4:AG63,"F") -> 1 | ... AN65: =COUNTIF(AN4:AN63,"F") -> 1 | AV65: =COUNTIF(AV4:AV63,"F") -> 0 | AW65: =COUNTIF(AW4:AW63,"F") -> 2 | AX65: =COUNTIF(AX4:AX63,"F") -> 3 | AY65: =COUNTIF(AY4:AY63,"F") -> 3 | AZ65: =COUNTIF(AZ4:AZ63,"F") -> 3 | BA65: =COUNTIF(BA4:BA63,"F") -> 1 | BB65: =COUNTIF(BB4:BB63,"F") -> 1 | BC65: =COUNTIF(BC4:BC63,"F") -> 1 | ... BJ65: =COUNTIF(BJ4:BJ63,"F") -> 3 | BR65: =COUNTIF(BR4:BR63,"F") -> 0 | BS65: =COUNTIF(BS4:BS63,"F") -> 2 | BT65: =COUNTIF(BT4:BT63,"F") -> 3 | BU65: =COUNTIF(BU4:BU63,"F") -> 3 | BV65: =COUNTIF(BV4:BV63,"F") -> 3 | BW65: =COUNTIF(BW4:BW63,"F") -> 1 | BX65: =COUNTIF(BX4:BX63,"F") -> 1 | BY65: =COUNTIF(BY4:BY63,"F") -> 1 | ... CF65: =COUNTIF(CF4:CF63,"F") -> 3
C66: Presentes | D66: =COUNTIF(D4:D63,"P") -> 5 | E66: =COUNTIF(E4:E63,"P") -> 2 | F66: =COUNTIF(F4:F63,"P") -> 1 | G66: =COUNTIF(G4:G63,"P") -> 1 | H66: =COUNTIF(H4:H63,"P") -> 3 | I66: =COUNTIF(I4:I63,"P") -> 4 | J66: =COUNTIF(J4:J63,"P") -> 4 | K66: =COUNTIF(K4:K63,"P") -> 4 | ... R66: =COUNTIF(R4:R63,"P") -> 3 | Z66: =COUNTIF(Z4:Z63,"P") -> 5 | AA66: =COUNTIF(AA4:AA63,"P") -> 3 | AB66: =COUNTIF(AB4:AB63,"P") -> 2 | AC66: =COUNTIF(AC4:AC63,"P") -> 2 | AD66: =COUNTIF(AD4:AD63,"P") -> 2 | AE66: =COUNTIF(AE4:AE63,"P") -> 4 | AF66: =COUNTIF(AF4:AF63,"P") -> 4 | AG66: =COUNTIF(AG4:AG63,"P") -> 4 | ... AN66: =COUNTIF(AN4:AN63,"P") -> 4 | AV66: =COUNTIF(AV4:AV63,"P") -> 5 | AW66: =COUNTIF(AW4:AW63,"P") -> 3 | AX66: =COUNTIF(AX4:AX63,"P") -> 2 | AY66: =COUNTIF(AY4:AY63,"P") -> 2 | AZ66: =COUNTIF(AZ4:AZ63,"P") -> 2 | BA66: =COUNTIF(BA4:BA63,"P") -> 4 | BB66: =COUNTIF(BB4:BB63,"P") -> 4 | BC66: =COUNTIF(BC4:BC63,"P") -> 4 | ... BJ66: =COUNTIF(BJ4:BJ63,"P") -> 2 | BR66: =COUNTIF(BR4:BR63,"P") -> 5 | BS66: =COUNTIF(BS4:BS63,"P") -> 3 | BT66: =COUNTIF(BT4:BT63,"P") -> 2 | BU66: =COUNTIF(BU4:BU63,"P") -> 2 | BV66: =COUNTIF(BV4:BV63,"P") -> 2 | BW66: =COUNTIF(BW4:BW63,"P") -> 4 | BX66: =COUNTIF(BX4:BX63,"P") -> 4 | BY66: =COUNTIF(BY4:BY63,"P") -> 4 | ... CF66: =COUNTIF(CF4:CF63,"P") -> 2
C67: Visitantes | D67: 8 | E67: 6 | F67: 6 | G67: 0 | H67: 6 | I67: 5 | Z67: 8 | AA67: 6 | AB67: 6 | AC67: 0 | AD67: 6 | AE67: 5 | AV67: 8 | AW67: 6 | AX67: 6 | AY67: 0 | AZ67: 6 | BA67: 5 | BR67: 8 | BS67: 6 | BT67: 6 | BU67: 0 | BV67: 6 | BW67: 5
C68: Total de Assistencia | D68: =D66+D67 -> 13 | E68: =E66+E67 -> 8 | F68: =F66+F67 -> 7 | G68: =G66+G67 -> 1 | H68: =H66+H67 -> 9 | I68: =I66+I67 -> 9 | J68: =J66+J67 -> 4 | K68: =K66+K67 -> 4 | ... R68: =R66+R67 -> 3 | Z68: =Z66+Z67 -> 13 | AA68: =AA66+AA67 -> 9 | AB68: =AB66+AB67 -> 8 | AC68: =AC66+AC67 -> 2 | AD68: =AD66+AD67 -> 8 | AE68: =AE66+AE67 -> 9 | AF68: =AF66+AF67 -> 4 | AG68: =AG66+AG67 -> 4 | ... AN68: =AN66+AN67 -> 4 | AV68: =AV66+AV67 -> 13 | AW68: =AW66+AW67 -> 9 | AX68: =AX66+AX67 -> 8 | AY68: =AY66+AY67 -> 2 | AZ68: =AZ66+AZ67 -> 8 | BA68: =BA66+BA67 -> 9 | BB68: =BB66+BB67 -> 4 | BC68: =BC66+BC67 -> 4 | ... BJ68: =BJ66+BJ67 -> 2 | BR68: =BR66+BR67 -> 13 | BS68: =BS66+BS67 -> 9 | BT68: =BT66+BT67 -> 8 | BU68: =BU66+BU67 -> 2 | BV68: =BV66+BV67 -> 8 | BW68: =BW66+BW67 -> 9 | BX68: =BX66+BX67 -> 4 | BY68: =BY66+BY67 -> 4 | ... CF68: =CF66+CF67 -> 2
C69: Bíblias | D69: 30 | E69: 27 | F69: 27 | G69: 0 | H69: 26 | I69: 39 | Z69: 30 | AA69: 27 | AB69: 27 | AC69: 0 | AD69: 26 | AE69: 39 | AV69: 30 | AW69: 27 | AX69: 27 | AY69: 0 | AZ69: 26 | BA69: 39 | BR69: 30 | BS69: 27 | BT69: 27 | BU69: 0 | BV69: 26 | BW69: 39
C70: Revistas | D70: 30 | E70: 25 | F70: 27 | G70: 0 | H70: 20 | I70: 30 | Z70: 30 | AA70: 25 | AB70: 27 | AC70: 0 | AD70: 20 | AE70: 30 | AV70: 30 | AW70: 25 | AX70: 27 | AY70: 0 | AZ70: 20 | BA70: 30 | BR70: 30 | BS70: 25 | BT70: 27 | BU70: 0 | BV70: 20 | BW70: 30
C71: Oferta | D71: 0 | E71: 0 | F71: 0 | G71: 0 | H71: 0 | I71: 0 | Z71: 0 | AA71: 0 | AB71: 0 | AC71: 0 | AD71: 0 | AE71: 0 | AV71: 0 | AW71: 0 | AX71: 0 | AY71: 0 | AZ71: 0 | BA71: 0 | BR71: 0 | BS71: 0 | BT71: 0 | BU71: 0 | BV71: 0 | BW71: 0
C74: MÉDIA GERAL DE ASSISTENCIA | D74: =D79 -> 0.48 | I74: =I79 -> 0.72 | N74: =N79 -> 0.76 | Z74: =Z79 -> 0.56 | AE74: =AE79 -> 0.8 | AJ74: =AJ79 -> 0.8 | AV74: =AV79 -> 0.56 | BA74: =BA79 -> 0.72 | BF74: =BF79 -> 0.72 | BR74: =BR79 -> 0.56 | BW74: =BW79 -> 0.72 | CB74: =CB79 -> 0.72
C77: Matriculados | D77: =SUM(D64:H64) -> 25 | I77: =SUM(I64:M64) -> 25 | N77: =SUM(N64:R64) -> 25 | Z77: =SUM(Z64:AD64) -> 25 | AE77: =SUM(AE64:AI64) -> 25 | AJ77: =SUM(AJ64:AN64) -> 25 | AV77: =SUM(AV64:AZ64) -> 25 | BA77: =SUM(BA64:BE64) -> 25 | BF77: =SUM(BF64:BJ64) -> 25 | BR77: =SUM(BR64:BV64) -> 25 | BW77: =SUM(BW64:CA64) -> 25 | CB77: =SUM(CB64:CF64) -> 25
C78: Presenças | D78: =SUM(D66:H66) -> 12 | I78: =SUM(I66:M66) -> 18 | N78: =SUM(N66:R66) -> 19 | Z78: =SUM(Z66:AD66) -> 14 | AE78: =SUM(AE66:AI66) -> 20 | AJ78: =SUM(AJ66:AN66) -> 20 | AV78: =SUM(AV66:AZ66) -> 14 | BA78: =SUM(BA66:BE66) -> 18 | BF78: =SUM(BF66:BJ66) -> 18 | BR78: =SUM(BR66:BV66) -> 14 | BW78: =SUM(BW66:CA66) -> 18 | CB78: =SUM(CB66:CF66) -> 18
C79: Percetual de pres. | D79: =D78/D77 -> 0.48 | I79: =I78/I77 -> 0.72 | N79: =N78/N77 -> 0.76 | Z79: =Z78/Z77 -> 0.56 | AE79: =AE78/AE77 -> 0.8 | AJ79: =AJ78/AJ77 -> 0.8 | AV79: =AV78/AV77 -> 0.56 | BA79: =BA78/BA77 -> 0.72 | BF79: =BF78/BF77 -> 0.72 | BR79: =BR78/BR77 -> 0.56 | BW79: =BW78/BW77 -> 0.72 | CB79: =CB78/CB77 -> 0.72

Sheet CLASSE 3
A1: NOME DA CLASSE: | C1: CLASSE 3 | Z1: =$C$1 -> CLASSE 3 | AV1: =$C$1 -> CLASSE 3 | BR1: =$C$1 -> CLASSE 3
A2: Nº | B2: ALUNO | C2: OBSERVAÇÕES | D2: JANEIRO | I2: FEVEREIRO | N2: MARÇO | S2: Frequencia do Trimestre | Z2: ABRIL | AE2: MAIO | AJ2: JUNHO | AO2: Frequencia do Trimestre | AV2: JULHO | BA2: AGOSTO | BF2: SETEMBRO | BK2: Frequencia do Trimestre | BR2: OUTUBRO | BW2: NOVEMBRO | CB2: DEZEMBRO | CG2: Frequencia do Trimestre
D3: 1º | E3: 2º | F3: 3º | G3: 4º | H3: 5º | I3: 1º | J3: 2º | K3: 3º | L3: 4º | M3: 5º | N3: 1º | O3: 2º | P3: 3º | Q3: 4º | R3: 5º | S3: J | T3: F | U3: M | V3: P | W3: F | X3: Frequencia % | Z3: 1º | AA3: 2º | AB3: 3º | AC3: 4º | AD3: 5º | AE3: 1º | AF3: 2º | AG3: 3º | AH3: 4º | AI3: 5º | AJ3: 1º | AK3: 2º | AL3: 3º | AM3: 4º | AN3: 5º | AO3: J | AP3: F | AQ3: M | AR3: P | AS3: F | AT3: Frequencia % | AV3: 1º | AW3: 2º | AX3: 3º | AY3: 4º | AZ3: 5º | BA3: 1º | BB3: 2º | BC3: 3º | BD3: 4º | BE3: 5º | BF3: 1º | BG3: 2º | BH3: 3º | BI3: 4º | BJ3: 5º | BK3: J | BL3: F | BM3: M | BN3: P | BO3: F | BP3: Frequencia % | BR3: 1º | BS3: 2º | BT3: 3º | BU3: 4º | BV3: 5º | BW3: 1º | BX3: 2º | BY3: 3º | BZ3: 4º | CA3: 5º | CB3: 1º | CC3: 2º | CD3: 3º | CE3: 4º | CF3: 5º | CG3: J | CH3: F | CI3: M | CJ3: P | CK3: F | CL3: Frequencia %
A4: 1 | B4: ALUNO 1 | D4: P | E4: J | F4: F | G4: F | H4: P | I4: P | J4: P | K4: P | L4: F | M4: P | N4: P | O4: P | P4: P | Q4: P | R4: P | S4: =COUNTIF(D4:R4,"J") -> 1 | T4: =COUNTIF(D4:R4,"F") -> 3 | U4: =COUNTIF(D4:R4,"M") -> 0 | V4: =COUNTIF(D4:R4,"P") -> 11 | W4: =COUNTIF(D4:R4,"F") -> 3 | X4: =SUM(V4/(V4+W4)) -> 0.78571429 | Z4: P | AA4: P | AB4: P | AC4: P | AD4: F | AE4: P | AF4: P | AG4: P | AH4: P | AI4: P | AJ4: P | AK4: P | AL4: P | AM4: P | AN4: P | AO4: =COUNTIF(Z4:AN4,"J") -> 0 | AP4: =COUNTIF(Z4:AN4,"F") -> 1 | AQ4: =COUNTIF(Z4:AN4,"M") -> 0 | AR4: =COUNTIF(Z4:AN4,"P") -> 14 | AS4: =COUNTIF(Z4:AN4,"F") -> 1 | AT4: =SUM(AR4/(AR4+AS4)) -> 0.93333333 | AV4: P | AW4: P | AX4: P | AY4: P | AZ4: F | BA4: P | BB4: P | BC4: P | BD4: P | BE4: F | BF4: P | BG4: P | BH4: P | BI4: P | BJ4: F | BK4: =COUNTIF(AV4:BJ4,"J") -> 0 | BL4: =COUNTIF(AV4:BJ4,"F") -> 3 | BM4: =COUNTIF(AV4:BJ4,"M") -> 0 | BN4: =COUNTIF(AV4:BJ4,"P") -> 12 | BO4: =COUNTIF(AV4:BJ4,"F") -> 3 | BP4: =SUM(BN4/(BN4+BO4)) -> 0.8 | BR4: P | BS4: P | BT4: P | BU4: P | BV4: F | BW4: P | BX4: P | BY4: P | BZ4: P | CA4: F | CB4: P | CC4: P | CD4: P | CE4: P | CF4: F | CG4: =COUNTIF(BR4:CF4,"J") -> 0 | CH4: =COUNTIF(BR4:CF4,"F") -> 3 | CI4: =COUNTIF(BR4:CF4,"M") -> 0 | CJ4: =COUNTIF(BR4:CF4,"P") -> 12 | CK4: =COUNTIF(BR4:CF4,"F") -> 3 | CL4: =SUM(CJ4/(CJ4+CK4)) -> 0.8
A5: =A4+1 -> 2 | B5: ALUNO 2 | D5: P | E5: P | F5: F | G5: F | H5: F | I5: F | J5: F | K5: F | L5: F | M5: F | N5: F | O5: F | P5: F | Q5: F | R5: F | S5: =COUNTIF(D5:R5,"J") -> 0 | T5: =COUNTIF(D5:R5,"F") -> 13 | U5: =COUNTIF(D5:R5,"M") -> 0 | V5: =COUNTIF(D5:R5,"P") -> 2 | W5: =COUNTIF(D5:R5,"F") -> 13 | X5: =SUM(V5/(V5+W5)) -> 0.13333333 | Z5: P | AA5: P | AB5: F | AC5: F | AD5: F | AE5: F | AF5: F | AG5: F | AH5: F | AI5: F | AJ5: F | AK5: F | AL5: F | AM5: F | AN5: F | AO5: =COUNTIF(Z5:AN5,"J") -> 0 | AP5: =COUNTIF(Z5:AN5,"F") -> 13 | AQ5: =COUNTIF(Z5:AN5,"M") -> 0 | AR5: =COUNTIF(Z5:AN5,"P") -> 2 | AS5: =COUNTIF(Z5:AN5,"F") -> 13 | AT5: =SUM(AR5/(AR5+AS5)) -> 0.13333333 | AV5: P | AW5: P | AX5: F | AY5: F | AZ5: F | BA5: F | BB5: F | BC5: F | BD5: F | BE5: F | BF5: F | BG5: F | BH5: F | BI5: F | BJ5: F | BK5: =COUNTIF(AV5:BJ5,"J") -> 0 | BL5: =COUNTIF(AV5:BJ5,"F") -> 13 | BM5: =COUNTIF(AV5:BJ5,"M") -> 0 | BN5: =COUNTIF(AV5:BJ5,"P") -> 2 | BO5: =COUNTIF(AV5:BJ5,"F") -> 13 | BP5: =SUM(BN5/(BN5+BO5)) -> 0.13333333 | BR5: P | BS5: P | BT5: F | BU5: F | BV5: F | BW5: F | BX5: F | BY5: F | BZ5: F | CA5: F | CB5: F | CC5: F | CD5: F | CE5: F | CF5: F | CG5: =COUNTIF(BR5:CF5,"J") -> 0 | CH5: =COUNTIF(BR5:CF5,"F") -> 13 | CI5: =COUNTIF(BR5:CF5,"M") -> 0 | CJ5: =COUNTIF(BR5:CF5,"P") -> 2 | CK5: =COUNTIF(BR5:CF5,"F") -> 13 | CL5: =SUM(CJ5/(CJ5+CK5)) -> 0.13333333
A6: =A5+1 -> 3 | B6: ALUNO 3 | D6: P | E6: P | F6: F | G6: F | H6: P | I6: P | J6: P | K6: P | L6: P | M6: P | N6: P | O6: P | P6: P | Q6: P | R6: P | S6: =COUNTIF(D6:R6,"J") -> 0 | T6: =COUNTIF(D6:R6,"F") -> 2 | U6: =COUNTIF(D6:R6,"M") -> 0 | V6: =COUNTIF(D6:R6,"P") -> 13 | W6: =COUNTIF(D6:R6,"F") -> 2 | X6: =SUM(V6/(V6+W6)) -> 0.86666667 | Z6: P | AA6: P | AB6: F | AC6: F | AD6: P | AE6: P | AF6: P | AG6: P | AH6: P | AI6: P | AJ6: P | AK6: P | AL6: P | AM6: P | AN6: P | AO6: =COUNTIF(Z6:AN6,"J") -> 0 | AP6: =COUNTIF(Z6:AN6,"F") -> 2 | AQ6: =COUNTIF(Z6:AN6,"M") -> 0 | AR6: =COUNTIF(Z6:AN6,"P") -> 13 | AS6: =COUNTIF(Z6:AN6,"F") -> 2 | AT6: =SUM(AR6/(AR6+AS6)) -> 0.86666667 | AV6: P | AW6: P | AX6: F | AY6: F | AZ6: P | BA6: P | BB6: P | BC6: P | BD6: P | BE6: P | BF6: P | BG6: P | BH6: P | BI6: P | BJ6: P | BK6: =COUNTIF(AV6:BJ6,"J") -> 0 | BL6: =COUNTIF(AV6:BJ6,"F") -> 2 | BM6: =COUNTIF(AV6:BJ6,"M") -> 0 | BN6: =COUNTIF(AV6:BJ6,"P") -> 13 | BO6: =COUNTIF(AV6:BJ6,"F") -> 2 | BP6: =SUM(BN6/(BN6+BO6)) -> 0.86666667 | BR6: P | BS6: P | BT6: F | BU6: F | BV6: P | BW6: P | BX6: P | BY6: P | BZ6: P | CA6: P | CB6: P | CC6: P | CD6: P | CE6: P | CF6: P | CG6: =COUNTIF(BR6:CF6,"J") -> 0 | CH6: =COUNTIF(BR6:CF6,"F") -> 2 | CI6: =COUNTIF(BR6:CF6,"M") -> 0 | CJ6: =COUNTIF(BR6:CF6,"P") -> 13 | CK6: =COUNTIF(BR6:CF6,"F") -> 2 | CL6: =SUM(CJ6/(CJ6+CK6)) -> 0.86666667
A7: =A6+1 -> 4 | B7: ALUNO 4 | D7: P | E7: F | F7: F | G7: F | H7: F | I7: P | J7: P | K7: P | L7: P | M7: F | N7: P | O7: P | P7: P | Q7: P | R7: F | S7: =COUNTIF(D7:R7,"J") -> 0 | T7: =COUNTIF(D7:R7,"F") -> 6 | U7: =COUNTIF(D7:R7,"M") -> 0 | V7: =COUNTIF(D7:R7,"P") -> 9 | W7: =COUNTIF(D7:R7,"F") -> 6 | X7: =SUM(V7/(V7+W7)) -> 0.6 | Z7: P | AA7: F | AB7: F | AC7: F | AD7: F | AE7: P | AF7: P | AG7: P | AH7: P | AI7: P | AJ7: P | AK7: P | AL7: P | AM7: P | AN7: P | AO7: =COUNTIF(Z7:AN7,"J") -> 0 | AP7: =COUNTIF(Z7:AN7,"F") -> 4 | AQ7: =COUNTIF(Z7:AN7,"M") -> 0 | AR7: =COUNTIF(Z7:AN7,"P") -> 11 | AS7: =COUNTIF(Z7:AN7,"F") -> 4 | AT7: =SUM(AR7/(AR7+AS7)) -> 0.73333333 | AV7: P | AW7: F | AX7: F | AY7: F | AZ7: F | BA7: P | BB7: P | BC7: P | BD7: P | BE7: F | BF7: P | BG7: P | BH7: P | BI7: P | BJ7: F | BK7: =COUNTIF(AV7:BJ7,"J") -> 0 | BL7: =COUNTIF(AV7:BJ7,"F") -> 6 | BM7: =COUNTIF(AV7:BJ7,"M") -> 0 | BN7: =COUNTIF(AV7:BJ7,"P") -> 9 | BO7: =COUNTIF(AV7:BJ7,"F") -> 6 | BP7: =SUM(BN7/(BN7+BO7)) -> 0.6 | BR7: P | BS7: F | BT7: F | BU7: F | BV7: F | BW7: P | BX7: P | BY7: P | BZ7: P | CA7: F | CB7: P | CC7: P | CD7: P | CE7: P | CF7: F | CG7: =COUNTIF(BR7:CF7,"J") -> 0 | CH7: =COUNTIF(BR7:CF7,"F") -> 6 | CI7: =COUNTIF(BR7:CF7,"M") -> 0 | CJ7: =COUNTIF(BR7:CF7,"P") -> 9 | CK7: =COUNTIF(BR7:CF7,"F") -> 6 | CL7: =SUM(CJ7/(CJ7+CK7)) -> 0.6
A8: =A7+1 -> 5 | B8: ALUNO 5 | D8: P | E8: F | F8: P | G8: P | H8: P | I8: P | J8: P | K8: P | L8: P | M8: P | N8: P | O8: P | P8: P | Q8: P | R8: P | S8: =COUNTIF(D8:R8,"J") -> 0 | T8: =COUNTIF(D8:R8,"F") -> 1 | U8: =COUNTIF(D8:R8,"M") -> 0 | V8: =COUNTIF(D8:R8,"P") -> 14 | W8: =COUNTIF(D8:R8,"F") -> 1 | X8: =SUM(V8/(V8+W8)) -> 0.93333333 | Z8: P | AA8: F | AB8: P | AC8: P | AD8: P | AE8: P | AF8: P | AG8: P | AH8: P | AI8: P | AJ8: P | AK8: P | AL8: P | AM8: P | AN8: P | AO8: =COUNTIF(Z8:AN8,"J") -> 0 | AP8: =COUNTIF(Z8:AN8,"F") -> 1 | AQ8: =COUNTIF(Z8:AN8,"M") -> 0 | AR8: =COUNTIF(Z8:AN8,"P") -> 14 | AS8: =COUNTIF(Z8:AN8,"F") -> 1 | AT8: =SUM(AR8/(AR8+AS8)) -> 0.93333333 | AV8: P | AW8: F | AX8: P | AY8: P | AZ8: P | BA8: P | BB8: P | BC8: P | BD8: P | BE8: P | BF8: P | BG8: P | BH8: P | BI8: P | BJ8: P | BK8: =COUNTIF(AV8:BJ8,"J") -> 0 | BL8: =COUNTIF(AV8:BJ8,"F") -> 1 | BM8: =COUNTIF(AV8:BJ8,"M") -> 0 | BN8: =COUNTIF(AV8:BJ8,"P") -> 14 | BO8: =COUNTIF(AV8:BJ8,"F") -> 1 | BP8: =SUM(BN8/(BN8+BO8)) -> 0.93333333 | BR8: P | BS8: F | BT8: P | BU8: P | BV8: P | BW8: P | BX8: P | BY8: P | BZ8: P | CA8: P | CB8: P | CC8: P | CD8: P | CE8: P | CF8: P | CG8: =COUNTIF(BR8:CF8,"J") -> 0 | CH8: =COUNTIF(BR8:CF8,"F") -> 1 | CI8: =COUNTIF(BR8:CF8,"M") -> 0 | CJ8: =COUNTIF(BR8:CF8,"P") -> 14 | CK8: =COUNTIF(BR8:CF8,"F") -> 1 | CL8: =SUM(CJ8/(CJ8+CK8)) -> 0.93333333
A9: =A8+1 -> 6 | S9: =COUNTIF(D9:R9,"J") -> 0 | T9: =COUNTIF(D9:R9,"F") -> 0 | U9: =COUNTIF(D9:R9,"M") -> 0 | V9: =COUNTIF(D9:R9,"P") -> 0 | W9: =COUNTIF(D9:R9,"F") -> 0 | X9: =SUM(V9/(V9+W9)) -> #DIV/0! | AO9: =COUNTIF(Z9:AN9,"J") -> 0 | AP9: =COUNTIF(Z9:AN9,"F") -> 0 | AQ9: =COUNTIF(Z9:AN9,"M") -> 0 | AR9: =COUNTIF(Z9:AN9,"P") -> 0 | AS9: =COUNTIF(Z9:AN9,"F") -> 0 | AT9: =SUM(AR9/(AR9+AS9)) -> #DIV/0! | BK9: =COUNTIF(AV9:BJ9,"J") -> 0 | BL9: =COUNTIF(AV9:BJ9,"F") -> 0 | BM9: =COUNTIF(AV9:BJ9,"M") -> 0 | BN9: =COUNTIF(AV9:BJ9,"P") -> 0 | BO9: =COUNTIF(AV9:BJ9,"F") -> 0 | BP9: =SUM(BN9/(BN9+BO9)) -> #DIV/0! | CG9: =COUNTIF(BR9:CF9,"J") -> 0 | CH9: =COUNTIF(BR9:CF9,"F") -> 0 | CI9: =COUNTIF(BR9:CF9,"M") -> 0 | CJ9: =COUNTIF(BR9:CF9,"P") -> 0 | CK9: =COUNTIF(BR9:CF9,"F") -> 0 | CL9: =SUM(CJ9/(CJ9+CK9)) -> #DIV/0!
A10: =A9+1 -> 7 | S10: =COUNTIF(D10:R10,"J") -> 0 | T10: =COUNTIF(D10:R10,"F") -> 0 | U10: =COUNTIF(D10:R10,"M") -> 0 | V10: =COUNTIF(D10:R10,"P") -> 0 | W10: =COUNTIF(D10:R10,"F") -> 0 | X10: =SUM(V10/(V10+W10)) -> #DIV/0! | AO10: =COUNTIF(Z10:AN10,"J") -> 0 | AP10: =COUNTIF(Z10:AN10,"F") -> 0 | AQ10: =COUNTIF(Z10:AN10,"M") -> 0 | AR10: =COUNTIF(Z10:AN10,"P") -> 0 | AS10: =COUNTIF(Z10:AN10,"F") -> 0 | AT10: =SUM(AR10/(AR10+AS10)) -> #DIV/0! | BK10: =COUNTIF(AV10:BJ10,"J") -> 0 | BL10: =COUNTIF(AV10:BJ10,"F") -> 0 | BM10: =COUNTIF(AV10:BJ10,"M") -> 0 | BN10: =COUNTIF(AV10:BJ10,"P") -> 0 | BO10: =COUNTIF(AV10:BJ10,"F") -> 0 | BP10: =SUM(BN10/(BN10+BO10)) -> #DIV/0! | CG10: =COUNTIF(BR10:CF10,"J") -> 0 | CH10: =COUNTIF(BR10:CF10,"F") -> 0 | CI10: =COUNTIF(BR10:CF10,"M") -> 0 | CJ10: =COUNTIF(BR10:CF10,"P") -> 0 | CK10: =COUNTIF(BR10:CF10,"F") -> 0 | CL10: =SUM(CJ10/(CJ10+CK10)) -> #DIV/0!
A11: =A10+1 -> 8 | S11: =COUNTIF(D11:R11,"J") -> 0 | T11: =COUNTIF(D11:R11,"F") -> 0 | U11: =COUNTIF(D11:R11,"M") -> 0 | V11: =COUNTIF(D11:R11,"P") -> 0 | W11: =COUNTIF(D11:R11,"F") -> 0 | X11: =SUM(V11/(V11+W11)) -> #DIV/0! | AO11: =COUNTIF(Z11:AN11,"J") -> 0 | AP11: =COUNTIF(Z11:AN11,"F") -> 0 | AQ11: =COUNTIF(Z11:AN11,"M") -> 0 | AR11: =COUNTIF(Z11:AN11,"P") -> 0 | AS11: =COUNTIF(Z11:AN11,"F") -> 0 | AT11: =SUM(AR11/(AR11+AS11)) -> #DIV/0! | BK11: =COUNTIF(AV11:BJ11,"J") -> 0 | BL11: =COUNTIF(AV11:BJ11,"F") -> 0 | BM11: =COUNTIF(AV11:BJ11,"M") -> 0 | BN11: =COUNTIF(AV11:BJ11,"P") -> 0 | BO11: =COUNTIF(AV11:BJ11,"F") -> 0 | BP11: =SUM(BN11/(BN11+BO11)) -> #DIV/0! | CG11: =COUNTIF(BR11:CF11,"J") -> 0 | CH11: =COUNTIF(BR11:CF11,"F") -> 0 | CI11: =COUNTIF(BR11:CF11,"M") -> 0 | CJ11: =COUNTIF(BR11:CF11,"P") -> 0 | CK11: =COUNTIF(BR11:CF11,"F") -> 0 | CL11: =SUM(CJ11/(CJ11+CK11)) -> #DIV/0!
A12: =A11+1 -> 9 | S12: =COUNTIF(D12:R12,"J") -> 0 | T12: =COUNTIF(D12:R12,"F") -> 0 | U12: =COUNTIF(D12:R12,"M") -> 0 | V12: =COUNTIF(D12:R12,"P") -> 0 | W12: =COUNTIF(D12:R12,"F") -> 0 | X12: =SUM(V12/(V12+W12)) -> #DIV/0! | AO12: =COUNTIF(Z12:AN12,"J") -> 0 | AP12: =COUNTIF(Z12:AN12,"F") -> 0 | AQ12: =COUNTIF(Z12:AN12,"M") -> 0 | AR12: =COUNTIF(Z12:AN12,"P") -> 0 | AS12: =COUNTIF(Z12:AN12,"F") -> 0 | AT12: =SUM(AR12/(AR12+AS12)) -> #DIV/0! | BK12: =COUNTIF(AV12:BJ12,"J") -> 0 | BL12: =COUNTIF(AV12:BJ12,"F") -> 0 | BM12: =COUNTIF(AV12:BJ12,"M") -> 0 | BN12: =COUNTIF(AV12:BJ12,"P") -> 0 | BO12: =COUNTIF(AV12:BJ12,"F") -> 0 | BP12: =SUM(BN12/(BN12+BO12)) -> #DIV/0! | CG12: =COUNTIF(BR12:CF12,"J") -> 0 | CH12: =COUNTIF(BR12:CF12,"F") -> 0 | CI12: =COUNTIF(BR12:CF12,"M") -> 0 | CJ12: =COUNTIF(BR12:CF12,"P") -> 0 | CK12: =COUNTIF(BR12:CF12,"F") -> 0 | CL12: =SUM(CJ12/(CJ12+CK12)) -> #DIV/0!
A13: =A12+1 -> 10 | S13: =COUNTIF(D13:R13,"J") -> 0 | T13: =COUNTIF(D13:R13,"F") -> 0 | U13: =COUNTIF(D13:R13,"M") -> 0 | V13: =COUNTIF(D13:R13,"P") -> 0 | W13: =COUNTIF(D13:R13,"F") -> 0 | X13: =SUM(V13/(V13+W13)) -> #DIV/0! | AO13: =COUNTIF(Z13:AN13,"J") -> 0 | AP13: =COUNTIF(Z13:AN13,"F") -> 0 | AQ13: =COUNTIF(Z13:AN13,"M") -> 0 | AR13: =COUNTIF(Z13:AN13,"P") -> 0 | AS13: =COUNTIF(Z13:AN13,"F") -> 0 | AT13: =SUM(AR13/(AR13+AS13)) -> #DIV/0! | BK13: =COUNTIF(AV13:BJ13,"J") -> 0 | BL13: =COUNTIF(AV13:BJ13,"F") -> 0 | BM13: =COUNTIF(AV13:BJ13,"M") -> 0 | BN13: =COUNTIF(AV13:BJ13,"P") -> 0 | BO13: =COUNTIF(AV13:BJ13,"F") -> 0 | BP13: =SUM(BN13/(BN13+BO13)) -> #DIV/0! | CG13: =COUNTIF(BR13:CF13,"J") -> 0 | CH13: =COUNTIF(BR13:CF13,"F") -> 0 | CI13: =COUNTIF(BR13:CF13,"M") -> 0 | CJ13: =COUNTIF(BR13:CF13,"P") -> 0 | CK13: =COUNTIF(BR13:CF13,"F") -> 0 | CL13: =SUM(CJ13/(CJ13+CK13)) -> #DIV/0!
A14: =A13+1 -> 11 | S14: =COUNTIF(D14:R14,"J") -> 0 | T14: =COUNTIF(D14:R14,"F") -> 0 | U14: =COUNTIF(D14:R14,"M") -> 0 | V14: =COUNTIF(D14:R14,"P") -> 0 | W14: =COUNTIF(D14:R14,"F") -> 0 | X14: =SUM(V14/(V14+W14)) -> #DIV/0! | AO14: =COUNTIF(Z14:AN14,"J") -> 0 | AP14: =COUNTIF(Z14:AN14,"F") -> 0 | AQ14: =COUNTIF(Z14:AN14,"M") -> 0 | AR14: =COUNTIF(Z14:AN14,"P") -> 0 | AS14: =COUNTIF(Z14:AN14,"F") -> 0 | AT14: =SUM(AR14/(AR14+AS14)) -> #DIV/0! | BK14: =COUNTIF(AV14:BJ14,"J") -> 0 | BL14: =COUNTIF(AV14:BJ14,"F") -> 0 | BM14: =COUNTIF(AV14:BJ14,"M") -> 0 | BN14: =COUNTIF(AV14:BJ14,"P") -> 0 | BO14: =COUNTIF(AV14:BJ14,"F") -> 0 | BP14: =SUM(BN14/(BN14+BO14)) -> #DIV/0! | CG14: =COUNTIF(BR14:CF14,"J") -> 0 | CH14: =COUNTIF(BR14:CF14,"F") -> 0 | CI14: =COUNTIF(BR14:CF14,"M") -> 0 | CJ14: =COUNTIF(BR14:CF14,"P") -> 0 | CK14: =COUNTIF(BR14:CF14,"F") -> 0 | CL14: =SUM(CJ14/(CJ14+CK14)) -> #DIV/0!
A15: =A14+1 -> 12 | S15: =COUNTIF(D15:R15,"J") -> 0 | T15: =COUNTIF(D15:R15,"F") -> 0 | U15: =COUNTIF(D15:R15,"M") -> 0 | V15: =COUNTIF(D15:R15,"P") -> 0 | W15: =COUNTIF(D15:R15,"F") -> 0 | X15: =SUM(V15/(V15+W15)) -> #DIV/0! | AO15: =COUNTIF(Z15:AN15,"J") -> 0 | AP15: =COUNTIF(Z15:AN15,"F") -> 0 | AQ15: =COUNTIF(Z15:AN15,"M") -> 0 | AR15: =COUNTIF(Z15:AN15,"P") -> 0 | AS15: =COUNTIF(Z15:AN15,"F") -> 0 | AT15: =SUM(AR15/(AR15+AS15)) -> #DIV/0! | BK15: =COUNTIF(AV15:BJ15,"J") -> 0 | BL15: =COUNTIF(AV15:BJ15,"F") -> 0 | BM15: =COUNTIF(AV15:BJ15,"M") -> 0 | BN15: =COUNTIF(AV15:BJ15,"P") -> 0 | BO15: =COUNTIF(AV15:BJ15,"F") -> 0 | BP15: =SUM(BN15/(BN15+BO15)) -> #DIV/0! | CG15: =COUNTIF(BR15:CF15,"J") -> 0 | CH15: =COUNTIF(BR15:CF15,"F") -> 0 | CI15: =COUNTIF(BR15:CF15,"M") -> 0 | CJ15: =COUNTIF(BR15:CF15,"P") -> 0 | CK15: =COUNTIF(BR15:CF15,"F") -> 0 | CL15: =SUM(CJ15/(CJ15+CK15)) -> #DIV/0!
A16: =A15+1 -> 13 | S16: =COUNTIF(D16:R16,"J") -> 0 | T16: =COUNTIF(D16:R16,"F") -> 0 | U16: =COUNTIF(D16:R16,"M") -> 0 | V16: =COUNTIF(D16:R16,"P") -> 0 | W16: =COUNTIF(D16:R16,"F") -> 0 | X16: =SUM(V16/(V16+W16)) -> #DIV/0! | AO16: =COUNTIF(Z16:AN16,"J") -> 0 | AP16: =COUNTIF(Z16:AN16,"F") -> 0 | AQ16: =COUNTIF(Z16:AN16,"M") -> 0 | AR16: =COUNTIF(Z16:AN16,"P") -> 0 | AS16: =COUNTIF(Z16:AN16,"F") -> 0 | AT16: =SUM(AR16/(AR16+AS16)) -> #DIV/0! | BK16: =COUNTIF(AV16:BJ16,"J") -> 0 | BL16: =COUNTIF(AV16:BJ16,"F") -> 0 | BM16: =COUNTIF(AV16:BJ16,"M") -> 0 | BN16: =COUNTIF(AV16:BJ16,"P") -> 0 | BO16: =COUNTIF(AV16:BJ16,"F") -> 0 | BP16: =SUM(BN16/(BN16+BO16)) -> #DIV/0! | CG16: =COUNTIF(BR16:CF16,"J") -> 0 | CH16: =COUNTIF(BR16:CF16,"F") -> 0 | CI16: =COUNTIF(BR16:CF16,"M") -> 0 | CJ16: =COUNTIF(BR16:CF16,"P") -> 0 | CK16: =COUNTIF(BR16:CF16,"F") -> 0 | CL16: =SUM(CJ16/(CJ16+CK16)) -> #DIV/0!
A17: =A16+1 -> 14 | S17: =COUNTIF(D17:R17,"J") -> 0 | T17: =COUNTIF(D17:R17,"F") -> 0 | U17: =COUNTIF(D17:R17,"M") -> 0 | V17: =COUNTIF(D17:R17,"P") -> 0 | W17: =COUNTIF(D17:R17,"F") -> 0 | X17: =SUM(V17/(V17+W17)) -> #DIV/0! | AO17: =COUNTIF(Z17:AN17,"J") -> 0 | AP17: =COUNTIF(Z17:AN17,"F") -> 0 | AQ17: =COUNTIF(Z17:AN17,"M") -> 0 | AR17: =COUNTIF(Z17:AN17,"P") -> 0 | AS17: =COUNTIF(Z17:AN17,"F") -> 0 | AT17: =SUM(AR17/(AR17+AS17)) -> #DIV/0! | BK17: =COUNTIF(AV17:BJ17,"J") -> 0 | BL17: =COUNTIF(AV17:BJ17,"F") -> 0 | BM17: =COUNTIF(AV17:BJ17,"M") -> 0 | BN17: =COUNTIF(AV17:BJ17,"P") -> 0 | BO17: =COUNTIF(AV17:BJ17,"F") -> 0 | BP17: =SUM(BN17/(BN17+BO17)) -> #DIV/0! | CG17: =COUNTIF(BR17:CF17,"J") -> 0 | CH17: =COUNTIF(BR17:CF17,"F") -> 0 | CI17: =COUNTIF(BR17:CF17,"M") -> 0 | CJ17: =COUNTIF(BR17:CF17,"P") -> 0 | CK17: =COUNTIF(BR17:CF17,"F") -> 0 | CL17: =SUM(CJ17/(CJ17+CK17)) -> #DIV/0!
A18: =A17+1 -> 15 | S18: =COUNTIF(D18:R18,"J") -> 0 | T18: =COUNTIF(D18:R18,"F") -> 0 | U18: =COUNTIF(D18:R18,"M") -> 0 | V18: =COUNTIF(D18:R18,"P") -> 0 | W18: =COUNTIF(D18:R18,"F") -> 0 | X18: =SUM(V18/(V18+W18)) -> #DIV/0! | AO18: =COUNTIF(Z18:AN18,"J") -> 0 | AP18: =COUNTIF(Z18:AN18,"F") -> 0 | AQ18: =COUNTIF(Z18:AN18,"M") -> 0 | AR18: =COUNTIF(Z18:AN18,"P") -> 0 | AS18: =COUNTIF(Z18:AN18,"F") -> 0 | AT18: =SUM(AR18/(AR18+AS18)) -> #DIV/0! | BK18: =COUNTIF(AV18:BJ18,"J") -> 0 | BL18: =COUNTIF(AV18:BJ18,"F") -> 0 | BM18: =COUNTIF(AV18:BJ18,"M") -> 0 | BN18: =COUNTIF(AV18:BJ18,"P") -> 0 | BO18: =COUNTIF(AV18:BJ18,"F") -> 0 | BP18: =SUM(BN18/(BN18+BO18)) -> #DIV/0! | CG18: =COUNTIF(BR18:CF18,"J") -> 0 | CH18: =COUNTIF(BR18:CF18,"F") -> 0 | CI18: =COUNTIF(BR18:CF18,"M") -> 0 | CJ18: =COUNTIF(BR18:CF18,"P") -> 0 | CK18: =COUNTIF(BR18:CF18,"F") -> 0 | CL18: =SUM(CJ18/(CJ18+CK18)) -> #DIV/0!
A19: =A18+1 -> 16 | S19: =COUNTIF(D19:R19,"J") -> 0 | T19: =COUNTIF(D19:R19,"F") -> 0 | U19: =COUNTIF(D19:R19,"M") -> 0 | V19: =COUNTIF(D19:R19,"P") -> 0 | W19: =COUNTIF(D19:R19,"F") -> 0 | X19: =SUM(V19/(V19+W19)) -> #DIV/0! | AO19: =COUNTIF(Z19:AN19,"J") -> 0 | AP19: =COUNTIF(Z19:AN19,"F") -> 0 | AQ19: =COUNTIF(Z19:AN19,"M") -> 0 | AR19: =COUNTIF(Z19:AN19,"P") -> 0 | AS19: =COUNTIF(Z19:AN19,"F") -> 0 | AT19: =SUM(AR19/(AR19+AS19)) -> #DIV/0! | BK19: =COUNTIF(AV19:BJ19,"J") -> 0 | BL19: =COUNTIF(AV19:BJ19,"F") -> 0 | BM19: =COUNTIF(AV19:BJ19,"M") -> 0 | BN19: =COUNTIF(AV19:BJ19,"P") -> 0 | BO19: =COUNTIF(AV19:BJ19,"F") -> 0 | BP19: =SUM(BN19/(BN19+BO19)) -> #DIV/0! | CG19: =COUNTIF(BR19:CF19,"J") -> 0 | CH19: =COUNTIF(BR19:CF19,"F") -> 0 | CI19: =COUNTIF(BR19:CF19,"M") -> 0 | CJ19: =COUNTIF(BR19:CF19,"P") -> 0 | CK19: =COUNTIF(BR19:CF19,"F") -> 0 | CL19: =SUM(CJ19/(CJ19+CK19)) -> #DIV/0!
A20: =A19+1 -> 17 | S20: =COUNTIF(D20:R20,"J") -> 0 | T20: =COUNTIF(D20:R20,"F") -> 0 | U20: =COUNTIF(D20:R20,"M") -> 0 | V20: =COUNTIF(D20:R20,"P") -> 0 | W20: =COUNTIF(D20:R20,"F") -> 0 | X20: =SUM(V20/(V20+W20)) -> #DIV/0! | AO20: =COUNTIF(Z20:AN20,"J") -> 0 | AP20: =COUNTIF(Z20:AN20,"F") -> 0 | AQ20: =COUNTIF(Z20:AN20,"M") -> 0 | AR20: =COUNTIF(Z20:AN20,"P") -> 0 | AS20: =COUNTIF(Z20:AN20,"F") -> 0 | AT20: =SUM(AR20/(AR20+AS20)) -> #DIV/0! | BK20: =COUNTIF(AV20:BJ20,"J") -> 0 | BL20: =COUNTIF(AV20:BJ20,"F") -> 0 | BM20: =COUNTIF(AV20:BJ20,"M") -> 0 | BN20: =COUNTIF(AV20:BJ20,"P") -> 0 | BO20: =COUNTIF(AV20:BJ20,"F") -> 0 | BP20: =SUM(BN20/(BN20+BO20)) -> #DIV/0! | CG20: =COUNTIF(BR20:CF20,"J") -> 0 | CH20: =COUNTIF(BR20:CF20,"F") -> 0 | CI20: =COUNTIF(BR20:CF20,"M") -> 0 | CJ20: =COUNTIF(BR20:CF20,"P") -> 0 | CK20: =COUNTIF(BR20:CF20,"F") -> 0 | CL20: =SUM(CJ20/(CJ20+CK20)) -> #DIV/0!
... A63: =A62+1 -> 60 | S63: =COUNTIF(D63:R63,"J") -> 0 | T63: =COUNTIF(D63:R63,"F") -> 0 | U63: =COUNTIF(D63:R63,"M") -> 0 | V63: =COUNTIF(D63:R63,"P") -> 0 | W63: =COUNTIF(D63:R63,"F") -> 0 | X63: =SUM(V63/(V63+W63)) -> #DIV/0! | AO63: =COUNTIF(Z63:AN63,"J") -> 0 | AP63: =COUNTIF(Z63:AN63,"F") -> 0 | AQ63: =COUNTIF(Z63:AN63,"M") -> 0 | AR63: =COUNTIF(Z63:AN63,"P") -> 0 | AS63: =COUNTIF(Z63:AN63,"F") -> 0 | AT63: =SUM(AR63/(AR63+AS63)) -> #DIV/0! | BK63: =COUNTIF(AV63:BJ63,"J") -> 0 | BL63: =COUNTIF(AV63:BJ63,"F") -> 0 | BM63: =COUNTIF(AV63:BJ63,"M") -> 0 | BN63: =COUNTIF(AV63:BJ63,"P") -> 0 | BO63: =COUNTIF(AV63:BJ63,"F") -> 0 | BP63: =SUM(BN63/(BN63+BO63)) -> #DIV/0! | CG63: =COUNTIF(BR63:CF63,"J") -> 0 | CH63: =COUNTIF(BR63:CF63,"F") -> 0 | CI63: =COUNTIF(BR63:CF63,"M") -> 0 | CJ63: =COUNTIF(BR63:CF63,"P") -> 0 | CK63: =COUNTIF(BR63:CF63,"F") -> 0 | CL63: =SUM(CJ63/(CJ63+CK63)) -> #DIV/0!
C64: Alunos matriculados | D64: =COUNTA(D4:D63) -> 5 | E64: =COUNTA(E4:E63) -> 5 | F64: =COUNTA(F4:F63) -> 5 | G64: =COUNTA(G4:G63) -> 5 | H64: =COUNTA(H4:H63) -> 5 | I64: =COUNTA(I4:I63) -> 5 | J64: =COUNTA(J4:J63) -> 5 | K64: =COUNTA(K4:K63) -> 5 | ... R64: =COUNTA(R4:R63) -> 5 | Z64: =COUNTA(Z4:Z63) -> 5 | AA64: =COUNTA(AA4:AA63) -> 5 | AB64: =COUNTA(AB4:AB63) -> 5 | AC64: =COUNTA(AC4:AC63) -> 5 | AD64: =COUNTA(AD4:AD63) -> 5 | AE64: =COUNTA(AE4:AE63) -> 5 | AF64: =COUNTA(AF4:AF63) -> 5 | AG64: =COUNTA(AG4:AG63) -> 5 | ... AN64: =COUNTA(AN4:AN63) -> 5 | AV64: =COUNTA(AV4:AV63) -> 5 | AW64: =COUNTA(AW4:AW63) -> 5 | AX64: =COUNTA(AX4:AX63) -> 5 | AY64: =COUNTA(AY4:AY63) -> 5 | AZ64: =COUNTA(AZ4:AZ63) -> 5 | BA64: =COUNTA(BA4:BA63) -> 5 | BB64: =COUNTA(BB4:BB63) -> 5 | BC64: =COUNTA(BC4:BC63) -> 5 | ... BJ64: =COUNTA(BJ4:BJ63) -> 5 | BR64: =COUNTA(BR4:BR63) -> 5 | BS64: =COUNTA(BS4:BS63) -> 5 | BT64: =COUNTA(BT4:BT63) -> 5 | BU64: =COUNTA(BU4:BU63) -> 5 | BV64: =COUNTA(BV4:BV63) -> 5 | BW64: =COUNTA(BW4:BW63) -> 5 | BX64: =COUNTA(BX4:BX63) -> 5 | BY64: =COUNTA(BY4:BY63) -> 5 | ... CF64: =COUNTA(CF4:CF63) -> 5
C65: Ausentes | D65: =COUNTIF(D4:D63,"F") -> 0 | E65: =COUNTIF(E4:E63,"F") -> 2 | F65: =COUNTIF(F4:F63,"F") -> 4 | G65: =COUNTIF(G4:G63,"F") -> 4 | H65: =COUNTIF(H4:H63,"F") -> 2 | I65: =COUNTIF(I4:I63,"F") -> 1 | J65: =COUNTIF(J4:J63,"F") -> 1 | K65: =COUNTIF(K4:K63,"F") -> 1 | ... R65: =COUNTIF(R4:R63,"F") -> 2 | Z65: =COUNTIF(Z4:Z63,"F") -> 0 | AA65: =COUNTIF(AA4:AA63,"F") -> 2 | AB65: =COUNTIF(AB4:AB63,"F") -> 3 | AC65: =COUNTIF(AC4:AC63,"F") -> 3 | AD65: =COUNTIF(AD4:AD63,"F") -> 3 | AE65: =COUNTIF(AE4:AE63,"F") -> 1 | AF65: =COUNTIF(AF4:AF63,"F") -> 1 | AG65: =COUNTIF(AG4:AG63,"F") -> 1 | ... AN65: =COUNTIF(AN4:AN63,"F") -> 1 | AV65: =COUNTIF(AV4:AV63,"F") -> 0 | AW65: =COUNTIF(AW4:AW63,"F") -> 2 | AX65: =COUNTIF(AX4:AX63,"F") -> 3 | AY65: =COUNTIF(AY4:AY63,"F") -> 3 | AZ65: =COUNTIF(AZ4:AZ63,"F") -> 3 | BA65: =COUNTIF(BA4:BA63,"F") -> 1 | BB65: =COUNTIF(BB4:BB63,"F") -> 1 | BC65: =COUNTIF(BC4:BC63,"F") -> 1 | ... BJ65: =COUNTIF(BJ4:BJ63,"F") -> 3 | BR65: =COUNTIF(BR4:BR63,"F") -> 0 | BS65: =COUNTIF(BS4:BS63,"F") -> 2 | BT65: =COUNTIF(BT4:BT63,"F") -> 3 | BU65: =COUNTIF(BU4:BU63,"F") -> 3 | BV65: =COUNTIF(BV4:BV63,"F") -> 3 | BW65: =COUNTIF(BW4:BW63,"F") -> 1 | BX65: =COUNTIF(BX4:BX63,"F") -> 1 | BY65: =COUNTIF(BY4:BY63,"F") -> 1 | ... CF65: =COUNTIF(CF4:CF63,"F") -> 3
C66: Presentes | D66: =COUNTIF(D4:D63,"P") -> 5 | E66: =COUNTIF(E4:E63,"P") -> 2 | F66: =COUNTIF(F4:F63,"P") -> 1 | G66: =COUNTIF(G4:G63,"P") -> 1 | H66: =COUNTIF(H4:H63,"P") -> 3 | I66: =COUNTIF(I4:I63,"P") -> 4 | J66: =COUNTIF(J4:J63,"P") -> 4 | K66: =COUNTIF(K4:K63,"P") -> 4 | ... R66: =COUNTIF(R4:R63,"P") -> 3 | Z66: =COUNTIF(Z4:Z63,"P") -> 5 | AA66: =COUNTIF(AA4:AA63,"P") -> 3 | AB66: =COUNTIF(AB4:AB63,"P") -> 2 | AC66: =COUNTIF(AC4:AC63,"P") -> 2 | AD66: =COUNTIF(AD4:AD63,"P") -> 2 | AE66: =COUNTIF(AE4:AE63,"P") -> 4 | AF66: =COUNTIF(AF4:AF63,"P") -> 4 | AG66: =COUNTIF(AG4:AG63,"P") -> 4 | ... AN66: =COUNTIF(AN4:AN63,"P") -> 4 | AV66: =COUNTIF(AV4:AV63,"P") -> 5 | AW66: =COUNTIF(AW4:AW63,"P") -> 3 | AX66: =COUNTIF(AX4:AX63,"P") -> 2 | AY66: =COUNTIF(AY4:AY63,"P") -> 2 | AZ66: =COUNTIF(AZ4:AZ63,"P") -> 2 | BA66: =COUNTIF(BA4:BA63,"P") -> 4 | BB66: =COUNTIF(BB4:BB63,"P") -> 4 | BC66: =COUNTIF(BC4:BC63,"P") -> 4 | ... BJ66: =COUNTIF(BJ4:BJ63,"P") -> 2 | BR66: =COUNTIF(BR4:BR63,"P") -> 5 | BS66: =COUNTIF(BS4:BS63,"P") -> 3 | BT66: =COUNTIF(BT4:BT63,"P") -> 2 | BU66: =COUNTIF(BU4:BU63,"P") -> 2 | BV66: =COUNTIF(BV4:BV63,"P") -> 2 | BW66: =COUNTIF(BW4:BW63,"P") -> 4 | BX66: =COUNTIF(BX4:BX63,"P") -> 4 | BY66: =COUNTIF(BY4:BY63,"P") -> 4 | ... CF66: =COUNTIF(CF4:CF63,"P") -> 2
C67: Visitantes | D67: 8 | E67: 6 | F67: 6 | G67: 0 | H67: 6 | I67: 5 | Z67: 8 | AA67: 6 | AB67: 6 | AC67: 0 | AD67: 6 | AE67: 5 | AV67: 8 | AW67: 6 | AX67: 6 | AY67: 0 | AZ67: 6 | BA67: 5 | BR67: 8 | BS67: 6 | BT67: 6 | BU67: 0 | BV67: 6 | BW67: 5
C68: Total de Assistencia | D68: =D66+D67 -> 13 | E68: =E66+E67 -> 8 | F68: =F66+F67 -> 7 | G68: =G66+G67 -> 1 | H68: =H66+H67 -> 9 | I68: =I66+I67 -> 9 | J68: =J66+J67 -> 4 | K68: =K66+K67 -> 4 | ... R68: =R66+R67 -> 3 | Z68: =Z66+Z67 -> 13 | AA68: =AA66+AA67 -> 9 | AB68: =AB66+AB67 -> 8 | AC68: =AC66+AC67 -> 2 | AD68: =AD66+AD67 -> 8 | AE68: =AE66+AE67 -> 9 | AF68: =AF66+AF67 -> 4 | AG68: =AG66+AG67 -> 4 | ... AN68: =AN66+AN67 -> 4 | AV68: =AV66+AV67 -> 13 | AW68: =AW66+AW67 -> 9 | AX68: =AX66+AX67 -> 8 | AY68: =AY66+AY67 -> 2 | AZ68: =AZ66+AZ67 -> 8 | BA68: =BA66+BA67 -> 9 | BB68: =BB66+BB67 -> 4 | BC68: =BC66+BC67 -> 4 | ... BJ68: =BJ66+BJ67 -> 2 | BR68: =BR66+BR67 -> 13 | BS68: =BS66+BS67 -> 9 | BT68: =BT66+BT67 -> 8 | BU68: =BU66+BU67 -> 2 | BV68: =BV66+BV67 -> 8 | BW68: =BW66+BW67 -> 9 | BX68: =BX66+BX67 -> 4 | BY68: =BY66+BY67 -> 4 | ... CF68: =CF66+CF67 -> 2
C69: Bíblias | D69: 30 | E69: 27 | F69: 27 | G69: 0 | H69: 26 | I69: 39 | Z69: 30 | AA69: 27 | AB69: 27 | AC69: 0 | AD69: 26 | AE69: 39 | AV69: 30 | AW69: 27 | AX69: 27 | AY69: 0 | AZ69: 26 | BA69: 39 | BR69: 30 | BS69: 27 | BT69: 27 | BU69: 0 | BV69: 26 | BW69: 39
C70: Revistas | D70: 30 | E70: 25 | F70: 27 | G70: 0 | H70: 20 | I70: 30 | Z70: 30 | AA70: 25 | AB70: 27 | AC70: 0 | AD70: 20 | AE70: 30 | AV70: 30 | AW70: 25 | AX70: 27 | AY70: 0 | AZ70: 20 | BA70: 30 | BR70: 30 | BS70: 25 | BT70: 27 | BU70: 0 | BV70: 20 | BW70: 30
C71: Oferta | D71: 0 | E71: 0 | F71: 0 | G71: 0 | H71: 0 | I71: 0 | Z71: 0 | AA71: 0 | AB71: 0 | AC71: 0 | AD71: 0 | AE71: 0 | AV71: 0 | AW71: 0 | AX71: 0 | AY71: 0 | AZ71: 0 | BA71: 0 | BR71: 0 | BS71: 0 | BT71: 0 | BU71: 0 | BV71: 0 | BW71: 0
C74: MÉDIA GERAL DE ASSISTENCIA | D74: =D79 -> 0.48 | I74: =I79 -> 0.72 | N74: =N79 -> 0.76 | Z74: =Z79 -> 0.56 | AE74: =AE79 -> 0.8 | AJ74: =AJ79 -> 0.8 | AV74: =AV79 -> 0.56 | BA74: =BA79 -> 0.72 | BF74: =BF79 -> 0.72 | BR74: =BR79 -> 0.56 | BW74: =BW79 -> 0.72 | CB74: =CB79 -> 0.72
C77: Matriculados | D77: =SUM(D64:H64) -> 25 | I77: =SUM(I64:M64) -> 25 | N77: =SUM(N64:R64) -> 25 | Z77: =SUM(Z64:AD64) -> 25 | AE77: =SUM(AE64:AI64) -> 25 | AJ77: =SUM(AJ64:AN64) -> 25 | AV77: =SUM(AV64:AZ64) -> 25 | BA77: =SUM(BA64:BE64) -> 25 | BF77: =SUM(BF64:BJ64) -> 25 | BR77: =SUM(BR64:BV64) -> 25 | BW77: =SUM(BW64:CA64) -> 25 | CB77: =SUM(CB64:CF64) -> 25
C78: Presenças | D78: =SUM(D66:H66) -> 12 | I78: =SUM(I66:M66) -> 18 | N78: =SUM(N66:R66) -> 19 | Z78: =SUM(Z66:AD66) -> 14 | AE78: =SUM(AE66:AI66) -> 20 | AJ78: =SUM(AJ66:AN66) -> 20 | AV78: =SUM(AV66:AZ66) -> 14 | BA78: =SUM(BA66:BE66) -> 18 | BF78: =SUM(BF66:BJ66) -> 18 | BR78: =SUM(BR66:BV66) -> 14 | BW78: =SUM(BW66:CA66) -> 18 | CB78: =SUM(CB66:CF66) -> 18
C79: Percetual de pres. | D79: =D78/D77 -> 0.48 | I79: =I78/I77 -> 0.72 | N79: =N78/N77 -> 0.76 | Z79: =Z78/Z77 -> 0.56 | AE79: =AE78/AE77 -> 0.8 | AJ79: =AJ78/AJ77 -> 0.8 | AV79: =AV78/AV77 -> 0.56 | BA79: =BA78/BA77 -> 0.72 | BF79: =BF78/BF77 -> 0.72 | BR79: =BR78/BR77 -> 0.56 | BW79: =BW78/BW77 -> 0.72 | CB79: =CB78/CB77 -> 0.72

Sheet CLASSE 4
A1: NOME DA CLASSE: | C1: CLASSE 4 | Z1: =$C$1 -> CLASSE 4 | AV1: =$C$1 -> CLASSE 4 | BR1: =$C$1 -> CLASSE 4
A2: Nº | B2: ALUNO | C2: OBSERVAÇÕES | D2: JANEIRO | I2: FEVEREIRO | N2: MARÇO | S2: Frequencia do Trimestre | Z2: ABRIL | AE2: MAIO | AJ2: JUNHO | AO2: Frequencia do Trimestre | AV2: JULHO | BA2: AGOSTO | BF2: SETEMBRO | BK2: Frequencia do Trimestre | BR2: OUTUBRO | BW2: NOVEMBRO | CB2: DEZEMBRO | CG2: Frequencia do Trimestre
D3: 1º | E3: 2º | F3: 3º | G3: 4º | H3: 5º | I3: 1º | J3: 2º | K3: 3º | L3: 4º | M3: 5º | N3: 1º | O3: 2º | P3: 3º | Q3: 4º | R3: 5º | S3: J | T3: F | U3: M | V3: P | W3: F | X3: Frequencia % | Z3: 1º | AA3: 2º | AB3: 3º | AC3: 4º | AD3: 5º | AE3: 1º | AF3: 2º | AG3: 3º | AH3: 4º | AI3: 5º | AJ3: 1º | AK3: 2º | AL3: 3º | AM3: 4º | AN3: 5º | AO3: J | AP3: F | AQ3: M | AR3: P | AS3: F | AT3: Frequencia % | AV3: 1º | AW3: 2º | AX3: 3º | AY3: 4º | AZ3: 5º | BA3: 1º | BB3: 2º | BC3: 3º | BD3: 4º | BE3: 5º | BF3: 1º | BG3: 2º | BH3: 3º | BI3: 4º | BJ3: 5º | BK3: J | BL3: F | BM3: M | BN3: P | BO3: F | BP3: Frequencia % | BR3: 1º | BS3: 2º | BT3: 3º | BU3: 4º | BV3: 5º | BW3: 1º | BX3: 2º | BY3: 3º | BZ3: 4º | CA3: 5º | CB3: 1º | CC3: 2º | CD3: 3º | CE3: 4º | CF3: 5º | CG3: J | CH3: F | CI3: M | CJ3: P | CK3: F | CL3: Frequencia %
A4: 1 | B4: ALUNO 1 | D4: P | E4: J | F4: F | G4: F | H4: P | I4: P | J4: P | K4: P | L4: F | M4: P | N4: P | O4: P | P4: P | Q4: P | R4: P | S4: =COUNTIF(D4:R4,"J") -> 1 | T4: =COUNTIF(D4:R4,"F") -> 3 | U4: =COUNTIF(D4:R4,"M") -> 0 | V4: =COUNTIF(D4:R4,"P") -> 11 | W4: =COUNTIF(D4:R4,"F") -> 3 | X4: =SUM(V4/(V4+W4)) -> 0.78571429 | Z4: P | AA4: P | AB4: P | AC4: P | AD4: F | AE4: P | AF4: P | AG4: P | AH4: P | AI4: P | AJ4: P | AK4: P | AL4: P | AM4: P | AN4: P | AO4: =COUNTIF(Z4:AN4,"J") -> 0 | AP4: =COUNTIF(Z4:AN4,"F") -> 1 | AQ4: =COUNTIF(Z4:AN4,"M") -> 0 | AR4: =COUNTIF(Z4:AN4,"P") -> 14 | AS4: =COUNTIF(Z4:AN4,"F") -> 1 | AT4: =SUM(AR4/(AR4+AS4)) -> 0.93333333 | AV4: P | AW4: P | AX4: P | AY4: P | AZ4: F | BA4: P | BB4: P | BC4: P | BD4: P | BE4: F | BF4: P | BG4: P | BH4: P | BI4: P | BJ4: F | BK4: =COUNTIF(AV4:BJ4,"J") -> 0 | BL4: =COUNTIF(AV4:BJ4,"F") -> 3 | BM4: =COUNTIF(AV4:BJ4,"M") -> 0 | BN4: =COUNTIF(AV4:BJ4,"P") -> 12 | BO4: =COUNTIF(AV4:BJ4,"F") -> 3 | BP4: =SUM(BN4/(BN4+BO4)) -> 0.8 | BR4: P | BS4: P | BT4: P | BU4: P | BV4: F | BW4: P | BX4: P | BY4: P | BZ4: P | CA4: F | CB4: P | CC4: P | CD4: P | CE4: P | CF4: F | CG4: =COUNTIF(BR4:CF4,"J") -> 0 | CH4: =COUNTIF(BR4:CF4,"F") -> 3 | CI4: =COUNTIF(BR4:CF4,"M") -> 0 | CJ4: =COUNTIF(BR4:CF4,"P") -> 12 | CK4: =COUNTIF(BR4:CF4,"F") -> 3 | CL4: =SUM(CJ4/(CJ4+CK4)) -> 0.8
A5: =A4+1 -> 2 | B5: ALUNO 2 | D5: P | E5: P | F5: F | G5: F | H5: F | I5: F | J5: F | K5: F | L5: F | M5: F | N5: F | O5: F | P5: F | Q5: F | R5: F | S5: =COUNTIF(D5:R5,"J") -> 0 | T5: =COUNTIF(D5:R5,"F") -> 13 | U5: =COUNTIF(D5:R5,"M") -> 0 | V5: =COUNTIF(D5:R5,"P") -> 2 | W5: =COUNTIF(D5:R5,"F") -> 13 | X5: =SUM(V5/(V5+W5)) -> 0.13333333 | Z5: P | AA5: P | AB5: F | AC5: F | AD5: F | AE5: F | AF5: F | AG5: F | AH5: F | AI5: F | AJ5: F | AK5: F | AL5: F | AM5: F | AN5: F | AO5: =COUNTIF(Z5:AN5,"J") -> 0 | AP5: =COUNTIF(Z5:AN5,"F") -> 13 | AQ5: =COUNTIF(Z5:AN5,"M") -> 0 | AR5: =COUNTIF(Z5:AN5,"P") -> 2 | AS5: =COUNTIF(Z5:AN5,"F") -> 13 | AT5: =SUM(AR5/(AR5+AS5)) -> 0.13333333 | AV5: P | AW5: P | AX5: F | AY5: F | AZ5: F | BA5: F | BB5: F | BC5: F | BD5: F | BE5: F | BF5: F | BG5: F | BH5: F | BI5: F | BJ5: F | BK5: =COUNTIF(AV5:BJ5,"J") -> 0 | BL5: =COUNTIF(AV5:BJ5,"F") -> 13 | BM5: =COUNTIF(AV5:BJ5,"M") -> 0 | BN5: =COUNTIF(AV5:BJ5,"P") -> 2 | BO5: =COUNTIF(AV5:BJ5,"F") -> 13 | BP5: =SUM(BN5/(BN5+BO5)) -> 0.13333333 | BR5: P | BS5: P | BT5: F | BU5: F | BV5: F | BW5: F | BX5: F | BY5: F | BZ5: F | CA5: F | CB5: F | CC5: F | CD5: F | CE5: F | CF5: F | CG5: =COUNTIF(BR5:CF5,"J") -> 0 | CH5: =COUNTIF(BR5:CF5,"F") -> 13 | CI5: =COUNTIF(BR5:CF5,"M") -> 0 | CJ5: =COUNTIF(BR5:CF5,"P") -> 2 | CK5: =COUNTIF(BR5:CF5,"F") -> 13 | CL5: =SUM(CJ5/(CJ5+CK5)) -> 0.13333333
A6: =A5+1 -> 3 | B6: ALUNO 3 | D6: P | E6: P | F6: F | G6: F | H6: P | I6: P | J6: P | K6: P | L6: P | M6: P | N6: P | O6: P | P6: P | Q6: P | R6: P | S6: =COUNTIF(D6:R6,"J") -> 0 | T6: =COUNTIF(D6:R6,"F") -> 2 | U6: =COUNTIF(D6:R6,"M") -> 0 | V6: =COUNTIF(D6:R6,"P") -> 13 | W6: =COUNTIF(D6:R6,"F") -> 2 | X6: =SUM(V6/(V6+W6)) -> 0.86666667 | Z6: P | AA6: P | AB6: F | AC6: F | AD6: P | AE6: P | AF6: P | AG6: P | AH6: P | AI6: P | AJ6: P | AK6: P | AL6: P | AM6: P | AN6: P | AO6: =COUNTIF(Z6:AN6,"J") -> 0 | AP6: =COUNTIF(Z6:AN6,"F") -> 2 | AQ6: =COUNTIF(Z6:AN6,"M") -> 0 | AR6: =COUNTIF(Z6:AN6,"P") -> 13 | AS6: =COUNTIF(Z6:AN6,"F") -> 2 | AT6: =SUM(AR6/(AR6+AS6)) -> 0.86666667 | AV6: P | AW6: P | AX6: F | AY6: F | AZ6: P | BA6: P | BB6: P | BC6: P | BD6: P | BE6: P | BF6: P | BG6: P | BH6: P | BI6: P | BJ6: P | BK6: =COUNTIF(AV6:BJ6,"J") -> 0 | BL6: =COUNTIF(AV6:BJ6,"F") -> 2 | BM6: =COUNTIF(AV6:BJ6,"M") -> 0 | BN6: =COUNTIF(AV6:BJ6,"P") -> 13 | BO6: =COUNTIF(AV6:BJ6,"F") -> 2 | BP6: =SUM(BN6/(BN6+BO6)) -> 0.86666667 | BR6: P | BS6: P | BT6: F | BU6: F | BV6: P | BW6: P | BX6: P | BY6: P | BZ6: P | CA6: P | CB6: P | CC6: P | CD6: P | CE6: P | CF6: P | CG6: =COUNTIF(BR6:CF6,"J") -> 0 | CH6: =COUNTIF(BR6:CF6,"F") -> 2 | CI6: =COUNTIF(BR6:CF6,"M") -> 0 | CJ6: =COUNTIF(BR6:CF6,"P") -> 13 | CK6: =COUNTIF(BR6:CF6,"F") -> 2 | CL6: =SUM(CJ6/(CJ6+CK6)) -> 0.86666667
A7: =A6+1 -> 4 | B7: ALUNO 4 | D7: P | E7: F | F7: F | G7: F | H7: F | I7: P | J7: P | K7: P | L7: P | M7: F | N7: P | O7: P | P7: P | Q7: P | R7: F | S7: =COUNTIF(D7:R7,"J") -> 0 | T7: =COUNTIF(D7:R7,"F") -> 6 | U7: =COUNTIF(D7:R7,"M") -> 0 | V7: =COUNTIF(D7:R7,"P") -> 9 | W7: =COUNTIF(D7:R7,"F") -> 6 | X7: =SUM(V7/(V7+W7)) -> 0.6 | Z7: P | AA7: F | AB7: F | AC7: F | AD7: F | AE7: P | AF7: P | AG7: P | AH7: P | AI7: P | AJ7: P | AK7: P | AL7: P | AM7: P | AN7: P | AO7: =COUNTIF(Z7:AN7,"J") -> 0 | AP7: =COUNTIF(Z7:AN7,"F") -> 4 | AQ7: =COUNTIF(Z7:AN7,"M") -> 0 | AR7: =COUNTIF(Z7:AN7,"P") -> 11 | AS7: =COUNTIF(Z7:AN7,"F") -> 4 | AT7: =SUM(AR7/(AR7+AS7)) -> 0.73333333 | AV7: P | AW7: F | AX7: F | AY7: F | AZ7: F | BA7: P | BB7: P | BC7: P | BD7: P | BE7: F | BF7: P | BG7: P | BH7: P | BI7: P | BJ7: F | BK7: =COUNTIF(AV7:BJ7,"J") -> 0 | BL7: =COUNTIF(AV7:BJ7,"F") -> 6 | BM7: =COUNTIF(AV7:BJ7,"M") -> 0 | BN7: =COUNTIF(AV7:BJ7,"P") -> 9 | BO7: =COUNTIF(AV7:BJ7,"F") -> 6 | BP7: =SUM(BN7/(BN7+BO7)) -> 0.6 | BR7: P | BS7: F | BT7: F | BU7: F | BV7: F | BW7: P | BX7: P | BY7: P | BZ7: P | CA7: F | CB7: P | CC7: P | CD7: P | CE7: P | CF7: F | CG7: =COUNTIF(BR7:CF7,"J") -> 0 | CH7: =COUNTIF(BR7:CF7,"F") -> 6 | CI7: =COUNTIF(BR7:CF7,"M") -> 0 | CJ7: =COUNTIF(BR7:CF7,"P") -> 9 | CK7: =COUNTIF(BR7:CF7,"F") -> 6 | CL7: =SUM(CJ7/(CJ7+CK7)) -> 0.6
A8: =A7+1 -> 5 | B8: ALUNO 5 | D8: P | E8: F | F8: P | G8: P | H8: P | I8: P | J8: P | K8: P | L8: P | M8: P | N8: P | O8: P | P8: P | Q8: P | R8: P | S8: =COUNTIF(D8:R8,"J") -> 0 | T8: =COUNTIF(D8:R8,"F") -> 1 | U8: =COUNTIF(D8:R8,"M") -> 0 | V8: =COUNTIF(D8:R8,"P") -> 14 | W8: =COUNTIF(D8:R8,"F") -> 1 | X8: =SUM(V8/(V8+W8)) -> 0.93333333 | Z8: P | AA8: F | AB8: P | AC8: P | AD8: P | AE8: P | AF8: P | AG8: P | AH8: P | AI8: P | AJ8: P | AK8: P | AL8: P | AM8: P | AN8: P | AO8: =COUNTIF(Z8:AN8,"J") -> 0 | AP8: =COUNTIF(Z8:AN8,"F") -> 1 | AQ8: =COUNTIF(Z8:AN8,"M") -> 0 | AR8: =COUNTIF(Z8:AN8,"P") -> 14 | AS8: =COUNTIF(Z8:AN8,"F") -> 1 | AT8: =SUM(AR8/(AR8+AS8)) -> 0.93333333 | AV8: P | AW8: F | AX8: P | AY8: P | AZ8: P | BA8: P | BB8: P | BC8: P | BD8: P | BE8: P | BF8: P | BG8: P | BH8: P | BI8: P | BJ8: P | BK8: =COUNTIF(AV8:BJ8,"J") -> 0 | BL8: =COUNTIF(AV8:BJ8,"F") -> 1 | BM8: =COUNTIF(AV8:BJ8,"M") -> 0 | BN8: =COUNTIF(AV8:BJ8,"P") -> 14 | BO8: =COUNTIF(AV8:BJ8,"F") -> 1 | BP8: =SUM(BN8/(BN8+BO8)) -> 0.93333333 | BR8: P | BS8: F | BT8: P | BU8: P | BV8: P | BW8: P | BX8: P | BY8: P | BZ8: P | CA8: P | CB8: P | CC8: P | CD8: P | CE8: P | CF8: P | CG8: =COUNTIF(BR8:CF8,"J") -> 0 | CH8: =COUNTIF(BR8:CF8,"F") -> 1 | CI8: =COUNTIF(BR8:CF8,"M") -> 0 | CJ8: =COUNTIF(BR8:CF8,"P") -> 14 | CK8: =COUNTIF(BR8:CF8,"F") -> 1 | CL8: =SUM(CJ8/(CJ8+CK8)) -> 0.93333333
A9: =A8+1 -> 6 | S9: =COUNTIF(D9:R9,"J") -> 0 | T9: =COUNTIF(D9:R9,"F") -> 0 | U9: =COUNTIF(D9:R9,"M") -> 0 | V9: =COUNTIF(D9:R9,"P") -> 0 | W9: =COUNTIF(D9:R9,"F") -> 0 | X9: =SUM(V9/(V9+W9)) -> #DIV/0! | AO9: =COUNTIF(Z9:AN9,"J") -> 0 | AP9: =COUNTIF(Z9:AN9,"F") -> 0 | AQ9: =COUNTIF(Z9:AN9,"M") -> 0 | AR9: =COUNTIF(Z9:AN9,"P") -> 0 | AS9: =COUNTIF(Z9:AN9,"F") -> 0 | AT9: =SUM(AR9/(AR9+AS9)) -> #DIV/0! | BK9: =COUNTIF(AV9:BJ9,"J") -> 0 | BL9: =COUNTIF(AV9:BJ9,"F") -> 0 | BM9: =COUNTIF(AV9:BJ9,"M") -> 0 | BN9: =COUNTIF(AV9:BJ9,"P") -> 0 | BO9: =COUNTIF(AV9:BJ9,"F") -> 0 | BP9: =SUM(BN9/(BN9+BO9)) -> #DIV/0! | CG9: =COUNTIF(BR9:CF9,"J") -> 0 | CH9: =COUNTIF(BR9:CF9,"F") -> 0 | CI9: =COUNTIF(BR9:CF9,"M") -> 0 | CJ9: =COUNTIF(BR9:CF9,"P") -> 0 | CK9: =COUNTIF(BR9:CF9,"F") -> 0 | CL9: =SUM(CJ9/(CJ9+CK9)) -> #DIV/0!
A10: =A9+1 -> 7 | S10: =COUNTIF(D10:R10,"J") -> 0 | T10: =COUNTIF(D10:R10,"F") -> 0 | U10: =COUNTIF(D10:R10,"M") -> 0 | V10: =COUNTIF(D10:R10,"P") -> 0 | W10: =COUNTIF(D10:R10,"F") -> 0 | X10: =SUM(V10/(V10+W10)) -> #DIV/0! | AO10: =COUNTIF(Z10:AN10,"J") -> 0 | AP10: =COUNTIF(Z10:AN10,"F") -> 0 | AQ10: =COUNTIF(Z10:AN10,"M") -> 0 | AR10: =COUNTIF(Z10:AN10,"P") -> 0 | AS10: =COUNTIF(Z10:AN10,"F") -> 0 | AT10: =SUM(AR10/(AR10+AS10)) -> #DIV/0! | BK10: =COUNTIF(AV10:BJ10,"J") -> 0 | BL10: =COUNTIF(AV10:BJ10,"F") -> 0 | BM10: =COUNTIF(AV10:BJ10,"M") -> 0 | BN10: =COUNTIF(AV10:BJ10,"P") -> 0 | BO10: =COUNTIF(AV10:BJ10,"F") -> 0 | BP10: =SUM(BN10/(BN10+BO10)) -> #DIV/0! | CG10: =COUNTIF(BR10:CF10,"J") -> 0 | CH10: =COUNTIF(BR10:CF10,"F") -> 0 | CI10: =COUNTIF(BR10:CF10,"M") -> 0 | CJ10: =COUNTIF(BR10:CF10,"P") -> 0 | CK10: =COUNTIF(BR10:CF10,"F") -> 0 | CL10: =SUM(CJ10/(CJ10+CK10)) -> #DIV/0!
A11: =A10+1 -> 8 | S11: =COUNTIF(D11:R11,"J") -> 0 | T11: =COUNTIF(D11:R11,"F") -> 0 | U11: =COUNTIF(D11:R11,"M") -> 0 | V11: =COUNTIF(D11:R11,"P") -> 0 | W11: =COUNTIF(D11:R11,"F") -> 0 | X11: =SUM(V11/(V11+W11)) -> #DIV/0! | AO11: =COUNTIF(Z11:AN11,"J") -> 0 | AP11: =COUNTIF(Z11:AN11,"F") -> 0 | AQ11: =COUNTIF(Z11:AN11,"M") -> 0 | AR11: =COUNTIF(Z11:AN11,"P") -> 0 | AS11: =COUNTIF(Z11:AN11,"F") -> 0 | AT11: =SUM(AR11/(AR11+AS11)) -> #DIV/0! | BK11: =COUNTIF(AV11:BJ11,"J") -> 0 | BL11: =COUNTIF(AV11:BJ11,"F") -> 0 | BM11: =COUNTIF(AV11:BJ11,"M") -> 0 | BN11: =COUNTIF(AV11:BJ11,"P") -> 0 | BO11: =COUNTIF(AV11:BJ11,"F") -> 0 | BP11: =SUM(BN11/(BN11+BO11)) -> #DIV/0! | CG11: =COUNTIF(BR11:CF11,"J") -> 0 | CH11: =COUNTIF(BR11:CF11,"F") -> 0 | CI11: =COUNTIF(BR11:CF11,"M") -> 0 | CJ11: =COUNTIF(BR11:CF11,"P") -> 0 | CK11: =COUNTIF(BR11:CF11,"F") -> 0 | CL11: =SUM(CJ11/(CJ11+CK11)) -> #DIV/0!
A12: =A11+1 -> 9 | S12: =COUNTIF(D12:R12,"J") -> 0 | T12: =COUNTIF(D12:R12,"F") -> 0 | U12: =COUNTIF(D12:R12,"M") -> 0 | V12: =COUNTIF(D12:R12,"P") -> 0 | W12: =COUNTIF(D12:R12,"F") -> 0 | X12: =SUM(V12/(V12+W12)) -> #DIV/0! | AO12: =COUNTIF(Z12:AN12,"J") -> 0 | AP12: =COUNTIF(Z12:AN12,"F") -> 0 | AQ12: =COUNTIF(Z12:AN12,"M") -> 0 | AR12: =COUNTIF(Z12:AN12,"P") -> 0 | AS12: =COUNTIF(Z12:AN12,"F") -> 0 | AT12: =SUM(AR12/(AR12+AS12)) -> #DIV/0! | BK12: =COUNTIF(AV12:BJ12,"J") -> 0 | BL12: =COUNTIF(AV12:BJ12,"F") -> 0 | BM12: =COUNTIF(AV12:BJ12,"M") -> 0 | BN12: =COUNTIF(AV12:BJ12,"P") -> 0 | BO12: =COUNTIF(AV12:BJ12,"F") -> 0 | BP12: =SUM(BN12/(BN12+BO12)) -> #DIV/0! | CG12: =COUNTIF(BR12:CF12,"J") -> 0 | CH12: =COUNTIF(BR12:CF12,"F") -> 0 | CI12: =COUNTIF(BR12:CF12,"M") -> 0 | CJ12: =COUNTIF(BR12:CF12,"P") -> 0 | CK12: =COUNTIF(BR12:CF12,"F") -> 0 | CL12: =SUM(CJ12/(CJ12+CK12)) -> #DIV/0!
A13: =A12+1 -> 10 | S13: =COUNTIF(D13:R13,"J") -> 0 | T13: =COUNTIF(D13:R13,"F") -> 0 | U13: =COUNTIF(D13:R13,"M") -> 0 | V13: =COUNTIF(D13:R13,"P") -> 0 | W13: =COUNTIF(D13:R13,"F") -> 0 | X13: =SUM(V13/(V13+W13)) -> #DIV/0! | AO13: =COUNTIF(Z13:AN13,"J") -> 0 | AP13: =COUNTIF(Z13:AN13,"F") -> 0 | AQ13: =COUNTIF(Z13:AN13,"M") -> 0 | AR13: =COUNTIF(Z13:AN13,"P") -> 0 | AS13: =COUNTIF(Z13:AN13,"F") -> 0 | AT13: =SUM(AR13/(AR13+AS13)) -> #DIV/0! | BK13: =COUNTIF(AV13:BJ13,"J") -> 0 | BL13: =COUNTIF(AV13:BJ13,"F") -> 0 | BM13: =COUNTIF(AV13:BJ13,"M") -> 0 | BN13: =COUNTIF(AV13:BJ13,"P") -> 0 | BO13: =COUNTIF(AV13:BJ13,"F") -> 0 | BP13: =SUM(BN13/(BN13+BO13)) -> #DIV/0! | CG13: =COUNTIF(BR13:CF13,"J") -> 0 | CH13: =COUNTIF(BR13:CF13,"F") -> 0 | CI13: =COUNTIF(BR13:CF13,"M") -> 0 | CJ13: =COUNTIF(BR13:CF13,"P") -> 0 | CK13: =COUNTIF(BR13:CF13,"F") -> 0 | CL13: =SUM(CJ13/(CJ13+CK13)) -> #DIV/0!
A14: =A13+1 -> 11 | S14: =COUNTIF(D14:R14,"J") -> 0 | T14: =COUNTIF(D14:R14,"F") -> 0 | U14: =COUNTIF(D14:R14,"M") -> 0 | V14: =COUNTIF(D14:R14,"P") -> 0 | W14: =COUNTIF(D14:R14,"F") -> 0 | X14: =SUM(V14/(V14+W14)) -> #DIV/0! | AO14: =COUNTIF(Z14:AN14,"J") -> 0 | AP14: =COUNTIF(Z14:AN14,"F") -> 0 | AQ14: =COUNTIF(Z14:AN14,"M") -> 0 | AR14: =COUNTIF(Z14:AN14,"P") -> 0 | AS14: =COUNTIF(Z14:AN14,"F") -> 0 | AT14: =SUM(AR14/(AR14+AS14)) -> #DIV/0! | BK14: =COUNTIF(AV14:BJ14,"J") -> 0 | BL14: =COUNTIF(AV14:BJ14,"F") -> 0 | BM14: =COUNTIF(AV14:BJ14,"M") -> 0 | BN14: =COUNTIF(AV14:BJ14,"P") -> 0 | BO14: =COUNTIF(AV14:BJ14,"F") -> 0 | BP14: =SUM(BN14/(BN14+BO14)) -> #DIV/0! | CG14: =COUNTIF(BR14:CF14,"J") -> 0 | CH14: =COUNTIF(BR14:CF14,"F") -> 0 | CI14: =COUNTIF(BR14:CF14,"M") -> 0 | CJ14: =COUNTIF(BR14:CF14,"P") -> 0 | CK14: =COUNTIF(BR14:CF14,"F") -> 0 | CL14: =SUM(CJ14/(CJ14+CK14)) -> #DIV/0!
A15: =A14+1 -> 12 | S15: =COUNTIF(D15:R15,"J") -> 0 | T15: =COUNTIF(D15:R15,"F") -> 0 | U15: =COUNTIF(D15:R15,"M") -> 0 | V15: =COUNTIF(D15:R15,"P") -> 0 | W15: =COUNTIF(D15:R15,"F") -> 0 | X15: =SUM(V15/(V15+W15)) -> #DIV/0! | AO15: =COUNTIF(Z15:AN15,"J") -> 0 | AP15: =COUNTIF(Z15:AN15,"F") -> 0 | AQ15: =COUNTIF(Z15:AN15,"M") -> 0 | AR15: =COUNTIF(Z15:AN15,"P") -> 0 | AS15: =COUNTIF(Z15:AN15,"F") -> 0 | AT15: =SUM(AR15/(AR15+AS15)) -> #DIV/0! | BK15: =COUNTIF(AV15:BJ15,"J") -> 0 | BL15: =COUNTIF(AV15:BJ15,"F") -> 0 | BM15: =COUNTIF(AV15:BJ15,"M") -> 0 | BN15: =COUNTIF(AV15:BJ15,"P") -> 0 | BO15: =COUNTIF(AV15:BJ15,"F") -> 0 | BP15: =SUM(BN15/(BN15+BO15)) -> #DIV/0! | CG15: =COUNTIF(BR15:CF15,"J") -> 0 | CH15: =COUNTIF(BR15:CF15,"F") -> 0 | CI15: =COUNTIF(BR15:CF15,"M") -> 0 | CJ15: =COUNTIF(BR15:CF15,"P") -> 0 | CK15: =COUNTIF(BR15:CF15,"F") -> 0 | CL15: =SUM(CJ15/(CJ15+CK15)) -> #DIV/0!
A16: =A15+1 -> 13 | S16: =COUNTIF(D16:R16,"J") -> 0 | T16: =COUNTIF(D16:R16,"F") -> 0 | U16: =COUNTIF(D16:R16,"M") -> 0 | V16: =COUNTIF(D16:R16,"P") -> 0 | W16: =COUNTIF(D16:R16,"F") -> 0 | X16: =SUM(V16/(V16+W16)) -> #DIV/0! | AO16: =COUNTIF(Z16:AN16,"J") -> 0 | AP16: =COUNTIF(Z16:AN16,"F") -> 0 | AQ16: =COUNTIF(Z16:AN16,"M") -> 0 | AR16: =COUNTIF(Z16:AN16,"P") -> 0 | AS16: =COUNTIF(Z16:AN16,"F") -> 0 | AT16: =SUM(AR16/(AR16+AS16)) -> #DIV/0! | BK16: =COUNTIF(AV16:BJ16,"J") -> 0 | BL16: =COUNTIF(AV16:BJ16,"F") -> 0 | BM16: =COUNTIF(AV16:BJ16,"M") -> 0 | BN16: =COUNTIF(AV16:BJ16,"P") -> 0 | BO16: =COUNTIF(AV16:BJ16,"F") -> 0 | BP16: =SUM(BN16/(BN16+BO16)) -> #DIV/0! | CG16: =COUNTIF(BR16:CF16,"J") -> 0 | CH16: =COUNTIF(BR16:CF16,"F") -> 0 | CI16: =COUNTIF(BR16:CF16,"M") -> 0 | CJ16: =COUNTIF(BR16:CF16,"P") -> 0 | CK16: =COUNTIF(BR16:CF16,"F") -> 0 | CL16: =SUM(CJ16/(CJ16+CK16)) -> #DIV/0!
A17: =A16+1 -> 14 | S17: =COUNTIF(D17:R17,"J") -> 0 | T17: =COUNTIF(D17:R17,"F") -> 0 | U17: =COUNTIF(D17:R17,"M") -> 0 | V17: =COUNTIF(D17:R17,"P") -> 0 | W17: =COUNTIF(D17:R17,"F") -> 0 | X17: =SUM(V17/(V17+W17)) -> #DIV/0! | AO17: =COUNTIF(Z17:AN17,"J") -> 0 | AP17: =COUNTIF(Z17:AN17,"F") -> 0 | AQ17: =COUNTIF(Z17:AN17,"M") -> 0 | AR17: =COUNTIF(Z17:AN17,"P") -> 0 | AS17: =COUNTIF(Z17:AN17,"F") -> 0 | AT17: =SUM(AR17/(AR17+AS17)) -> #DIV/0! | BK17: =COUNTIF(AV17:BJ17,"J") -> 0 | BL17: =COUNTIF(AV17:BJ17,"F") -> 0 | BM17: =COUNTIF(AV17:BJ17,"M") -> 0 | BN17: =COUNTIF(AV17:BJ17,"P") -> 0 | BO17: =COUNTIF(AV17:BJ17,"F") -> 0 | BP17: =SUM(BN17/(BN17+BO17)) -> #DIV/0! | CG17: =COUNTIF(BR17:CF17,"J") -> 0 | CH17: =COUNTIF(BR17:CF17,"F") -> 0 | CI17: =COUNTIF(BR17:CF17,"M") -> 0 | CJ17: =COUNTIF(BR17:CF17,"P") -> 0 | CK17: =COUNTIF(BR17:CF17,"F") -> 0 | CL17: =SUM(CJ17/(CJ17+CK17)) -> #DIV/0!
A18: =A17+1 -> 15 | S18: =COUNTIF(D18:R18,"J") -> 0 | T18: =COUNTIF(D18:R18,"F") -> 0 | U18: =COUNTIF(D18:R18,"M") -> 0 | V18: =COUNTIF(D18:R18,"P") -> 0 | W18: =COUNTIF(D18:R18,"F") -> 0 | X18: =SUM(V18/(V18+W18)) -> #DIV/0! | AO18: =COUNTIF(Z18:AN18,"J") -> 0 | AP18: =COUNTIF(Z18:AN18,"F") -> 0 | AQ18: =COUNTIF(Z18:AN18,"M") -> 0 | AR18: =COUNTIF(Z18:AN18,"P") -> 0 | AS18: =COUNTIF(Z18:AN18,"F") -> 0 | AT18: =SUM(AR18/(AR18+AS18)) -> #DIV/0! | BK18: =COUNTIF(AV18:BJ18,"J") -> 0 | BL18: =COUNTIF(AV18:BJ18,"F") -> 0 | BM18: =COUNTIF(AV18:BJ18,"M") -> 0 | BN18: =COUNTIF(AV18:BJ18,"P") -> 0 | BO18: =COUNTIF(AV18:BJ18,"F") -> 0 | BP18: =SUM(BN18/(BN18+BO18)) -> #DIV/0! | CG18: =COUNTIF(BR18:CF18,"J") -> 0 | CH18: =COUNTIF(BR18:CF18,"F") -> 0 | CI18: =COUNTIF(BR18:CF18,"M") -> 0 | CJ18: =COUNTIF(BR18:CF18,"P") -> 0 | CK18: =COUNTIF(BR18:CF18,"F") -> 0 | CL18: =SUM(CJ18/(CJ18+CK18)) -> #DIV/0!
A19: =A18+1 -> 16 | S19: =COUNTIF(D19:R19,"J") -> 0 | T19: =COUNTIF(D19:R19,"F") -> 0 | U19: =COUNTIF(D19:R19,"M") -> 0 | V19: =COUNTIF(D19:R19,"P") -> 0 | W19: =COUNTIF(D19:R19,"F") -> 0 | X19: =SUM(V19/(V19+W19)) -> #DIV/0! | AO19: =COUNTIF(Z19:AN19,"J") -> 0 | AP19: =COUNTIF(Z19:AN19,"F") -> 0 | AQ19: =COUNTIF(Z19:AN19,"M") -> 0 | AR19: =COUNTIF(Z19:AN19,"P") -> 0 | AS19: =COUNTIF(Z19:AN19,"F") -> 0 | AT19: =SUM(AR19/(AR19+AS19)) -> #DIV/0! | BK19: =COUNTIF(AV19:BJ19,"J") -> 0 | BL19: =COUNTIF(AV19:BJ19,"F") -> 0 | BM19: =COUNTIF(AV19:BJ19,"M") -> 0 | BN19: =COUNTIF(AV19:BJ19,"P") -> 0 | BO19: =COUNTIF(AV19:BJ19,"F") -> 0 | BP19: =SUM(BN19/(BN19+BO19)) -> #DIV/0! | CG19: =COUNTIF(BR19:CF19,"J") -> 0 | CH19: =COUNTIF(BR19:CF19,"F") -> 0 | CI19: =COUNTIF(BR19:CF19,"M") -> 0 | CJ19: =COUNTIF(BR19:CF19,"P") -> 0 | CK19: =COUNTIF(BR19:CF19,"F") -> 0 | CL19: =SUM(CJ19/(CJ19+CK19)) -> #DIV/0!
A20: =A19+1 -> 17 | S20: =COUNTIF(D20:R20,"J") -> 0 | T20: =COUNTIF(D20:R20,"F") -> 0 | U20: =COUNTIF(D20:R20,"M") -> 0 | V20: =COUNTIF(D20:R20,"P") -> 0 | W20: =COUNTIF(D20:R20,"F") -> 0 | X20: =SUM(V20/(V20+W20)) -> #DIV/0! | AO20: =COUNTIF(Z20:AN20,"J") -> 0 | AP20: =COUNTIF(Z20:AN20,"F") -> 0 | AQ20: =COUNTIF(Z20:AN20,"M") -> 0 | AR20: =COUNTIF(Z20:AN20,"P") -> 0 | AS20: =COUNTIF(Z20:AN20,"F") -> 0 | AT20: =SUM(AR20/(AR20+AS20)) -> #DIV/0! | BK20: =COUNTIF(AV20:BJ20,"J") -> 0 | BL20: =COUNTIF(AV20:BJ20,"F") -> 0 | BM20: =COUNTIF(AV20:BJ20,"M") -> 0 | BN20: =COUNTIF(AV20:BJ20,"P") -> 0 | BO20: =COUNTIF(AV20:BJ20,"F") -> 0 | BP20: =SUM(BN20/(BN20+BO20)) -> #DIV/0! | CG20: =COUNTIF(BR20:CF20,"J") -> 0 | CH20: =COUNTIF(BR20:CF20,"F") -> 0 | CI20: =COUNTIF(BR20:CF20,"M") -> 0 | CJ20: =COUNTIF(BR20:CF20,"P") -> 0 | CK20: =COUNTIF(BR20:CF20,"F") -> 0 | CL20: =SUM(CJ20/(CJ20+CK20)) -> #DIV/0!
... A63: =A62+1 -> 60 | S63: =COUNTIF(D63:R63,"J") -> 0 | T63: =COUNTIF(D63:R63,"F") -> 0 | U63: =COUNTIF(D63:R63,"M") -> 0 | V63: =COUNTIF(D63:R63,"P") -> 0 | W63: =COUNTIF(D63:R63,"F") -> 0 | X63: =SUM(V63/(V63+W63)) -> #DIV/0! | AO63: =COUNTIF(Z63:AN63,"J") -> 0 | AP63: =COUNTIF(Z63:AN63,"F") -> 0 | AQ63: =COUNTIF(Z63:AN63,"M") -> 0 | AR63: =COUNTIF(Z63:AN63,"P") -> 0 | AS63: =COUNTIF(Z63:AN63,"F") -> 0 | AT63: =SUM(AR63/(AR63+AS63)) -> #DIV/0! | BK63: =COUNTIF(AV63:BJ63,"J") -> 0 | BL63: =COUNTIF(AV63:BJ63,"F") -> 0 | BM63: =COUNTIF(AV63:BJ63,"M") -> 0 | BN63: =COUNTIF(AV63:BJ63,"P") -> 0 | BO63: =COUNTIF(AV63:BJ63,"F") -> 0 | BP63: =SUM(BN63/(BN63+BO63)) -> #DIV/0! | CG63: =COUNTIF(BR63:CF63,"J") -> 0 | CH63: =COUNTIF(BR63:CF63,"F") -> 0 | CI63: =COUNTIF(BR63:CF63,"M") -> 0 | CJ63: =COUNTIF(BR63:CF63,"P") -> 0 | CK63: =COUNTIF(BR63:CF63,"F") -> 0 | CL63: =SUM(CJ63/(CJ63+CK63)) -> #DIV/0!
C64: Alunos matriculados | D64: =COUNTA(D4:D63) -> 5 | E64: =COUNTA(E4:E63) -> 5 | F64: =COUNTA(F4:F63) -> 5 | G64: =COUNTA(G4:G63) -> 5 | H64: =COUNTA(H4:H63) -> 5 | I64: =COUNTA(I4:I63) -> 5 | J64: =COUNTA(J4:J63) -> 5 | K64: =COUNTA(K4:K63) -> 5 | ... R64: =COUNTA(R4:R63) -> 5 | Z64: =COUNTA(Z4:Z63) -> 5 | AA64: =COUNTA(AA4:AA63) -> 5 | AB64: =COUNTA(AB4:AB63) -> 5 | AC64: =COUNTA(AC4:AC63) -> 5 | AD64: =COUNTA(AD4:AD63) -> 5 | AE64: =COUNTA(AE4:AE63) -> 5 | AF64: =COUNTA(AF4:AF63) -> 5 | AG64: =COUNTA(AG4:AG63) -> 5 | ... AN64: =COUNTA(AN4:AN63) -> 5 | AV64: =COUNTA(AV4:AV63) -> 5 | AW64: =COUNTA(AW4:AW63) -> 5 | AX64: =COUNTA(AX4:AX63) -> 5 | AY64: =COUNTA(AY4:AY63) -> 5 | AZ64: =COUNTA(AZ4:AZ63) -> 5 | BA64: =COUNTA(BA4:BA63) -> 5 | BB64: =COUNTA(BB4:BB63) -> 5 | BC64: =COUNTA(BC4:BC63) -> 5 | ... BJ64: =COUNTA(BJ4:BJ63) -> 5 | BR64: =COUNTA(BR4:BR63) -> 5 | BS64: =COUNTA(BS4:BS63) -> 5 | BT64: =COUNTA(BT4:BT63) -> 5 | BU64: =COUNTA(BU4:BU63) -> 5 | BV64: =COUNTA(BV4:BV63) -> 5 | BW64: =COUNTA(BW4:BW63) -> 5 | BX64: =COUNTA(BX4:BX63) -> 5 | BY64: =COUNTA(BY4:BY63) -> 5 | ... CF64: =COUNTA(CF4:CF63) -> 5
C65: Ausentes | D65: =COUNTIF(D4:D63,"F") -> 0 | E65: =COUNTIF(E4:E63,"F") -> 2 | F65: =COUNTIF(F4:F63,"F") -> 4 | G65: =COUNTIF(G4:G63,"F") -> 4 | H65: =COUNTIF(H4:H63,"F") -> 2 | I65: =COUNTIF(I4:I63,"F") -> 1 | J65: =COUNTIF(J4:J63,"F") -> 1 | K65: =COUNTIF(K4:K63,"F") -> 1 | ... R65: =COUNTIF(R4:R63,"F") -> 2 | Z65: =COUNTIF(Z4:Z63,"F") -> 0 | AA65: =COUNTIF(AA4:AA63,"F") -> 2 | AB65: =COUNTIF(AB4:AB63,"F") -> 3 | AC65: =COUNTIF(AC4:AC63,"F") -> 3 | AD65: =COUNTIF(AD4:AD63,"F") -> 3 | AE65: =COUNTIF(AE4:AE63,"F") -> 1 | AF65: =COUNTIF(AF4:AF63,"F") -> 1 | AG65: =COUNTIF(AG4:AG63,"F") -> 1 | ... AN65: =COUNTIF(AN4:AN63,"F") -> 1 | AV65: =COUNTIF(AV4:AV63,"F") -> 0 | AW65: =COUNTIF(AW4:AW63,"F") -> 2 | AX65: =COUNTIF(AX4:AX63,"F") -> 3 | AY65: =COUNTIF(AY4:AY63,"F") -> 3 | AZ65: =COUNTIF(AZ4:AZ63,"F") -> 3 | BA65: =COUNTIF(BA4:BA63,"F") -> 1 | BB65: =COUNTIF(BB4:BB63,"F") -> 1 | BC65: =COUNTIF(BC4:BC63,"F") -> 1 | ... BJ65: =COUNTIF(BJ4:BJ63,"F") -> 3 | BR65: =COUNTIF(BR4:BR63,"F") -> 0 | BS65: =COUNTIF(BS4:BS63,"F") -> 2 | BT65: =COUNTIF(BT4:BT63,"F") -> 3 | BU65: =COUNTIF(BU4:BU63,"F") -> 3 | BV65: =COUNTIF(BV4:BV63,"F") -> 3 | BW65: =COUNTIF(BW4:BW63,"F") -> 1 | BX65: =COUNTIF(BX4:BX63,"F") -> 1 | BY65: =COUNTIF(BY4:BY63,"F") -> 1 | ... CF65: =COUNTIF(CF4:CF63,"F") -> 3
C66: Presentes | D66: =COUNTIF(D4:D63,"P") -> 5 | E66: =COUNTIF(E4:E63,"P") -> 2 | F66: =COUNTIF(F4:F63,"P") -> 1 | G66: =COUNTIF(G4:G63,"P") -> 1 | H66: =COUNTIF(H4:H63,"P") -> 3 | I66: =COUNTIF(I4:I63,"P") -> 4 | J66: =COUNTIF(J4:J63,"P") -> 4 | K66: =COUNTIF(K4:K63,"P") -> 4 | ... R66: =COUNTIF(R4:R63,"P") -> 3 | Z66: =COUNTIF(Z4:Z63,"P") -> 5 | AA66: =COUNTIF(AA4:AA63,"P") -> 3 | AB66: =COUNTIF(AB4:AB63,"P") -> 2 | AC66: =COUNTIF(AC4:AC63,"P") -> 2 | AD66: =COUNTIF(AD4:AD63,"P") -> 2 | AE66: =COUNTIF(AE4:AE63,"P") -> 4 | AF66: =COUNTIF(AF4:AF63,"P") -> 4 | AG66: =COUNTIF(AG4:AG63,"P") -> 4 | ... AN66: =COUNTIF(AN4:AN63,"P") -> 4 | AV66: =COUNTIF(AV4:AV63,"P") -> 5 | AW66: =COUNTIF(AW4:AW63,"P") -> 3 | AX66: =COUNTIF(AX4:AX63,"P") -> 2 | AY66: =COUNTIF(AY4:AY63,"P") -> 2 | AZ66: =COUNTIF(AZ4:AZ63,"P") -> 2 | BA66: =COUNTIF(BA4:BA63,"P") -> 4 | BB66: =COUNTIF(BB4:BB63,"P") -> 4 | BC66: =COUNTIF(BC4:BC63,"P") -> 4 | ... BJ66: =COUNTIF(BJ4:BJ63,"P") -> 2 | BR66: =COUNTIF(BR4:BR63,"P") -> 5 | BS66: =COUNTIF(BS4:BS63,"P") -> 3 | BT66: =COUNTIF(BT4:BT63,"P") -> 2 | BU66: =COUNTIF(BU4:BU63,"P") -> 2 | BV66: =COUNTIF(BV4:BV63,"P") -> 2 | BW66: =COUNTIF(BW4:BW63,"P") -> 4 | BX66: =COUNTIF(BX4:BX63,"P") -> 4 | BY66: =COUNTIF(BY4:BY63,"P") -> 4 | ... CF66: =COUNTIF(CF4:CF63,"P") -> 2
C67: Visitantes | D67: 8 | E67: 6 | F67: 6 | G67: 0 | H67: 6 | I67: 5 | Z67: 8 | AA67: 6 | AB67: 6 | AC67: 0 | AD67: 6 | AE67: 5 | AV67: 8 | AW67: 6 | AX67: 6 | AY67: 0 | AZ67: 6 | BA67: 5 | BR67: 8 | BS67: 6 | BT67: 6 | BU67: 0 | BV67: 6 | BW67: 5
C68: Total de Assistencia | D68: =D66+D67 -> 13 | E68: =E66+E67 -> 8 | F68: =F66+F67 -> 7 | G68: =G66+G67 -> 1 | H68: =H66+H67 -> 9 | I68: =I66+I67 -> 9 | J68: =J66+J67 -> 4 | K68: =K66+K67 -> 4 | ... R68: =R66+R67 -> 3 | Z68: =Z66+Z67 -> 13 | AA68: =AA66+AA67 -> 9 | AB68: =AB66+AB67 -> 8 | AC68: =AC66+AC67 -> 2 | AD68: =AD66+AD67 -> 8 | AE68: =AE66+AE67 -> 9 | AF68: =AF66+AF67 -> 4 | AG68: =AG66+AG67 -> 4 | ... AN68: =AN66+AN67 -> 4 | AV68: =AV66+AV67 -> 13 | AW68: =AW66+AW67 -> 9 | AX68: =AX66+AX67 -> 8 | AY68: =AY66+AY67 -> 2 | AZ68: =AZ66+AZ67 -> 8 | BA68: =BA66+BA67 -> 9 | BB68: =BB66+BB67 -> 4 | BC68: =BC66+BC67 -> 4 | ... BJ68: =BJ66+BJ67 -> 2 | BR68: =BR66+BR67 -> 13 | BS68: =BS66+BS67 -> 9 | BT68: =BT66+BT67 -> 8 | BU68: =BU66+BU67 -> 2 | BV68: =BV66+BV67 -> 8 | BW68: =BW66+BW67 -> 9 | BX68: =BX66+BX67 -> 4 | BY68: =BY66+BY67 -> 4 | ... CF68: =CF66+CF67 -> 2
C69: Bíblias | D69: 30 | E69: 27 | F69: 27 | G69: 0 | H69: 26 | I69: 39 | Z69: 30 | AA69: 27 | AB69: 27 | AC69: 0 | AD69: 26 | AE69: 39 | AV69: 30 | AW69: 27 | AX69: 27 | AY69: 0 | AZ69: 26 | BA69: 39 | BR69: 30 | BS69: 27 | BT69: 27 | BU69: 0 | BV69: 26 | BW69: 39
C70: Revistas | D70: 30 | E70: 25 | F70: 27 | G70: 0 | H70: 20 | I70: 30 | Z70: 30 | AA70: 25 | AB70: 27 | AC70: 0 | AD70: 20 | AE70: 30 | AV70: 30 | AW70: 25 | AX70: 27 | AY70: 0 | AZ70: 20 | BA70: 30 | BR70: 30 | BS70: 25 | BT70: 27 | BU70: 0 | BV70: 20 | BW70: 30
C71: Oferta | D71: 0 | E71: 0 | F71: 0 | G71: 0 | H71: 0 | I71: 0 | Z71: 0 | AA71: 0 | AB71: 0 | AC71: 0 | AD71: 0 | AE71: 0 | AV71: 0 | AW71: 0 | AX71: 0 | AY71: 0 | AZ71: 0 | BA71: 0 | BR71: 0 | BS71: 0 | BT71: 0 | BU71: 0 | BV71: 0 | BW71: 0
C74: MÉDIA GERAL DE ASSISTENCIA | D74: =D79 -> 0.48 | I74: =I79 -> 0.72 | N74: =N79 -> 0.76 | Z74: =Z79 -> 0.56 | AE74: =AE79 -> 0.8 | AJ74: =AJ79 -> 0.8 | AV74: =AV79 -> 0.56 | BA74: =BA79 -> 0.72 | BF74: =BF79 -> 0.72 | BR74: =BR79 -> 0.56 | BW74: =BW79 -> 0.72 | CB74: =CB79 -> 0.72
C77: Matriculados | D77: =SUM(D64:H64) -> 25 | I77: =SUM(I64:M64) -> 25 | N77: =SUM(N64:R64) -> 25 | Z77: =SUM(Z64:AD64) -> 25 | AE77: =SUM(AE64:AI64) -> 25 | AJ77: =SUM(AJ64:AN64) -> 25 | AV77: =SUM(AV64:AZ64) -> 25 | BA77: =SUM(BA64:BE64) -> 25 | BF77: =SUM(BF64:BJ64) -> 25 | BR77: =SUM(BR64:BV64) -> 25 | BW77: =SUM(BW64:CA64) -> 25 | CB77: =SUM(CB64:CF64) -> 25
C78: Presenças | D78: =SUM(D66:H66) -> 12 | I78: =SUM(I66:M66) -> 18 | N78: =SUM(N66:R66) -> 19 | Z78: =SUM(Z66:AD66) -> 14 | AE78: =SUM(AE66:AI66) -> 20 | AJ78: =SUM(AJ66:AN66) -> 20 | AV78: =SUM(AV66:AZ66) -> 14 | BA78: =SUM(BA66:BE66) -> 18 | BF78: =SUM(BF66:BJ66) -> 18 | BR78: =SUM(BR66:BV66) -> 14 | BW78: =SUM(BW66:CA66) -> 18 | CB78: =SUM(CB66:CF66) -> 18
C79: Percetual de pres. | D79: =D78/D77 -> 0.48 | I79: =I78/I77 -> 0.72 | N79: =N78/N77 -> 0.76 | Z79: =Z78/Z77 -> 0.56 | AE79: =AE78/AE77 -> 0.8 | AJ79: =AJ78/AJ77 -> 0.8 | AV79: =AV78/AV77 -> 0.56 | BA79: =BA78/BA77 -> 0.72 | BF79: =BF78/BF77 -> 0.72 | BR79: =BR78/BR77 -> 0.56 | BW79: =BW78/BW77 -> 0.72 | CB79: =CB78/CB77 -> 0.72

Sheet CLASSE 5
A1: NOME DA CLASSE: | C1: CLASSE 5 | Z1: =$C$1 -> CLASSE 5 | AV1: =$C$1 -> CLASSE 5 | BR1: =$C$1 -> CLASSE 5
A2: Nº | B2: ALUNO | C2: OBSERVAÇÕES | D2: JANEIRO | I2: FEVEREIRO | N2: MARÇO | S2: Frequencia do Trimestre | Z2: ABRIL | AE2: MAIO | AJ2: JUNHO | AO2: Frequencia do Trimestre | AV2: JULHO | BA2: AGOSTO | BF2: SETEMBRO | BK2: Frequencia do Trimestre | BR2: OUTUBRO | BW2: NOVEMBRO | CB2: DEZEMBRO | CG2: Frequencia do Trimestre
D3: 1º | E3: 2º | F3: 3º | G3: 4º | H3: 5º | I3: 1º | J3: 2º | K3: 3º | L3: 4º | M3: 5º | N3: 1º | O3: 2º | P3: 3º | Q3: 4º | R3: 5º | S3: J | T3: F | U3: M | V3: P | W3: F | X3: Frequencia % | Z3: 1º | AA3: 2º | AB3: 3º | AC3: 4º | AD3: 5º | AE3: 1º | AF3: 2º | AG3: 3º | AH3: 4º | AI3: 5º | AJ3: 1º | AK3: 2º | AL3: 3º | AM3: 4º | AN3: 5º | AO3: J | AP3: F | AQ3: M | AR3: P | AS3: F | AT3: Frequencia % | AV3: 1º | AW3: 2º | AX3: 3º | AY3: 4º | AZ3: 5º | BA3: 1º | BB3: 2º | BC3: 3º | BD3: 4º | BE3: 5º | BF3: 1º | BG3: 2º | BH3: 3º | BI3: 4º | BJ3: 5º | BK3: J | BL3: F | BM3: M | BN3: P | BO3: F | BP3: Frequencia % | BR3: 1º | BS3: 2º | BT3: 3º | BU3: 4º | BV3: 5º | BW3: 1º | BX3: 2º | BY3: 3º | BZ3: 4º | CA3: 5º | CB3: 1º | CC3: 2º | CD3: 3º | CE3: 4º | CF3: 5º | CG3: J | CH3: F | CI3: M | CJ3: P | CK3: F | CL3: Frequencia %
A4: 1 | B4: ALUNO 1 | D4: P | E4: J | F4: F | G4: F | H4: P | I4: P | J4: P | K4: P | L4: F | M4: P | N4: P | O4: P | P4: P | Q4: P | R4: P | S4: =COUNTIF(D4:R4,"J") -> 1 | T4: =COUNTIF(D4:R4,"F") -> 3 | U4: =COUNTIF(D4:R4,"M") -> 0 | V4: =COUNTIF(D4:R4,"P") -> 11 | W4: =COUNTIF(D4:R4,"F") -> 3 | X4: =SUM(V4/(V4+W4)) -> 0.78571429 | Z4: P | AA4: P | AB4: P | AC4: P | AD4: F | AE4: P | AF4: P | AG4: P | AH4: P | AI4: P | AJ4: P | AK4: P | AL4: P | AM4: P | AN4: P | AO4: =COUNTIF(Z4:AN4,"J") -> 0 | AP4: =COUNTIF(Z4:AN4,"F") -> 1 | AQ4: =COUNTIF(Z4:AN4,"M") -> 0 | AR4: =COUNTIF(Z4:AN4,"P") -> 14 | AS4: =COUNTIF(Z4:AN4,"F") -> 1 | AT4: =SUM(AR4/(AR4+AS4)) -> 0.93333333 | AV4: P | AW4: P | AX4: P | AY4: P | AZ4: F | BA4: P | BB4: P | BC4: P | BD4: P | BE4: F | BF4: P | BG4: P | BH4: P | BI4: P | BJ4: F | BK4: =COUNTIF(AV4:BJ4,"J") -> 0 | BL4: =COUNTIF(AV4:BJ4,"F") -> 3 | BM4: =COUNTIF(AV4:BJ4,"M") -> 0 | BN4: =COUNTIF(AV4:BJ4,"P") -> 12 | BO4: =COUNTIF(AV4:BJ4,"F") -> 3 | BP4: =SUM(BN4/(BN4+BO4)) -> 0.8 | BR4: P | BS4: P | BT4: P | BU4: P | BV4: F | BW4: P | BX4: P | BY4: P | BZ4: P | CA4: F | CB4: P | CC4: P | CD4: P | CE4: P | CF4: F | CG4: =COUNTIF(BR4:CF4,"J") -> 0 | CH4: =COUNTIF(BR4:CF4,"F") -> 3 | CI4: =COUNTIF(BR4:CF4,"M") -> 0 | CJ4: =COUNTIF(BR4:CF4,"P") -> 12 | CK4: =COUNTIF(BR4:CF4,"F") -> 3 | CL4: =SUM(CJ4/(CJ4+CK4)) -> 0.8
A5: =A4+1 -> 2 | B5: ALUNO 2 | D5: P | E5: P | F5: F | G5: F | H5: F | I5: F | J5: F | K5: F | L5: F | M5: F | N5: F | O5: F | P5: F | Q5: F | R5: F | S5: =COUNTIF(D5:R5,"J") -> 0 | T5: =COUNTIF(D5:R5,"F") -> 13 | U5: =COUNTIF(D5:R5,"M") -> 0 | V5: =COUNTIF(D5:R5,"P") -> 2 | W5: =COUNTIF(D5:R5,"F") -> 13 | X5: =SUM(V5/(V5+W5)) -> 0.13333333 | Z5: P | AA5: P | AB5: F | AC5: F | AD5: F | AE5: F | AF5: F | AG5: F | AH5: F | AI5: F | AJ5: F | AK5: F | AL5: F | AM5: F | AN5: F | AO5: =COUNTIF(Z5:AN5,"J") -> 0 | AP5: =COUNTIF(Z5:AN5,"F") -> 13 | AQ5: =COUNTIF(Z5:AN5,"M") -> 0 | AR5: =COUNTIF(Z5:AN5,"P") -> 2 | AS5: =COUNTIF(Z5:AN5,"F") -> 13 | AT5: =SUM(AR5/(AR5+AS5)) -> 0.13333333 | AV5: P | AW5: P | AX5: F | AY5: F | AZ5: F | BA5: F | BB5: F | BC5: F | BD5: F | BE5: F | BF5: F | BG5: F | BH5: F | BI5: F | BJ5: F | BK5: =COUNTIF(AV5:BJ5,"J") -> 0 | BL5: =COUNTIF(AV5:BJ5,"F") -> 13 | BM5: =COUNTIF(AV5:BJ5,"M") -> 0 | BN5: =COUNTIF(AV5:BJ5,"P") -> 2 | BO5: =COUNTIF(AV5:BJ5,"F") -> 13 | BP5: =SUM(BN5/(BN5+BO5)) -> 0.13333333 | BR5: P | BS5: P | BT5: F | BU5: F | BV5: F | BW5: F | BX5: F | BY5: F | BZ5: F | CA5: F | CB5: F | CC5: F | CD5: F | CE5: F | CF5: F | CG5: =COUNTIF(BR5:CF5,"J") -> 0 | CH5: =COUNTIF(BR5:CF5,"F") -> 13 | CI5: =COUNTIF(BR5:CF5,"M") -> 0 | CJ5: =COUNTIF(BR5:CF5,"P") -> 2 | CK5: =COUNTIF(BR5:CF5,"F") -> 13 | CL5: =SUM(CJ5/(CJ5+CK5)) -> 0.13333333
A6: =A5+1 -> 3 | B6: ALUNO 3 | D6: P | E6: P | F6: F | G6: F | H6: P | I6: P | J6: P | K6: P | L6: P | M6: P | N6: P | O6: P | P6: P | Q6: P | R6: P | S6: =COUNTIF(D6:R6,"J") -> 0 | T6: =COUNTIF(D6:R6,"F") -> 2 | U6: =COUNTIF(D6:R6,"M") -> 0 | V6: =COUNTIF(D6:R6,"P") -> 13 | W6: =COUNTIF(D6:R6,"F") -> 2 | X6: =SUM(V6/(V6+W6)) -> 0.86666667 | Z6: P | AA6: P | AB6: F | AC6: F | AD6: P | AE6: P | AF6: P | AG6: P | AH6: P | AI6: P | AJ6: P | AK6: P | AL6: P | AM6: P | AN6: P | AO6: =COUNTIF(Z6:AN6,"J") -> 0 | AP6: =COUNTIF(Z6:AN6,"F") -> 2 | AQ6: =COUNTIF(Z6:AN6,"M") -> 0 | AR6: =COUNTIF(Z6:AN6,"P") -> 13 | AS6: =COUNTIF(Z6:AN6,"F") -> 2 | AT6: =SUM(AR6/(AR6+AS6)) -> 0.86666667 | AV6: P | AW6: P | AX6: F | AY6: F | AZ6: P | BA6: P | BB6: P | BC6: P | BD6: P | BE6: P | BF6: P | BG6: P | BH6: P | BI6: P | BJ6: P | BK6: =COUNTIF(AV6:BJ6,"J") -> 0 | BL6: =COUNTIF(AV6:BJ6,"F") -> 2 | BM6: =COUNTIF(AV6:BJ6,"M") -> 0 | BN6: =COUNTIF(AV6:BJ6,"P") -> 13 | BO6: =COUNTIF(AV6:BJ6,"F") -> 2 | BP6: =SUM(BN6/(BN6+BO6)) -> 0.86666667 | BR6: P | BS6: P | BT6: F | BU6: F | BV6: P | BW6: P | BX6: P | BY6: P | BZ6: P | CA6: P | CB6: P | CC6: P | CD6: P | CE6: P | CF6: P | CG6: =COUNTIF(BR6:CF6,"J") -> 0 | CH6: =COUNTIF(BR6:CF6,"F") -> 2 | CI6: =COUNTIF(BR6:CF6,"M") -> 0 | CJ6: =COUNTIF(BR6:CF6,"P") -> 13 | CK6: =COUNTIF(BR6:CF6,"F") -> 2 | CL6: =SUM(CJ6/(CJ6+CK6)) -> 0.86666667
A7: =A6+1 -> 4 | B7: ALUNO 4 | D7: P | E7: F | F7: F | G7: F | H7: F | I7: P | J7: P | K7: P | L7: P | M7: F | N7: P | O7: P | P7: P | Q7: P | R7: F | S7: =COUNTIF(D7:R7,"J") -> 0 | T7: =COUNTIF(D7:R7,"F") -> 6 | U7: =COUNTIF(D7:R7,"M") -> 0 | V7: =COUNTIF(D7:R7,"P") -> 9 | W7: =COUNTIF(D7:R7,"F") -> 6 | X7: =SUM(V7/(V7+W7)) -> 0.6 | Z7: P | AA7: F | AB7: F | AC7: F | AD7: F | AE7: P | AF7: P | AG7: P | AH7: P | AI7: P | AJ7: P | AK7: P | AL7: P | AM7: P | AN7: P | AO7: =COUNTIF(Z7:AN7,"J") -> 0 | AP7: =COUNTIF(Z7:AN7,"F") -> 4 | AQ7: =COUNTIF(Z7:AN7,"M") -> 0 | AR7: =COUNTIF(Z7:AN7,"P") -> 11 | AS7: =COUNTIF(Z7:AN7,"F") -> 4 | AT7: =SUM(AR7/(AR7+AS7)) -> 0.73333333 | AV7: P | AW7: F | AX7: F | AY7: F | AZ7: F | BA7: P | BB7: P | BC7: P | BD7: P | BE7: F | BF7: P | BG7: P | BH7: P | BI7: P | BJ7: F | BK7: =COUNTIF(AV7:BJ7,"J") -> 0 | BL7: =COUNTIF(AV7:BJ7,"F") -> 6 | BM7: =COUNTIF(AV7:BJ7,"M") -> 0 | BN7: =COUNTIF(AV7:BJ7,"P") -> 9 | BO7: =COUNTIF(AV7:BJ7,"F") -> 6 | BP7: =SUM(BN7/(BN7+BO7)) -> 0.6 | BR7: P | BS7: F | BT7: F | BU7: F | BV7: F | BW7: P | BX7: P | BY7: P | BZ7: P | CA7: F | CB7: P | CC7: P | CD7: P | CE7: P | CF7: F | CG7: =COUNTIF(BR7:CF7,"J") -> 0 | CH7: =COUNTIF(BR7:CF7,"F") -> 6 | CI7: =COUNTIF(BR7:CF7,"M") -> 0 | CJ7: =COUNTIF(BR7:CF7,"P") -> 9 | CK7: =COUNTIF(BR7:CF7,"F") -> 6 | CL7: =SUM(CJ7/(CJ7+CK7)) -> 0.6
A8: =A7+1 -> 5 | B8: ALUNO 5 | D8: P | E8: F | F8: P | G8: P | H8: P | I8: P | J8: P | K8: P | L8: P | M8: P | N8: P | O8: P | P8: P | Q8: P | R8: P | S8: =COUNTIF(D8:R8,"J") -> 0 | T8: =COUNTIF(D8:R8,"F") -> 1 | U8: =COUNTIF(D8:R8,"M") -> 0 | V8: =COUNTIF(D8:R8,"P") -> 14 | W8: =COUNTIF(D8:R8,"F") -> 1 | X8: =SUM(V8/(V8+W8)) -> 0.93333333 | Z8: P | AA8: F | AB8: P | AC8: P | AD8: P | AE8: P | AF8: P | AG8: P | AH8: P | AI8: P | AJ8: P | AK8: P | AL8: P | AM8: P | AN8: P | AO8: =COUNTIF(Z8:AN8,"J") -> 0 | AP8: =COUNTIF(Z8:AN8,"F") -> 1 | AQ8: =COUNTIF(Z8:AN8,"M") -> 0 | AR8: =COUNTIF(Z8:AN8,"P") -> 14 | AS8: =COUNTIF(Z8:AN8,"F") -> 1 | AT8: =SUM(AR8/(AR8+AS8)) -> 0.93333333 | AV8: P | AW8: F | AX8: P | AY8: P | AZ8: P | BA8: P | BB8: P | BC8: P | BD8: P | BE8: P | BF8: P | BG8: P | BH8: P | BI8: P | BJ8: P | BK8: =COUNTIF(AV8:BJ8,"J") -> 0 | BL8: =COUNTIF(AV8:BJ8,"F") -> 1 | BM8: =COUNTIF(AV8:BJ8,"M") -> 0 | BN8: =COUNTIF(AV8:BJ8,"P") -> 14 | BO8: =COUNTIF(AV8:BJ8,"F") -> 1 | BP8: =SUM(BN8/(BN8+BO8)) -> 0.93333333 | BR8: P | BS8: F | BT8: P | BU8: P | BV8: P | BW8: P | BX8: P | BY8: P | BZ8: P | CA8: P | CB8: P | CC8: P | CD8: P | CE8: P | CF8: P | CG8: =COUNTIF(BR8:CF8,"J") -> 0 | CH8: =COUNTIF(BR8:CF8,"F") -> 1 | CI8: =COUNTIF(BR8:CF8,"M") -> 0 | CJ8: =COUNTIF(BR8:CF8,"P") -> 14 | CK8: =COUNTIF(BR8:CF8,"F") -> 1 | CL8: =SUM(CJ8/(CJ8+CK8)) -> 0.93333333
A9: =A8+1 -> 6 | S9: =COUNTIF(D9:R9,"J") -> 0 | T9: =COUNTIF(D9:R9,"F") -> 0 | U9: =COUNTIF(D9:R9,"M") -> 0 | V9: =COUNTIF(D9:R9,"P") -> 0 | W9: =COUNTIF(D9:R9,"F") -> 0 | X9: =SUM(V9/(V9+W9)) -> #DIV/0! | AO9: =COUNTIF(Z9:AN9,"J") -> 0 | AP9: =COUNTIF(Z9:AN9,"F") -> 0 | AQ9: =COUNTIF(Z9:AN9,"M") -> 0 | AR9: =COUNTIF(Z9:AN9,"P") -> 0 | AS9: =COUNTIF(Z9:AN9,"F") -> 0 | AT9: =SUM(AR9/(AR9+AS9)) -> #DIV/0! | BK9: =COUNTIF(AV9:BJ9,"J") -> 0 | BL9: =COUNTIF(AV9:BJ9,"F") -> 0 | BM9: =COUNTIF(AV9:BJ9,"M") -> 0 | BN9: =COUNTIF(AV9:BJ9,"P") -> 0 | BO9: =COUNTIF(AV9:BJ9,"F") -> 0 | BP9: =SUM(BN9/(BN9+BO9)) -> #DIV/0! | CG9: =COUNTIF(BR9:CF9,"J") -> 0 | CH9: =COUNTIF(BR9:CF9,"F") -> 0 | CI9: =COUNTIF(BR9:CF9,"M") -> 0 | CJ9: =COUNTIF(BR9:CF9,"P") -> 0 | CK9: =COUNTIF(BR9:CF9,"F") -> 0 | CL9: =SUM(CJ9/(CJ9+CK9)) -> #DIV/0!
A10: =A9+1 -> 7 | S10: =COUNTIF(D10:R10,"J") -> 0 | T10: =COUNTIF(D10:R10,"F") -> 0 | U10: =COUNTIF(D10:R10,"M") -> 0 | V10: =COUNTIF(D10:R10,"P") -> 0 | W10: =COUNTIF(D10:R10,"F") -> 0 | X10: =SUM(V10/(V10+W10)) -> #DIV/0! | AO10: =COUNTIF(Z10:AN10,"J") -> 0 | AP10: =COUNTIF(Z10:AN10,"F") -> 0 | AQ10: =COUNTIF(Z10:AN10,"M") -> 0 | AR10: =COUNTIF(Z10:AN10,"P") -> 0 | AS10: =COUNTIF(Z10:AN10,"F") -> 0 | AT10: =SUM(AR10/(AR10+AS10)) -> #DIV/0! | BK10: =COUNTIF(AV10:BJ10,"J") -> 0 | BL10: =COUNTIF(AV10:BJ10,"F") -> 0 | BM10: =COUNTIF(AV10:BJ10,"M") -> 0 | BN10: =COUNTIF(AV10:BJ10,"P") -> 0 | BO10: =COUNTIF(AV10:BJ10,"F") -> 0 | BP10: =SUM(BN10/(BN10+BO10)) -> #DIV/0! | CG10: =COUNTIF(BR10:CF10,"J") -> 0 | CH10: =COUNTIF(BR10:CF10,"F") -> 0 | CI10: =COUNTIF(BR10:CF10,"M") -> 0 | CJ10: =COUNTIF(BR10:CF10,"P") -> 0 | CK10: =COUNTIF(BR10:CF10,"F") -> 0 | CL10: =SUM(CJ10/(CJ10+CK10)) -> #DIV/0!
A11: =A10+1 -> 8 | S11: =COUNTIF(D11:R11,"J") -> 0 | T11: =COUNTIF(D11:R11,"F") -> 0 | U11: =COUNTIF(D11:R11,"M") -> 0 | V11: =COUNTIF(D11:R11,"P") -> 0 | W11: =COUNTIF(D11:R11,"F") -> 0 | X11: =SUM(V11/(V11+W11)) -> #DIV/0! | AO11: =COUNTIF(Z11:AN11,"J") -> 0 | AP11: =COUNTIF(Z11:AN11,"F") -> 0 | AQ11: =COUNTIF(Z11:AN11,"M") -> 0 | AR11: =COUNTIF(Z11:AN11,"P") -> 0 | AS11: =COUNTIF(Z11:AN11,"F") -> 0 | AT11: =SUM(AR11/(AR11+AS11)) -> #DIV/0! | BK11: =COUNTIF(AV11:BJ11,"J") -> 0 | BL11: =COUNTIF(AV11:BJ11,"F") -> 0 | BM11: =COUNTIF(AV11:BJ11,"M") -> 0 | BN11: =COUNTIF(AV11:BJ11,"P") -> 0 | BO11: =COUNTIF(AV11:BJ11,"F") -> 0 | BP11: =SUM(BN11/(BN11+BO11)) -> #DIV/0! | CG11: =COUNTIF(BR11:CF11,"J") -> 0 | CH11: =COUNTIF(BR11:CF11,"F") -> 0 | CI11: =COUNTIF(BR11:CF11,"M") -> 0 | CJ11: =COUNTIF(BR11:CF11,"P") -> 0 | CK11: =COUNTIF(BR11:CF11,"F") -> 0 | CL11: =SUM(CJ11/(CJ11+CK11)) -> #DIV/0!
A12: =A11+1 -> 9 | S12: =COUNTIF(D12:R12,"J") -> 0 | T12: =COUNTIF(D12:R12,"F") -> 0 | U12: =COUNTIF(D12:R12,"M") -> 0 | V12: =COUNTIF(D12:R12,"P") -> 0 | W12: =COUNTIF(D12:R12,"F") -> 0 | X12: =SUM(V12/(V12+W12)) -> #DIV/0! | AO12: =COUNTIF(Z12:AN12,"J") -> 0 | AP12: =COUNTIF(Z12:AN12,"F") -> 0 | AQ12: =COUNTIF(Z12:AN12,"M") -> 0 | AR12: =COUNTIF(Z12:AN12,"P") -> 0 | AS12: =COUNTIF(Z12:AN12,"F") -> 0 | AT12: =SUM(AR12/(AR12+AS12)) -> #DIV/0! | BK12: =COUNTIF(AV12:BJ12,"J") -> 0 | BL12: =COUNTIF(AV12:BJ12,"F") -> 0 | BM12: =COUNTIF(AV12:BJ12,"M") -> 0 | BN12: =COUNTIF(AV12:BJ12,"P") -> 0 | BO12: =COUNTIF(AV12:BJ12,"F") -> 0 | BP12: =SUM(BN12/(BN12+BO12)) -> #DIV/0! | CG12: =COUNTIF(BR12:CF12,"J") -> 0 | CH12: =COUNTIF(BR12:CF12,"F") -> 0 | CI12: =COUNTIF(BR12:CF12,"M") -> 0 | CJ12: =COUNTIF(BR12:CF12,"P") -> 0 | CK12: =COUNTIF(BR12:CF12,"F") -> 0 | CL12: =SUM(CJ12/(CJ12+CK12)) -> #DIV/0!
A13: =A12+1 -> 10 | S13: =COUNTIF(D13:R13,"J") -> 0 | T13: =COUNTIF(D13:R13,"F") -> 0 | U13: =COUNTIF(D13:R13,"M") -> 0 | V13: =COUNTIF(D13:R13,"P") -> 0 | W13: =COUNTIF(D13:R13,"F") -> 0 | X13: =SUM(V13/(V13+W13)) -> #DIV/0! | AO13: =COUNTIF(Z13:AN13,"J") -> 0 | AP13: =COUNTIF(Z13:AN13,"F") -> 0 | AQ13: =COUNTIF(Z13:AN13,"M") -> 0 | AR13: =COUNTIF(Z13:AN13,"P") -> 0 | AS13: =COUNTIF(Z13:AN13,"F") -> 0 | AT13: =SUM(AR13/(AR13+AS13)) -> #DIV/0! | BK13: =COUNTIF(AV13:BJ13,"J") -> 0 | BL13: =COUNTIF(AV13:BJ13,"F") -> 0 | BM13: =COUNTIF(AV13:BJ13,"M") -> 0 | BN13: =COUNTIF(AV13:BJ13,"P") -> 0 | BO13: =COUNTIF(AV13:BJ13,"F") -> 0 | BP13: =SUM(BN13/(BN13+BO13)) -> #DIV/0! | CG13: =COUNTIF(BR13:CF13,"J") -> 0 | CH13: =COUNTIF(BR13:CF13,"F") -> 0 | CI13: =COUNTIF(BR13:CF13,"M") -> 0 | CJ13: =COUNTIF(BR13:CF13,"P") -> 0 | CK13: =COUNTIF(BR13:CF13,"F") -> 0 | CL13: =SUM(CJ13/(CJ13+CK13)) -> #DIV/0!
A14: =A13+1 -> 11 | S14: =COUNTIF(D14:R14,"J") -> 0 | T14: =COUNTIF(D14:R14,"F") -> 0 | U14: =COUNTIF(D14:R14,"M") -> 0 | V14: =COUNTIF(D14:R14,"P") -> 0 | W14: =COUNTIF(D14:R14,"F") -> 0 | X14: =SUM(V14/(V14+W14)) -> #DIV/0! | AO14: =COUNTIF(Z14:AN14,"J") -> 0 | AP14: =COUNTIF(Z14:AN14,"F") -> 0 | AQ14: =COUNTIF(Z14:AN14,"M") -> 0 | AR14: =COUNTIF(Z14:AN14,"P") -> 0 | AS14: =COUNTIF(Z14:AN14,"F") -> 0 | AT14: =SUM(AR14/(AR14+AS14)) -> #DIV/0! | BK14: =COUNTIF(AV14:BJ14,"J") -> 0 | BL14: =COUNTIF(AV14:BJ14,"F") -> 0 | BM14: =COUNTIF(AV14:BJ14,"M") -> 0 | BN14: =COUNTIF(AV14:BJ14,"P") -> 0 | BO14: =COUNTIF(AV14:BJ14,"F") -> 0 | BP14: =SUM(BN14/(BN14+BO14)) -> #DIV/0! | CG14: =COUNTIF(BR14:CF14,"J") -> 0 | CH14: =COUNTIF(BR14:CF14,"F") -> 0 | CI14: =COUNTIF(BR14:CF14,"M") -> 0 | CJ14: =COUNTIF(BR14:CF14,"P") -> 0 | CK14: =COUNTIF(BR14:CF14,"F") -> 0 | CL14: =SUM(CJ14/(CJ14+CK14)) -> #DIV/0!
A15: =A14+1 -> 12 | S15: =COUNTIF(D15:R15,"J") -> 0 | T15: =COUNTIF(D15:R15,"F") -> 0 | U15: =COUNTIF(D15:R15,"M") -> 0 | V15: =COUNTIF(D15:R15,"P") -> 0 | W15: =COUNTIF(D15:R15,"F") -> 0 | X15: =SUM(V15/(V15+W15)) -> #DIV/0! | AO15: =COUNTIF(Z15:AN15,"J") -> 0 | AP15: =COUNTIF(Z15:AN15,"F") -> 0 | AQ15: =COUNTIF(Z15:AN15,"M") -> 0 | AR15: =COUNTIF(Z15:AN15,"P") -> 0 | AS15: =COUNTIF(Z15:AN15,"F") -> 0 | AT15: =SUM(AR15/(AR15+AS15)) -> #DIV/0! | BK15: =COUNTIF(AV15:BJ15,"J") -> 0 | BL15: =COUNTIF(AV15:BJ15,"F") -> 0 | BM15: =COUNTIF(AV15:BJ15,"M") -> 0 | BN15: =COUNTIF(AV15:BJ15,"P") -> 0 | BO15: =COUNTIF(AV15:BJ15,"F") -> 0 | BP15: =SUM(BN15/(BN15+BO15)) -> #DIV/0! | CG15: =COUNTIF(BR15:CF15,"J") -> 0 | CH15: =COUNTIF(BR15:CF15,"F") -> 0 | CI15: =COUNTIF(BR15:CF15,"M") -> 0 | CJ15: =COUNTIF(BR15:CF15,"P") -> 0 | CK15: =COUNTIF(BR15:CF15,"F") -> 0 | CL15: =SUM(CJ15/(CJ15+CK15)) -> #DIV/0!
A16: =A15+1 -> 13 | S16: =COUNTIF(D16:R16,"J") -> 0 | T16: =COUNTIF(D16:R16,"F") -> 0 | U16: =COUNTIF(D16:R16,"M") -> 0 | V16: =COUNTIF(D16:R16,"P") -> 0 | W16: =COUNTIF(D16:R16,"F") -> 0 | X16: =SUM(V16/(V16+W16)) -> #DIV/0! | AO16: =COUNTIF(Z16:AN16,"J") -> 0 | AP16: =COUNTIF(Z16:AN16,"F") -> 0 | AQ16: =COUNTIF(Z16:AN16,"M") -> 0 | AR16: =COUNTIF(Z16:AN16,"P") -> 0 | AS16: =COUNTIF(Z16:AN16,"F") -> 0 | AT16: =SUM(AR16/(AR16+AS16)) -> #DIV/0! | BK16: =COUNTIF(AV16:BJ16,"J") -> 0 | BL16: =COUNTIF(AV16:BJ16,"F") -> 0 | BM16: =COUNTIF(AV16:BJ16,"M") -> 0 | BN16: =COUNTIF(AV16:BJ16,"P") -> 0 | BO16: =COUNTIF(AV16:BJ16,"F") -> 0 | BP16: =SUM(BN16/(BN16+BO16)) -> #DIV/0! | CG16: =COUNTIF(BR16:CF16,"J") -> 0 | CH16: =COUNTIF(BR16:CF16,"F") -> 0 | CI16: =COUNTIF(BR16:CF16,"M") -> 0 | CJ16: =COUNTIF(BR16:CF16,"P") -> 0 | CK16: =COUNTIF(BR16:CF16,"F") -> 0 | CL16: =SUM(CJ16/(CJ16+CK16)) -> #DIV/0!
A17: =A16+1 -> 14 | S17: =COUNTIF(D17:R17,"J") -> 0 | T17: =COUNTIF(D17:R17,"F") -> 0 | U17: =COUNTIF(D17:R17,"M") -> 0 | V17: =COUNTIF(D17:R17,"P") -> 0 | W17: =COUNTIF(D17:R17,"F") -> 0 | X17: =SUM(V17/(V17+W17)) -> #DIV/0! | AO17: =COUNTIF(Z17:AN17,"J") -> 0 | AP17: =COUNTIF(Z17:AN17,"F") -> 0 | AQ17: =COUNTIF(Z17:AN17,"M") -> 0 | AR17: =COUNTIF(Z17:AN17,"P") -> 0 | AS17: =COUNTIF(Z17:AN17,"F") -> 0 | AT17: =SUM(AR17/(AR17+AS17)) -> #DIV/0! | BK17: =COUNTIF(AV17:BJ17,"J") -> 0 | BL17: =COUNTIF(AV17:BJ17,"F") -> 0 | BM17: =COUNTIF(AV17:BJ17,"M") -> 0 | BN17: =COUNTIF(AV17:BJ17,"P") -> 0 | BO17: =COUNTIF(AV17:BJ17,"F") -> 0 | BP17: =SUM(BN17/(BN17+BO17)) -> #DIV/0! | CG17: =COUNTIF(BR17:CF17,"J") -> 0 | CH17: =COUNTIF(BR17:CF17,"F") -> 0 | CI17: =COUNTIF(BR17:CF17,"M") -> 0 | CJ17: =COUNTIF(BR17:CF17,"P") -> 0 | CK17: =COUNTIF(BR17:CF17,"F") -> 0 | CL17: =SUM(CJ17/(CJ17+CK17)) -> #DIV/0!
A18: =A17+1 -> 15 | S18: =COUNTIF(D18:R18,"J") -> 0 | T18: =COUNTIF(D18:R18,"F") -> 0 | U18: =COUNTIF(D18:R18,"M") -> 0 | V18: =COUNTIF(D18:R18,"P") -> 0 | W18: =COUNTIF(D18:R18,"F") -> 0 | X18: =SUM(V18/(V18+W18)) -> #DIV/0! | AO18: =COUNTIF(Z18:AN18,"J") -> 0 | AP18: =COUNTIF(Z18:AN18,"F") -> 0 | AQ18: =COUNTIF(Z18:AN18,"M") -> 0 | AR18: =COUNTIF(Z18:AN18,"P") -> 0 | AS18: =COUNTIF(Z18:AN18,"F") -> 0 | AT18: =SUM(AR18/(AR18+AS18)) -> #DIV/0! | BK18: =COUNTIF(AV18:BJ18,"J") -> 0 | BL18: =COUNTIF(AV18:BJ18,"F") -> 0 | BM18: =COUNTIF(AV18:BJ18,"M") -> 0 | BN18: =COUNTIF(AV18:BJ18,"P") -> 0 | BO18: =COUNTIF(AV18:BJ18,"F") -> 0 | BP18: =SUM(BN18/(BN18+BO18)) -> #DIV/0! | CG18: =COUNTIF(BR18:CF18,"J") -> 0 | CH18: =COUNTIF(BR18:CF18,"F") -> 0 | CI18: =COUNTIF(BR18:CF18,"M") -> 0 | CJ18: =COUNTIF(BR18:CF18,"P") -> 0 | CK18: =COUNTIF(BR18:CF18,"F") -> 0 | CL18: =SUM(CJ18/(CJ18+CK18)) -> #DIV/0!
A19: =A18+1 -> 16 | S19: =COUNTIF(D19:R19,"J") -> 0 | T19: =COUNTIF(D19:R19,"F") -> 0 | U19: =COUNTIF(D19:R19,"M") -> 0 | V19: =COUNTIF(D19:R19,"P") -> 0 | W19: =COUNTIF(D19:R19,"F") -> 0 | X19: =SUM(V19/(V19+W19)) -> #DIV/0! | AO19: =COUNTIF(Z19:AN19,"J") -> 0 | AP19: =COUNTIF(Z19:AN19,"F") -> 0 | AQ19: =COUNTIF(Z19:AN19,"M") -> 0 | AR19: =COUNTIF(Z19:AN19,"P") -> 0 | AS19: =COUNTIF(Z19:AN19,"F") -> 0 | AT19: =SUM(AR19/(AR19+AS19)) -> #DIV/0! | BK19: =COUNTIF(AV19:BJ19,"J") -> 0 | BL19: =COUNTIF(AV19:BJ19,"F") -> 0 | BM19: =COUNTIF(AV19:BJ19,"M") -> 0 | BN19: =COUNTIF(AV19:BJ19,"P") -> 0 | BO19: =COUNTIF(AV19:BJ19,"F") -> 0 | BP19: =SUM(BN19/(BN19+BO19)) -> #DIV/0! | CG19: =COUNTIF(BR19:CF19,"J") -> 0 | CH19: =COUNTIF(BR19:CF19,"F") -> 0 | CI19: =COUNTIF(BR19:CF19,"M") -> 0 | CJ19: =COUNTIF(BR19:CF19,"P") -> 0 | CK19: =COUNTIF(BR19:CF19,"F") -> 0 | CL19: =SUM(CJ19/(CJ19+CK19)) -> #DIV/0!
A20: =A19+1 -> 17 | S20: =COUNTIF(D20:R20,"J") -> 0 | T20: =COUNTIF(D20:R20,"F") -> 0 | U20: =COUNTIF(D20:R20,"M") -> 0 | V20: =COUNTIF(D20:R20,"P") -> 0 | W20: =COUNTIF(D20:R20,"F") -> 0 | X20: =SUM(V20/(V20+W20)) -> #DIV/0! | AO20: =COUNTIF(Z20:AN20,"J") -> 0 | AP20: =COUNTIF(Z20:AN20,"F") -> 0 | AQ20: =COUNTIF(Z20:AN20,"M") -> 0 | AR20: =COUNTIF(Z20:AN20,"P") -> 0 | AS20: =COUNTIF(Z20:AN20,"F") -> 0 | AT20: =SUM(AR20/(AR20+AS20)) -> #DIV/0! | BK20: =COUNTIF(AV20:BJ20,"J") -> 0 | BL20: =COUNTIF(AV20:BJ20,"F") -> 0 | BM20: =COUNTIF(AV20:BJ20,"M") -> 0 | BN20: =COUNTIF(AV20:BJ20,"P") -> 0 | BO20: =COUNTIF(AV20:BJ20,"F") -> 0 | BP20: =SUM(BN20/(BN20+BO20)) -> #DIV/0! | CG20: =COUNTIF(BR20:CF20,"J") -> 0 | CH20: =COUNTIF(BR20:CF20,"F") -> 0 | CI20: =COUNTIF(BR20:CF20,"M") -> 0 | CJ20: =COUNTIF(BR20:CF20,"P") -> 0 | CK20: =COUNTIF(BR20:CF20,"F") -> 0 | CL20: =SUM(CJ20/(CJ20+CK20)) -> #DIV/0!
... A63: =A62+1 -> 60 | S63: =COUNTIF(D63:R63,"J") -> 0 | T63: =COUNTIF(D63:R63,"F") -> 0 | U63: =COUNTIF(D63:R63,"M") -> 0 | V63: =COUNTIF(D63:R63,"P") -> 0 | W63: =COUNTIF(D63:R63,"F") -> 0 | X63: =SUM(V63/(V63+W63)) -> #DIV/0! | AO63: =COUNTIF(Z63:AN63,"J") -> 0 | AP63: =COUNTIF(Z63:AN63,"F") -> 0 | AQ63: =COUNTIF(Z63:AN63,"M") -> 0 | AR63: =COUNTIF(Z63:AN63,"P") -> 0 | AS63: =COUNTIF(Z63:AN63,"F") -> 0 | AT63: =SUM(AR63/(AR63+AS63)) -> #DIV/0! | BK63: =COUNTIF(AV63:BJ63,"J") -> 0 | BL63: =COUNTIF(AV63:BJ63,"F") -> 0 | BM63: =COUNTIF(AV63:BJ63,"M") -> 0 | BN63: =COUNTIF(AV63:BJ63,"P") -> 0 | BO63: =COUNTIF(AV63:BJ63,"F") -> 0 | BP63: =SUM(BN63/(BN63+BO63)) -> #DIV/0! | CG63: =COUNTIF(BR63:CF63,"J") -> 0 | CH63: =COUNTIF(BR63:CF63,"F") -> 0 | CI63: =COUNTIF(BR63:CF63,"M") -> 0 | CJ63: =COUNTIF(BR63:CF63,"P") -> 0 | CK63: =COUNTIF(BR63:CF63,"F") -> 0 | CL63: =SUM(CJ63/(CJ63+CK63)) -> #DIV/0!
C64: Alunos matriculados | D64: =COUNTA(D4:D63) -> 5 | E64: =COUNTA(E4:E63) -> 5 | F64: =COUNTA(F4:F63) -> 5 | G64: =COUNTA(G4:G63) -> 5 | H64: =COUNTA(H4:H63) -> 5 | I64: =COUNTA(I4:I63) -> 5 | J64: =COUNTA(J4:J63) -> 5 | K64: =COUNTA(K4:K63) -> 5 | ... R64: =COUNTA(R4:R63) -> 5 | Z64: =COUNTA(Z4:Z63) -> 5 | AA64: =COUNTA(AA4:AA63) -> 5 | AB64: =COUNTA(AB4:AB63) -> 5 | AC64: =COUNTA(AC4:AC63) -> 5 | AD64: =COUNTA(AD4:AD63) -> 5 | AE64: =COUNTA(AE4:AE63) -> 5 | AF64: =COUNTA(AF4:AF63) -> 5 | AG64: =COUNTA(AG4:AG63) -> 5 | ... AN64: =COUNTA(AN4:AN63) -> 5 | AV64: =COUNTA(AV4:AV63) -> 5 | AW64: =COUNTA(AW4:AW63) -> 5 | AX64: =COUNTA(AX4:AX63) -> 5 | AY64: =COUNTA(AY4:AY63) -> 5 | AZ64: =COUNTA(AZ4:AZ63) -> 5 | BA64: =COUNTA(BA4:BA63) -> 5 | BB64: =COUNTA(BB4:BB63) -> 5 | BC64: =COUNTA(BC4:BC63) -> 5 | ... BJ64: =COUNTA(BJ4:BJ63) -> 5 | BR64: =COUNTA(BR4:BR63) -> 5 | BS64: =COUNTA(BS4:BS63) -> 5 | BT64: =COUNTA(BT4:BT63) -> 5 | BU64: =COUNTA(BU4:BU63) -> 5 | BV64: =COUNTA(BV4:BV63) -> 5 | BW64: =COUNTA(BW4:BW63) -> 5 | BX64: =COUNTA(BX4:BX63) -> 5 | BY64: =COUNTA(BY4:BY63) -> 5 | ... CF64: =COUNTA(CF4:CF63) -> 5
C65: Ausentes | D65: =COUNTIF(D4:D63,"F") -> 0 | E65: =COUNTIF(E4:E63,"F") -> 2 | F65: =COUNTIF(F4:F63,"F") -> 4 | G65: =COUNTIF(G4:G63,"F") -> 4 | H65: =COUNTIF(H4:H63,"F") -> 2 | I65: =COUNTIF(I4:I63,"F") -> 1 | J65: =COUNTIF(J4:J63,"F") -> 1 | K65: =COUNTIF(K4:K63,"F") -> 1 | ... R65: =COUNTIF(R4:R63,"F") -> 2 | Z65: =COUNTIF(Z4:Z63,"F") -> 0 | AA65: =COUNTIF(AA4:AA63,"F") -> 2 | AB65: =COUNTIF(AB4:AB63,"F") -> 3 | AC65: =COUNTIF(AC4:AC63,"F") -> 3 | AD65: =COUNTIF(AD4:AD63,"F") -> 3 | AE65: =COUNTIF(AE4:AE63,"F") -> 1 | AF65: =COUNTIF(AF4:AF63,"F") -> 1 | AG65: =COUNTIF(AG4:AG63,"F") -> 1 | ... AN65: =COUNTIF(AN4:AN63,"F") -> 1 | AV65: =COUNTIF(AV4:AV63,"F") -> 0 | AW65: =COUNTIF(AW4:AW63,"F") -> 2 | AX65: =COUNTIF(AX4:AX63,"F") -> 3 | AY65: =COUNTIF(AY4:AY63,"F") -> 3 | AZ65: =COUNTIF(AZ4:AZ63,"F") -> 3 | BA65: =COUNTIF(BA4:BA63,"F") -> 1 | BB65: =COUNTIF(BB4:BB63,"F") -> 1 | BC65: =COUNTIF(BC4:BC63,"F") -> 1 | ... BJ65: =COUNTIF(BJ4:BJ63,"F") -> 3 | BR65: =COUNTIF(BR4:BR63,"F") -> 0 | BS65: =COUNTIF(BS4:BS63,"F") -> 2 | BT65: =COUNTIF(BT4:BT63,"F") -> 3 | BU65: =COUNTIF(BU4:BU63,"F") -> 3 | BV65: =COUNTIF(BV4:BV63,"F") -> 3 | BW65: =COUNTIF(BW4:BW63,"F") -> 1 | BX65: =COUNTIF(BX4:BX63,"F") -> 1 | BY65: =COUNTIF(BY4:BY63,"F") -> 1 | ... CF65: =COUNTIF(CF4:CF63,"F") -> 3
C66: Presentes | D66: =COUNTIF(D4:D63,"P") -> 5 | E66: =COUNTIF(E4:E63,"P") -> 2 | F66: =COUNTIF(F4:F63,"P") -> 1 | G66: =COUNTIF(G4:G63,"P") -> 1 | H66: =COUNTIF(H4:H63,"P") -> 3 | I66: =COUNTIF(I4:I63,"P") -> 4 | J66: =COUNTIF(J4:J63,"P") -> 4 | K66: =COUNTIF(K4:K63,"P") -> 4 | ... R66: =COUNTIF(R4:R63,"P") -> 3 | Z66: =COUNTIF(Z4:Z63,"P") -> 5 | AA66: =COUNTIF(AA4:AA63,"P") -> 3 | AB66: =COUNTIF(AB4:AB63,"P") -> 2 | AC66: =COUNTIF(AC4:AC63,"P") -> 2 | AD66: =COUNTIF(AD4:AD63,"P") -> 2 | AE66: =COUNTIF(AE4:AE63,"P") -> 4 | AF66: =COUNTIF(AF4:AF63,"P") -> 4 | AG66: =COUNTIF(AG4:AG63,"P") -> 4 | ... AN66: =COUNTIF(AN4:AN63,"P") -> 4 | AV66: =COUNTIF(AV4:AV63,"P") -> 5 | AW66: =COUNTIF(AW4:AW63,"P") -> 3 | AX66: =COUNTIF(AX4:AX63,"P") -> 2 | AY66: =COUNTIF(AY4:AY63,"P") -> 2 | AZ66: =COUNTIF(AZ4:AZ63,"P") -> 2 | BA66: =COUNTIF(BA4:BA63,"P") -> 4 | BB66: =COUNTIF(BB4:BB63,"P") -> 4 | BC66: =COUNTIF(BC4:BC63,"P") -> 4 | ... BJ66: =COUNTIF(BJ4:BJ63,"P") -> 2 | BR66: =COUNTIF(BR4:BR63,"P") -> 5 | BS66: =COUNTIF(BS4:BS63,"P") -> 3 | BT66: =COUNTIF(BT4:BT63,"P") -> 2 | BU66: =COUNTIF(BU4:BU63,"P") -> 2 | BV66: =COUNTIF(BV4:BV63,"P") -> 2 | BW66: =COUNTIF(BW4:BW63,"P") -> 4 | BX66: =COUNTIF(BX4:BX63,"P") -> 4 | BY66: =COUNTIF(BY4:BY63,"P") -> 4 | ... CF66: =COUNTIF(CF4:CF63,"P") -> 2
C67: Visitantes | D67: 8 | E67: 6 | F67: 6 | G67: 0 | H67: 6 | I67: 5 | Z67: 8 | AA67: 6 | AB67: 6 | AC67: 0 | AD67: 6 | AE67: 5 | AV67: 8 | AW67: 6 | AX67: 6 | AY67: 0 | AZ67: 6 | BA67: 5 | BR67: 8 | BS67: 6 | BT67: 6 | BU67: 0 | BV67: 6 | BW67: 5
C68: Total de Assistencia | D68: =D66+D67 -> 13 | E68: =E66+E67 -> 8 | F68: =F66+F67 -> 7 | G68: =G66+G67 -> 1 | H68: =H66+H67 -> 9 | I68: =I66+I67 -> 9 | J68: =J66+J67 -> 4 | K68: =K66+K67 -> 4 | ... R68: =R66+R67 -> 3 | Z68: =Z66+Z67 -> 13 | AA68: =AA66+AA67 -> 9 | AB68: =AB66+AB67 -> 8 | AC68: =AC66+AC67 -> 2 | AD68: =AD66+AD67 -> 8 | AE68: =AE66+AE67 -> 9 | AF68: =AF66+AF67 -> 4 | AG68: =AG66+AG67 -> 4 | ... AN68: =AN66+AN67 -> 4 | AV68: =AV66+AV67 -> 13 | AW68: =AW66+AW67 -> 9 | AX68: =AX66+AX67 -> 8 | AY68: =AY66+AY67 -> 2 | AZ68: =AZ66+AZ67 -> 8 | BA68: =BA66+BA67 -> 9 | BB68: =BB66+BB67 -> 4 | BC68: =BC66+BC67 -> 4 | ... BJ68: =BJ66+BJ67 -> 2 | BR68: =BR66+BR67 -> 13 | BS68: =BS66+BS67 -> 9 | BT68: =BT66+BT67 -> 8 | BU68: =BU66+BU67 -> 2 | BV68: =BV66+BV67 -> 8 | BW68: =BW66+BW67 -> 9 | BX68: =BX66+BX67 -> 4 | BY68: =BY66+BY67 -> 4 | ... CF68: =CF66+CF67 -> 2
C69: Bíblias | D69: 30 | E69: 27 | F69: 27 | G69: 0 | H69: 26 | I69: 39 | Z69: 30 | AA69: 27 | AB69: 27 | AC69: 0 | AD69: 26 | AE69: 39 | AV69: 30 | AW69: 27 | AX69: 27 | AY69: 0 | AZ69: 26 | BA69: 39 | BR69: 30 | BS69: 27 | BT69: 27 | BU69: 0 | BV69: 26 | BW69: 39
C70: Revistas | D70: 30 | E70: 25 | F70: 27 | G70: 0 | H70: 20 | I70: 30 | Z70: 30 | AA70: 25 | AB70: 27 | AC70: 0 | AD70: 20 | AE70: 30 | AV70: 30 | AW70: 25 | AX70: 27 | AY70: 0 | AZ70: 20 | BA70: 30 | BR70: 30 | BS70: 25 | BT70: 27 | BU70: 0 | BV70: 20 | BW70: 30
C71: Oferta | D71: 0 | E71: 0 | F71: 0 | G71: 0 | H71: 0 | I71: 0 | Z71: 0 | AA71: 0 | AB71: 0 | AC71: 0 | AD71: 0 | AE71: 0 | AV71: 0 | AW71: 0 | AX71: 0 | AY71: 0 | AZ71: 0 | BA71: 0 | BR71: 0 | BS71: 0 | BT71: 0 | BU71: 0 | BV71: 0 | BW71: 0
C74: MÉDIA GERAL DE ASSISTENCIA | D74: =D79 -> 0.48 | I74: =I79 -> 0.72 | N74: =N79 -> 0.76 | Z74: =Z79 -> 0.56 | AE74: =AE79 -> 0.8 | AJ74: =AJ79 -> 0.8 | AV74: =AV79 -> 0.56 | BA74: =BA79 -> 0.72 | BF74: =BF79 -> 0.72 | BR74: =BR79 -> 0.56 | BW74: =BW79 -> 0.72 | CB74: =CB79 -> 0.72
C77: Matriculados | D77: =SUM(D64:H64) -> 25 | I77: =SUM(I64:M64) -> 25 | N77: =SUM(N64:R64) -> 25 | Z77: =SUM(Z64:AD64) -> 25 | AE77: =SUM(AE64:AI64) -> 25 | AJ77: =SUM(AJ64:AN64) -> 25 | AV77: =SUM(AV64:AZ64) -> 25 | BA77: =SUM(BA64:BE64) -> 25 | BF77: =SUM(BF64:BJ64) -> 25 | BR77: =SUM(BR64:BV64) -> 25 | BW77: =SUM(BW64:CA64) -> 25 | CB77: =SUM(CB64:CF64) -> 25
C78: Presenças | D78: =SUM(D66:H66) -> 12 | I78: =SUM(I66:M66) -> 18 | N78: =SUM(N66:R66) -> 19 | Z78: =SUM(Z66:AD66) -> 14 | AE78: =SUM(AE66:AI66) -> 20 | AJ78: =SUM(AJ66:AN66) -> 20 | AV78: =SUM(AV66:AZ66) -> 14 | BA78: =SUM(BA66:BE66) -> 18 | BF78: =SUM(BF66:BJ66) -> 18 | BR78: =SUM(BR66:BV66) -> 14 | BW78: =SUM(BW66:CA66) -> 18 | CB78: =SUM(CB66:CF66) -> 18
C79: Percetual de pres. | D79: =D78/D77 -> 0.48 | I79: =I78/I77 -> 0.72 | N79: =N78/N77 -> 0.76 | Z79: =Z78/Z77 -> 0.56 | AE79: =AE78/AE77 -> 0.8 | AJ79: =AJ78/AJ77 -> 0.8 | AV79: =AV78/AV77 -> 0.56 | BA79: =BA78/BA77 -> 0.72 | BF79: =BF78/BF77 -> 0.72 | BR79: =BR78/BR77 -> 0.56 | BW79: =BW78/BW77 -> 0.72 | CB79: =CB78/CB77 -> 0.72

Sheet CLASSE 6
A1: NOME DA CLASSE: | C1: CLASSE 6 | Z1: =$C$1 -> CLASSE 6 | AV1: =$C$1 -> CLASSE 6 | BR1: =$C$1 -> CLASSE 6
A2: Nº | B2: ALUNO | C2: OBSERVAÇÕES | D2: JANEIRO | I2: FEVEREIRO | N2: MARÇO | S2: Frequencia do Trimestre | Z2: ABRIL | AE2: MAIO | AJ2: JUNHO | AO2: Frequencia do Trimestre | AV2: JULHO | BA2: AGOSTO | BF2: SETEMBRO | BK2: Frequencia do Trimestre | BR2: OUTUBRO | BW2: NOVEMBRO | CB2: DEZEMBRO | CG2: Frequencia do Trimestre
D3: 1º | E3: 2º | F3: 3º | G3: 4º | H3: 5º | I3: 1º | J3: 2º | K3: 3º | L3: 4º | M3: 5º | N3: 1º | O3: 2º | P3: 3º | Q3: 4º | R3: 5º | S3: J | T3: F | U3: M | V3: P | W3: F | X3: Frequencia % | Z3: 1º | AA3: 2º | AB3: 3º | AC3: 4º | AD3: 5º | AE3: 1º | AF3: 2º | AG3: 3º | AH3: 4º | AI3: 5º | AJ3: 1º | AK3: 2º | AL3: 3º | AM3: 4º | AN3: 5º | AO3: J | AP3: F | AQ3: M | AR3: P | AS3: F | AT3: Frequencia % | AV3: 1º | AW3: 2º | AX3: 3º | AY3: 4º | AZ3: 5º | BA3: 1º | BB3: 2º | BC3: 3º | BD3: 4º | BE3: 5º | BF3: 1º | BG3: 2º | BH3: 3º | BI3: 4º | BJ3: 5º | BK3: J | BL3: F | BM3: M | BN3: P | BO3: F | BP3: Frequencia % | BR3: 1º | BS3: 2º | BT3: 3º | BU3: 4º | BV3: 5º | BW3: 1º | BX3: 2º | BY3: 3º | BZ3: 4º | CA3: 5º | CB3: 1º | CC3: 2º | CD3: 3º | CE3: 4º | CF3: 5º | CG3: J | CH3: F | CI3: M | CJ3: P | CK3: F | CL3: Frequencia %
A4: 1 | B4: ALUNO 1 | D4: P | E4: J | F4: F | G4: F | H4: P | I4: P | J4: P | K4: P | L4: F | M4: P | N4: P | O4: P | P4: P | Q4: P | R4: P | S4: =COUNTIF(D4:R4,"J") -> 1 | T4: =COUNTIF(D4:R4,"F") -> 3 | U4: =COUNTIF(D4:R4,"M") -> 0 | V4: =COUNTIF(D4:R4,"P") -> 11 | W4: =COUNTIF(D4:R4,"F") -> 3 | X4: =SUM(V4/(V4+W4)) -> 0.78571429 | Z4: P | AA4: P | AB4: P | AC4: P | AD4: F | AE4: P | AF4: P | AG4: P | AH4: P | AI4: P | AJ4: P | AK4: P | AL4: P | AM4: P | AN4: P | AO4: =COUNTIF(Z4:AN4,"J") -> 0 | AP4: =COUNTIF(Z4:AN4,"F") -> 1 | AQ4: =COUNTIF(Z4:AN4,"M") -> 0 | AR4: =COUNTIF(Z4:AN4,"P") -> 14 | AS4: =COUNTIF(Z4:AN4,"F") -> 1 | AT4: =SUM(AR4/(AR4+AS4)) -> 0.93333333 | AV4: P | AW4: P | AX4: P | AY4: P | AZ4: F | BA4: P | BB4: P | BC4: P | BD4: P | BE4: F | BF4: P | BG4: P | BH4: P | BI4: P | BJ4: F | BK4: =COUNTIF(AV4:BJ4,"J") -> 0 | BL4: =COUNTIF(AV4:BJ4,"F") -> 3 | BM4: =COUNTIF(AV4:BJ4,"M") -> 0 | BN4: =COUNTIF(AV4:BJ4,"P") -> 12 | BO4: =COUNTIF(AV4:BJ4,"F") -> 3 | BP4: =SUM(BN4/(BN4+BO4)) -> 0.8 | BR4: P | BS4: P | BT4: P | BU4: P | BV4: F | BW4: P | BX4: P | BY4: P | BZ4: P | CA4: F | CB4: P | CC4: P | CD4: P | CE4: P | CF4: F | CG4: =COUNTIF(BR4:CF4,"J") -> 0 | CH4: =COUNTIF(BR4:CF4,"F") -> 3 | CI4: =COUNTIF(BR4:CF4,"M") -> 0 | CJ4: =COUNTIF(BR4:CF4,"P") -> 12 | CK4: =COUNTIF(BR4:CF4,"F") -> 3 | CL4: =SUM(CJ4/(CJ4+CK4)) -> 0.8
A5: =A4+1 -> 2 | B5: ALUNO 2 | D5: P | E5: P | F5: F | G5: F | H5: F | I5: F | J5: F | K5: F | L5: F | M5: F | N5: F | O5: F | P5: F | Q5: F | R5: F | S5: =COUNTIF(D5:R5,"J") -> 0 | T5: =COUNTIF(D5:R5,"F") -> 13 | U5: =COUNTIF(D5:R5,"M") -> 0 | V5: =COUNTIF(D5:R5,"P") -> 2 | W5: =COUNTIF(D5:R5,"F") -> 13 | X5: =SUM(V5/(V5+W5)) -> 0.13333333 | Z5: P | AA5: P | AB5: F | AC5: F | AD5: F | AE5: F | AF5: F | AG5: F | AH5: F | AI5: F | AJ5: F | AK5: F | AL5: F | AM5: F | AN5: F | AO5: =COUNTIF(Z5:AN5,"J") -> 0 | AP5: =COUNTIF(Z5:AN5,"F") -> 13 | AQ5: =COUNTIF(Z5:AN5,"M") -> 0 | AR5: =COUNTIF(Z5:AN5,"P") -> 2 | AS5: =COUNTIF(Z5:AN5,"F") -> 13 | AT5: =SUM(AR5/(AR5+AS5)) -> 0.13333333 | AV5: P | AW5: P | AX5: F | AY5: F | AZ5: F | BA5: F | BB5: F | BC5: F | BD5: F | BE5: F | BF5: F | BG5: F | BH5: F | BI5: F | BJ5: F | BK5: =COUNTIF(AV5:BJ5,"J") -> 0 | BL5: =COUNTIF(AV5:BJ5,"F") -> 13 | BM5: =COUNTIF(AV5:BJ5,"M") -> 0 | BN5: =COUNTIF(AV5:BJ5,"P") -> 2 | BO5: =COUNTIF(AV5:BJ5,"F") -> 13 | BP5: =SUM(BN5/(BN5+BO5)) -> 0.13333333 | BR5: P | BS5: P | BT5: F | BU5: F | BV5: F | BW5: F | BX5: F | BY5: F | BZ5: F | CA5: F | CB5: F | CC5: F | CD5: F | CE5: F | CF5: F | CG5: =COUNTIF(BR5:CF5,"J") -> 0 | CH5: =COUNTIF(BR5:CF5,"F") -> 13 | CI5: =COUNTIF(BR5:CF5,"M") -> 0 | CJ5: =COUNTIF(BR5:CF5,"P") -> 2 | CK5: =COUNTIF(BR5:CF5,"F") -> 13 | CL5: =SUM(CJ5/(CJ5+CK5)) -> 0.13333333
A6: =A5+1 -> 3 | B6: ALUNO 3 | D6: P | E6: P | F6: F | G6: F | H6: P | I6: P | J6: P | K6: P | L6: P | M6: P | N6: P | O6: P | P6: P | Q6: P | R6: P | S6: =COUNTIF(D6:R6,"J") -> 0 | T6: =COUNTIF(D6:R6,"F") -> 2 | U6: =COUNTIF(D6:R6,"M") -> 0 | V6: =COUNTIF(D6:R6,"P") -> 13 | W6: =COUNTIF(D6:R6,"F") -> 2 | X6: =SUM(V6/(V6+W6)) -> 0.86666667 | Z6: P | AA6: P | AB6: F | AC6: F | AD6: P | AE6: P | AF6: P | AG6: P | AH6: P | AI6: P | AJ6: P | AK6: P | AL6: P | AM6: P | AN6: P | AO6: =COUNTIF(Z6:AN6,"J") -> 0 | AP6: =COUNTIF(Z6:AN6,"F") -> 2 | AQ6: =COUNTIF(Z6:AN6,"M") -> 0 | AR6: =COUNTIF(Z6:AN6,"P") -> 13 | AS6: =COUNTIF(Z6:AN6,"F") -> 2 | AT6: =SUM(AR6/(AR6+AS6)) -> 0.86666667 | AV6: P | AW6: P | AX6: F | AY6: F | AZ6: P | BA6: P | BB6: P | BC6: P | BD6: P | BE6: P | BF6: P | BG6: P | BH6: P | BI6: P | BJ6: P | BK6: =COUNTIF(AV6:BJ6,"J") -> 0 | BL6: =COUNTIF(AV6:BJ6,"F") -> 2 | BM6: =COUNTIF(AV6:BJ6,"M") -> 0 | BN6: =COUNTIF(AV6:BJ6,"P") -> 13 | BO6: =COUNTIF(AV6:BJ6,"F") -> 2 | BP6: =SUM(BN6/(BN6+BO6)) -> 0.86666667 | BR6: P | BS6: P | BT6: F | BU6: F | BV6: P | BW6: P | BX6: P | BY6: P | BZ6: P | CA6: P | CB6: P | CC6: P | CD6: P | CE6: P | CF6: P | CG6: =COUNTIF(BR6:CF6,"J") -> 0 | CH6: =COUNTIF(BR6:CF6,"F") -> 2 | CI6: =COUNTIF(BR6:CF6,"M") -> 0 | CJ6: =COUNTIF(BR6:CF6,"P") -> 13 | CK6: =COUNTIF(BR6:CF6,"F") -> 2 | CL6: =SUM(CJ6/(CJ6+CK6)) -> 0.86666667
A7: =A6+1 -> 4 | B7: ALUNO 4 | D7: P | E7: F | F7: F | G7: F | H7: F | I7: P | J7: P | K7: P | L7: P | M7: F | N7: P | O7: P | P7: P | Q7: P | R7: F | S7: =COUNTIF(D7:R7,"J") -> 0 | T7: =COUNTIF(D7:R7,"F") -> 6 | U7: =COUNTIF(D7:R7,"M") -> 0 | V7: =COUNTIF(D7:R7,"P") -> 9 | W7: =COUNTIF(D7:R7,"F") -> 6 | X7: =SUM(V7/(V7+W7)) -> 0.6 | Z7: P | AA7: F | AB7: F | AC7: F | AD7: F | AE7: P | AF7: P | AG7: P | AH7: P | AI7: P | AJ7: P | AK7: P | AL7: P | AM7: P | AN7: P | AO7: =COUNTIF(Z7:AN7,"J") -> 0 | AP7: =COUNTIF(Z7:AN7,"F") -> 4 | AQ7: =COUNTIF(Z7:AN7,"M") -> 0 | AR7: =COUNTIF(Z7:AN7,"P") -> 11 | AS7: =COUNTIF(Z7:AN7,"F") -> 4 | AT7: =SUM(AR7/(AR7+AS7)) -> 0.73333333 | AV7: P | AW7: F | AX7: F | AY7: F | AZ7: F | BA7: P | BB7: P | BC7: P | BD7: P | BE7: F | BF7: P | BG7: P | BH7: P | BI7: P | BJ7: F | BK7: =COUNTIF(AV7:BJ7,"J") -> 0 | BL7: =COUNTIF(AV7:BJ7,"F") -> 6 | BM7: =COUNTIF(AV7:BJ7,"M") -> 0 | BN7: =COUNTIF(AV7:BJ7,"P") -> 9 | BO7: =COUNTIF(AV7:BJ7,"F") -> 6 | BP7: =SUM(BN7/(BN7+BO7)) -> 0.6 | BR7: P | BS7: F | BT7: F | BU7: F | BV7: F | BW7: P | BX7: P | BY7: P | BZ7: P | CA7: F | CB7: P | CC7: P | CD7: P | CE7: P | CF7: F | CG7: =COUNTIF(BR7:CF7,"J") -> 0 | CH7: =COUNTIF(BR7:CF7,"F") -> 6 | CI7: =COUNTIF(BR7:CF7,"M") -> 0 | CJ7: =COUNTIF(BR7:CF7,"P") -> 9 | CK7: =COUNTIF(BR7:CF7,"F") -> 6 | CL7: =SUM(CJ7/(CJ7+CK7)) -> 0.6
A8: =A7+1 -> 5 | B8: ALUNO 5 | D8: P | E8: F | F8: P | G8: P | H8: P | I8: P | J8: P | K8: P | L8: P | M8: P | N8: P | O8: P | P8: P | Q8: P | R8: P | S8: =COUNTIF(D8:R8,"J") -> 0 | T8: =COUNTIF(D8:R8,"F") -> 1 | U8: =COUNTIF(D8:R8,"M") -> 0 | V8: =COUNTIF(D8:R8,"P") -> 14 | W8: =COUNTIF(D8:R8,"F") -> 1 | X8: =SUM(V8/(V8+W8)) -> 0.93333333 | Z8: P | AA8: F | AB8: P | AC8: P | AD8: P | AE8: P | AF8: P | AG8: P | AH8: P | AI8: P | AJ8: P | AK8: P | AL8: P | AM8: P | AN8: P | AO8: =COUNTIF(Z8:AN8,"J") -> 0 | AP8: =COUNTIF(Z8:AN8,"F") -> 1 | AQ8: =COUNTIF(Z8:AN8,"M") -> 0 | AR8: =COUNTIF(Z8:AN8,"P") -> 14 | AS8: =COUNTIF(Z8:AN8,"F") -> 1 | AT8: =SUM(AR8/(AR8+AS8)) -> 0.93333333 | AV8: P | AW8: F | AX8: P | AY8: P | AZ8: P | BA8: P | BB8: P | BC8: P | BD8: P | BE8: P | BF8: P | BG8: P | BH8: P | BI8: P | BJ8: P | BK8: =COUNTIF(AV8:BJ8,"J") -> 0 | BL8: =COUNTIF(AV8:BJ8,"F") -> 1 | BM8: =COUNTIF(AV8:BJ8,"M") -> 0 | BN8: =COUNTIF(AV8:BJ8,"P") -> 14 | BO8: =COUNTIF(AV8:BJ8,"F") -> 1 | BP8: =SUM(BN8/(BN8+BO8)) -> 0.93333333 | BR8: P | BS8: F | BT8: P | BU8: P | BV8: P | BW8: P | BX8: P | BY8: P | BZ8: P | CA8: P | CB8: P | CC8: P | CD8: P | CE8: P | CF8: P | CG8: =COUNTIF(BR8:CF8,"J") -> 0 | CH8: =COUNTIF(BR8:CF8,"F") -> 1 | CI8: =COUNTIF(BR8:CF8,"M") -> 0 | CJ8: =COUNTIF(BR8:CF8,"P") -> 14 | CK8: =COUNTIF(BR8:CF8,"F") -> 1 | CL8: =SUM(CJ8/(CJ8+CK8)) -> 0.93333333
A9: =A8+1 -> 6 | S9: =COUNTIF(D9:R9,"J") -> 0 | T9: =COUNTIF(D9:R9,"F") -> 0 | U9: =COUNTIF(D9:R9,"M") -> 0 | V9: =COUNTIF(D9:R9,"P") -> 0 | W9: =COUNTIF(D9:R9,"F") -> 0 | X9: =SUM(V9/(V9+W9)) -> #DIV/0! | AO9: =COUNTIF(Z9:AN9,"J") -> 0 | AP9: =COUNTIF(Z9:AN9,"F") -> 0 | AQ9: =COUNTIF(Z9:AN9,"M") -> 0 | AR9: =COUNTIF(Z9:AN9,"P") -> 0 | AS9: =COUNTIF(Z9:AN9,"F") -> 0 | AT9: =SUM(AR9/(AR9+AS9)) -> #DIV/0! | BK9: =COUNTIF(AV9:BJ9,"J") -> 0 | BL9: =COUNTIF(AV9:BJ9,"F") -> 0 | BM9: =COUNTIF(AV9:BJ9,"M") -> 0 | BN9: =COUNTIF(AV9:BJ9,"P") -> 0 | BO9: =COUNTIF(AV9:BJ9,"F") -> 0 | BP9: =SUM(BN9/(BN9+BO9)) -> #DIV/0! | CG9: =COUNTIF(BR9:CF9,"J") -> 0 | CH9: =COUNTIF(BR9:CF9,"F") -> 0 | CI9: =COUNTIF(BR9:CF9,"M") -> 0 | CJ9: =COUNTIF(BR9:CF9,"P") -> 0 | CK9: =COUNTIF(BR9:CF9,"F") -> 0 | CL9: =SUM(CJ9/(CJ9+CK9)) -> #DIV/0!
A10: =A9+1 -> 7 | S10: =COUNTIF(D10:R10,"J") -> 0 | T10: =COUNTIF(D10:R10,"F") -> 0 | U10: =COUNTIF(D10:R10,"M") -> 0 | V10: =COUNTIF(D10:R10,"P") -> 0 | W10: =COUNTIF(D10:R10,"F") -> 0 | X10: =SUM(V10/(V10+W10)) -> #DIV/0! | AO10: =COUNTIF(Z10:AN10,"J") -> 0 | AP10: =COUNTIF(Z10:AN10,"F") -> 0 | AQ10: =COUNTIF(Z10:AN10,"M") -> 0 | AR10: =COUNTIF(Z10:AN10,"P") -> 0 | AS10: =COUNTIF(Z10:AN10,"F") -> 0 | AT10: =SUM(AR10/(AR10+AS10)) -> #DIV/0! | BK10: =COUNTIF(AV10:BJ10,"J") -> 0 | BL10: =COUNTIF(AV10:BJ10,"F") -> 0 | BM10: =COUNTIF(AV10:BJ10,"M") -> 0 | BN10: =COUNTIF(AV10:BJ10,"P") -> 0 | BO10: =COUNTIF(AV10:BJ10,"F") -> 0 | BP10: =SUM(BN10/(BN10+BO10)) -> #DIV/0! | CG10: =COUNTIF(BR10:CF10,"J") -> 0 | CH10: =COUNTIF(BR10:CF10,"F") -> 0 | CI10: =COUNTIF(BR10:CF10,"M") -> 0 | CJ10: =COUNTIF(BR10:CF10,"P") -> 0 | CK10: =COUNTIF(BR10:CF10,"F") -> 0 | CL10: =SUM(CJ10/(CJ10+CK10)) -> #DIV/0!
A11: =A10+1 -> 8 | S11: =COUNTIF(D11:R11,"J") -> 0 | T11: =COUNTIF(D11:R11,"F") -> 0 | U11: =COUNTIF(D11:R11,"M") -> 0 | V11: =COUNTIF(D11:R11,"P") -> 0 | W11: =COUNTIF(D11:R11,"F") -> 0 | X11: =SUM(V11/(V11+W11)) -> #DIV/0! | AO11: =COUNTIF(Z11:AN11,"J") -> 0 | AP11: =COUNTIF(Z11:AN11,"F") -> 0 | AQ11: =COUNTIF(Z11:AN11,"M") -> 0 | AR11: =COUNTIF(Z11:AN11,"P") -> 0 | AS11: =COUNTIF(Z11:AN11,"F") -> 0 | AT11: =SUM(AR11/(AR11+AS11)) -> #DIV/0! | BK11: =COUNTIF(AV11:BJ11,"J") -> 0 | BL11: =COUNTIF(AV11:BJ11,"F") -> 0 | BM11: =COUNTIF(AV11:BJ11,"M") -> 0 | BN11: =COUNTIF(AV11:BJ11,"P") -> 0 | BO11: =COUNTIF(AV11:BJ11,"F") -> 0 | BP11: =SUM(BN11/(BN11+BO11)) -> #DIV/0! | CG11: =COUNTIF(BR11:CF11,"J") -> 0 | CH11: =COUNTIF(BR11:CF11,"F") -> 0 | CI11: =COUNTIF(BR11:CF11,"M") -> 0 | CJ11: =COUNTIF(BR11:CF11,"P") -> 0 | CK11: =COUNTIF(BR11:CF11,"F") -> 0 | CL11: =SUM(CJ11/(CJ11+CK11)) -> #DIV/0!
A12: =A11+1 -> 9 | S12: =COUNTIF(D12:R12,"J") -> 0 | T12: =COUNTIF(D12:R12,"F") -> 0 | U12: =COUNTIF(D12:R12,"M") -> 0 | V12: =COUNTIF(D12:R12,"P") -> 0 | W12: =COUNTIF(D12:R12,"F") -> 0 | X12: =SUM(V12/(V12+W12)) -> #DIV/0! | AO12: =COUNTIF(Z12:AN12,"J") -> 0 | AP12: =COUNTIF(Z12:AN12,"F") -> 0 | AQ12: =COUNTIF(Z12:AN12,"M") -> 0 | AR12: =COUNTIF(Z12:AN12,"P") -> 0 | AS12: =COUNTIF(Z12:AN12,"F") -> 0 | AT12: =SUM(AR12/(AR12+AS12)) -> #DIV/0! | BK12: =COUNTIF(AV12:BJ12,"J") -> 0 | BL12: =COUNTIF(AV12:BJ12,"F") -> 0 | BM12: =COUNTIF(AV12:BJ12,"M") -> 0 | BN12: =COUNTIF(AV12:BJ12,"P") -> 0 | BO12: =COUNTIF(AV12:BJ12,"F") -> 0 | BP12: =SUM(BN12/(BN12+BO12)) -> #DIV/0! | CG12: =COUNTIF(BR12:CF12,"J") -> 0 | CH12: =COUNTIF(BR12:CF12,"F") -> 0 | CI12: =COUNTIF(BR12:CF12,"M") -> 0 | CJ12: =COUNTIF(BR12:CF12,"P") -> 0 | CK12: =COUNTIF(BR12:CF12,"F") -> 0 | CL12: =SUM(CJ12/(CJ12+CK12)) -> #DIV/0!
A13: =A12+1 -> 10 | S13: =COUNTIF(D13:R13,"J") -> 0 | T13: =COUNTIF(D13:R13,"F") -> 0 | U13: =COUNTIF(D13:R13,"M") -> 0 | V13: =COUNTIF(D13:R13,"P") -> 0 | W13: =COUNTIF(D13:R13,"F") -> 0 | X13: =SUM(V13/(V13+W13)) -> #DIV/0! | AO13: =COUNTIF(Z13:AN13,"J") -> 0 | AP13: =COUNTIF(Z13:AN13,"F") -> 0 | AQ13: =COUNTIF(Z13:AN13,"M") -> 0 | AR13: =COUNTIF(Z13:AN13,"P") -> 0 | AS13: =COUNTIF(Z13:AN13,"F") -> 0 | AT13: =SUM(AR13/(AR13+AS13)) -> #DIV/0! | BK13: =COUNTIF(AV13:BJ13,"J") -> 0 | BL13: =COUNTIF(AV13:BJ13,"F") -> 0 | BM13: =COUNTIF(AV13:BJ13,"M") -> 0 | BN13: =COUNTIF(AV13:BJ13,"P") -> 0 | BO13: =COUNTIF(AV13:BJ13,"F") -> 0 | BP13: =SUM(BN13/(BN13+BO13)) -> #DIV/0! | CG13: =COUNTIF(BR13:CF13,"J") -> 0 | CH13: =COUNTIF(BR13:CF13,"F") -> 0 | CI13: =COUNTIF(BR13:CF13,"M") -> 0 | CJ13: =COUNTIF(BR13:CF13,"P") -> 0 | CK13: =COUNTIF(BR13:CF13,"F") -> 0 | CL13: =SUM(CJ13/(CJ13+CK13)) -> #DIV/0!
A14: =A13+1 -> 11 | S14: =COUNTIF(D14:R14,"J") -> 0 | T14: =COUNTIF(D14:R14,"F") -> 0 | U14: =COUNTIF(D14:R14,"M") -> 0 | V14: =COUNTIF(D14:R14,"P") -> 0 | W14: =COUNTIF(D14:R14,"F") -> 0 | X14: =SUM(V14/(V14+W14)) -> #DIV/0! | AO14: =COUNTIF(Z14:AN14,"J") -> 0 | AP14: =COUNTIF(Z14:AN14,"F") -> 0 | AQ14: =COUNTIF(Z14:AN14,"M") -> 0 | AR14: =COUNTIF(Z14:AN14,"P") -> 0 | AS14: =COUNTIF(Z14:AN14,"F") -> 0 | AT14: =SUM(AR14/(AR14+AS14)) -> #DIV/0! | BK14: =COUNTIF(AV14:BJ14,"J") -> 0 | BL14: =COUNTIF(AV14:BJ14,"F") -> 0 | BM14: =COUNTIF(AV14:BJ14,"M") -> 0 | BN14: =COUNTIF(AV14:BJ14,"P") -> 0 | BO14: =COUNTIF(AV14:BJ14,"F") -> 0 | BP14: =SUM(BN14/(BN14+BO14)) -> #DIV/0! | CG14: =COUNTIF(BR14:CF14,"J") -> 0 | CH14: =COUNTIF(BR14:CF14,"F") -> 0 | CI14: =COUNTIF(BR14:CF14,"M") -> 0 | CJ14: =COUNTIF(BR14:CF14,"P") -> 0 | CK14: =COUNTIF(BR14:CF14,"F") -> 0 | CL14: =SUM(CJ14/(CJ14+CK14)) -> #DIV/0!
A15: =A14+1 -> 12 | S15: =COUNTIF(D15:R15,"J") -> 0 | T15: =COUNTIF(D15:R15,"F") -> 0 | U15: =COUNTIF(D15:R15,"M") -> 0 | V15: =COUNTIF(D15:R15,"P") -> 0 | W15: =COUNTIF(D15:R15,"F") -> 0 | X15: =SUM(V15/(V15+W15)) -> #DIV/0! | AO15: =COUNTIF(Z15:AN15,"J") -> 0 | AP15: =COUNTIF(Z15:AN15,"F") -> 0 | AQ15: =COUNTIF(Z15:AN15,"M") -> 0 | AR15: =COUNTIF(Z15:AN15,"P") -> 0 | AS15: =COUNTIF(Z15:AN15,"F") -> 0 | AT15: =SUM(AR15/(AR15+AS15)) -> #DIV/0! | BK15: =COUNTIF(AV15:BJ15,"J") -> 0 | BL15: =COUNTIF(AV15:BJ15,"F") -> 0 | BM15: =COUNTIF(AV15:BJ15,"M") -> 0 | BN15: =COUNTIF(AV15:BJ15,"P") -> 0 | BO15: =COUNTIF(AV15:BJ15,"F") -> 0 | BP15: =SUM(BN15/(BN15+BO15)) -> #DIV/0! | CG15: =COUNTIF(BR15:CF15,"J") -> 0 | CH15: =COUNTIF(BR15:CF15,"F") -> 0 | CI15: =COUNTIF(BR15:CF15,"M") -> 0 | CJ15: =COUNTIF(BR15:CF15,"P") -> 0 | CK15: =COUNTIF(BR15:CF15,"F") -> 0 | CL15: =SUM(CJ15/(CJ15+CK15)) -> #DIV/0!
A16: =A15+1 -> 13 | S16: =COUNTIF(D16:R16,"J") -> 0 | T16: =COUNTIF(D16:R16,"F") -> 0 | U16: =COUNTIF(D16:R16,"M") -> 0 | V16: =COUNTIF(D16:R16,"P") -> 0 | W16: =COUNTIF(D16:R16,"F") -> 0 | X16: =SUM(V16/(V16+W16)) -> #DIV/0! | AO16: =COUNTIF(Z16:AN16,"J") -> 0 | AP16: =COUNTIF(Z16:AN16,"F") -> 0 | AQ16: =COUNTIF(Z16:AN16,"M") -> 0 | AR16: =COUNTIF(Z16:AN16,"P") -> 0 | AS16: =COUNTIF(Z16:AN16,"F") -> 0 | AT16: =SUM(AR16/(AR16+AS16)) -> #DIV/0! | BK16: =COUNTIF(AV16:BJ16,"J") -> 0 | BL16: =COUNTIF(AV16:BJ16,"F") -> 0 | BM16: =COUNTIF(AV16:BJ16,"M") -> 0 | BN16: =COUNTIF(AV16:BJ16,"P") -> 0 | BO16: =COUNTIF(AV16:BJ16,"F") -> 0 | BP16: =SUM(BN16/(BN16+BO16)) -> #DIV/0! | CG16: =COUNTIF(BR16:CF16,"J") -> 0 | CH16: =COUNTIF(BR16:CF16,"F") -> 0 | CI16: =COUNTIF(BR16:CF16,"M") -> 0 | CJ16: =COUNTIF(BR16:CF16,"P") -> 0 | CK16: =COUNTIF(BR16:CF16,"F") -> 0 | CL16: =SUM(CJ16/(CJ16+CK16)) -> #DIV/0!
A17: =A16+1 -> 14 | S17: =COUNTIF(D17:R17,"J") -> 0 | T17: =COUNTIF(D17:R17,"F") -> 0 | U17: =COUNTIF(D17:R17,"M") -> 0 | V17: =COUNTIF(D17:R17,"P") -> 0 | W17: =COUNTIF(D17:R17,"F") -> 0 | X17: =SUM(V17/(V17+W17)) -> #DIV/0! | AO17: =COUNTIF(Z17:AN17,"J") -> 0 | AP17: =COUNTIF(Z17:AN17,"F") -> 0 | AQ17: =COUNTIF(Z17:AN17,"M") -> 0 | AR17: =COUNTIF(Z17:AN17,"P") -> 0 | AS17: =COUNTIF(Z17:AN17,"F") -> 0 | AT17: =SUM(AR17/(AR17+AS17)) -> #DIV/0! | BK17: =COUNTIF(AV17:BJ17,"J") -> 0 | BL17: =COUNTIF(AV17:BJ17,"F") -> 0 | BM17: =COUNTIF(AV17:BJ17,"M") -> 0 | BN17: =COUNTIF(AV17:BJ17,"P") -> 0 | BO17: =COUNTIF(AV17:BJ17,"F") -> 0 | BP17: =SUM(BN17/(BN17+BO17)) -> #DIV/0! | CG17: =COUNTIF(BR17:CF17,"J") -> 0 | CH17: =COUNTIF(BR17:CF17,"F") -> 0 | CI17: =COUNTIF(BR17:CF17,"M") -> 0 | CJ17: =COUNTIF(BR17:CF17,"P") -> 0 | CK17: =COUNTIF(BR17:CF17,"F") -> 0 | CL17: =SUM(CJ17/(CJ17+CK17)) -> #DIV/0!
A18: =A17+1 -> 15 | S18: =COUNTIF(D18:R18,"J") -> 0 | T18: =COUNTIF(D18:R18,"F") -> 0 | U18: =COUNTIF(D18:R18,"M") -> 0 | V18: =COUNTIF(D18:R18,"P") -> 0 | W18: =COUNTIF(D18:R18,"F") -> 0 | X18: =SUM(V18/(V18+W18)) -> #DIV/0! | AO18: =COUNTIF(Z18:AN18,"J") -> 0 | AP18: =COUNTIF(Z18:AN18,"F") -> 0 | AQ18: =COUNTIF(Z18:AN18,"M") -> 0 | AR18: =COUNTIF(Z18:AN18,"P") -> 0 | AS18: =COUNTIF(Z18:AN18,"F") -> 0 | AT18: =SUM(AR18/(AR18+AS18)) -> #DIV/0! | BK18: =COUNTIF(AV18:BJ18,"J") -> 0 | BL18: =COUNTIF(AV18:BJ18,"F") -> 0 | BM18: =COUNTIF(AV18:BJ18,"M") -> 0 | BN18: =COUNTIF(AV18:BJ18,"P") -> 0 | BO18: =COUNTIF(AV18:BJ18,"F") -> 0 | BP18: =SUM(BN18/(BN18+BO18)) -> #DIV/0! | CG18: =COUNTIF(BR18:CF18,"J") -> 0 | CH18: =COUNTIF(BR18:CF18,"F") -> 0 | CI18: =COUNTIF(BR18:CF18,"M") -> 0 | CJ18: =COUNTIF(BR18:CF18,"P") -> 0 | CK18: =COUNTIF(BR18:CF18,"F") -> 0 | CL18: =SUM(CJ18/(CJ18+CK18)) -> #DIV/0!
A19: =A18+1 -> 16 | S19: =COUNTIF(D19:R19,"J") -> 0 | T19: =COUNTIF(D19:R19,"F") -> 0 | U19: =COUNTIF(D19:R19,"M") -> 0 | V19: =COUNTIF(D19:R19,"P") -> 0 | W19: =COUNTIF(D19:R19,"F") -> 0 | X19: =SUM(V19/(V19+W19)) -> #DIV/0! | AO19: =COUNTIF(Z19:AN19,"J") -> 0 | AP19: =COUNTIF(Z19:AN19,"F") -> 0 | AQ19: =COUNTIF(Z19:AN19,"M") -> 0 | AR19: =COUNTIF(Z19:AN19,"P") -> 0 | AS19: =COUNTIF(Z19:AN19,"F") -> 0 | AT19: =SUM(AR19/(AR19+AS19)) -> #DIV/0! | BK19: =COUNTIF(AV19:BJ19,"J") -> 0 | BL19: =COUNTIF(AV19:BJ19,"F") -> 0 | BM19: =COUNTIF(AV19:BJ19,"M") -> 0 | BN19: =COUNTIF(AV19:BJ19,"P") -> 0 | BO19: =COUNTIF(AV19:BJ19,"F") -> 0 | BP19: =SUM(BN19/(BN19+BO19)) -> #DIV/0! | CG19: =COUNTIF(BR19:CF19,"J") -> 0 | CH19: =COUNTIF(BR19:CF19,"F") -> 0 | CI19: =COUNTIF(BR19:CF19,"M") -> 0 | CJ19: =COUNTIF(BR19:CF19,"P") -> 0 | CK19: =COUNTIF(BR19:CF19,"F") -> 0 | CL19: =SUM(CJ19/(CJ19+CK19)) -> #DIV/0!
A20: =A19+1 -> 17 | S20: =COUNTIF(D20:R20,"J") -> 0 | T20: =COUNTIF(D20:R20,"F") -> 0 | U20: =COUNTIF(D20:R20,"M") -> 0 | V20: =COUNTIF(D20:R20,"P") -> 0 | W20: =COUNTIF(D20:R20,"F") -> 0 | X20: =SUM(V20/(V20+W20)) -> #DIV/0! | AO20: =COUNTIF(Z20:AN20,"J") -> 0 | AP20: =COUNTIF(Z20:AN20,"F") -> 0 | AQ20: =COUNTIF(Z20:AN20,"M") -> 0 | AR20: =COUNTIF(Z20:AN20,"P") -> 0 | AS20: =COUNTIF(Z20:AN20,"F") -> 0 | AT20: =SUM(AR20/(AR20+AS20)) -> #DIV/0! | BK20: =COUNTIF(AV20:BJ20,"J") -> 0 | BL20: =COUNTIF(AV20:BJ20,"F") -> 0 | BM20: =COUNTIF(AV20:BJ20,"M") -> 0 | BN20: =COUNTIF(AV20:BJ20,"P") -> 0 | BO20: =COUNTIF(AV20:BJ20,"F") -> 0 | BP20: =SUM(BN20/(BN20+BO20)) -> #DIV/0! | CG20: =COUNTIF(BR20:CF20,"J") -> 0 | CH20: =COUNTIF(BR20:CF20,"F") -> 0 | CI20: =COUNTIF(BR20:CF20,"M") -> 0 | CJ20: =COUNTIF(BR20:CF20,"P") -> 0 | CK20: =COUNTIF(BR20:CF20,"F") -> 0 | CL20: =SUM(CJ20/(CJ20+CK20)) -> #DIV/0!
... A63: =A62+1 -> 60 | S63: =COUNTIF(D63:R63,"J") -> 0 | T63: =COUNTIF(D63:R63,"F") -> 0 | U63: =COUNTIF(D63:R63,"M") -> 0 | V63: =COUNTIF(D63:R63,"P") -> 0 | W63: =COUNTIF(D63:R63,"F") -> 0 | X63: =SUM(V63/(V63+W63)) -> #DIV/0! | AO63: =COUNTIF(Z63:AN63,"J") -> 0 | AP63: =COUNTIF(Z63:AN63,"F") -> 0 | AQ63: =COUNTIF(Z63:AN63,"M") -> 0 | AR63: =COUNTIF(Z63:AN63,"P") -> 0 | AS63: =COUNTIF(Z63:AN63,"F") -> 0 | AT63: =SUM(AR63/(AR63+AS63)) -> #DIV/0! | BK63: =COUNTIF(AV63:BJ63,"J") -> 0 | BL63: =COUNTIF(AV63:BJ63,"F") -> 0 | BM63: =COUNTIF(AV63:BJ63,"M") -> 0 | BN63: =COUNTIF(AV63:BJ63,"P") -> 0 | BO63: =COUNTIF(AV63:BJ63,"F") -> 0 | BP63: =SUM(BN63/(BN63+BO63)) -> #DIV/0! | CG63: =COUNTIF(BR63:CF63,"J") -> 0 | CH63: =COUNTIF(BR63:CF63,"F") -> 0 | CI63: =COUNTIF(BR63:CF63,"M") -> 0 | CJ63: =COUNTIF(BR63:CF63,"P") -> 0 | CK63: =COUNTIF(BR63:CF63,"F") -> 0 | CL63: =SUM(CJ63/(CJ63+CK63)) -> #DIV/0!
C64: Alunos matriculados | D64: =COUNTA(D4:D63) -> 5 | E64: =COUNTA(E4:E63) -> 5 | F64: =COUNTA(F4:F63) -> 5 | G64: =COUNTA(G4:G63) -> 5 | H64: =COUNTA(H4:H63) -> 5 | I64: =COUNTA(I4:I63) -> 5 | J64: =COUNTA(J4:J63) -> 5 | K64: =COUNTA(K4:K63) -> 5 | ... R64: =COUNTA(R4:R63) -> 5 | Z64: =COUNTA(Z4:Z63) -> 5 | AA64: =COUNTA(AA4:AA63) -> 5 | AB64: =COUNTA(AB4:AB63) -> 5 | AC64: =COUNTA(AC4:AC63) -> 5 | AD64: =COUNTA(AD4:AD63) -> 5 | AE64: =COUNTA(AE4:AE63) -> 5 | AF64: =COUNTA(AF4:AF63) -> 5 | AG64: =COUNTA(AG4:AG63) -> 5 | ... AN64: =COUNTA(AN4:AN63) -> 5 | AV64: =COUNTA(AV4:AV63) -> 5 | AW64: =COUNTA(AW4:AW63) -> 5 | AX64: =COUNTA(AX4:AX63) -> 5 | AY64: =COUNTA(AY4:AY63) -> 5 | AZ64: =COUNTA(AZ4:AZ63) -> 5 | BA64: =COUNTA(BA4:BA63) -> 5 | BB64: =COUNTA(BB4:BB63) -> 5 | BC64: =COUNTA(BC4:BC63) -> 5 | ... BJ64: =COUNTA(BJ4:BJ63) -> 5 | BR64: =COUNTA(BR4:BR63) -> 5 | BS64: =COUNTA(BS4:BS63) -> 5 | BT64: =COUNTA(BT4:BT63) -> 5 | BU64: =COUNTA(BU4:BU63) -> 5 | BV64: =COUNTA(BV4:BV63) -> 5 | BW64: =COUNTA(BW4:BW63) -> 5 | BX64: =COUNTA(BX4:BX63) -> 5 | BY64: =COUNTA(BY4:BY63) -> 5 | ... CF64: =COUNTA(CF4:CF63) -> 5
C65: Ausentes | D65: =COUNTIF(D4:D63,"F") -> 0 | E65: =COUNTIF(E4:E63,"F") -> 2 | F65: =COUNTIF(F4:F63,"F") -> 4 | G65: =COUNTIF(G4:G63,"F") -> 4 | H65: =COUNTIF(H4:H63,"F") -> 2 | I65: =COUNTIF(I4:I63,"F") -> 1 | J65: =COUNTIF(J4:J63,"F") -> 1 | K65: =COUNTIF(K4:K63,"F") -> 1 | ... R65: =COUNTIF(R4:R63,"F") -> 2 | Z65: =COUNTIF(Z4:Z63,"F") -> 0 | AA65: =COUNTIF(AA4:AA63,"F") -> 2 | AB65: =COUNTIF(AB4:AB63,"F") -> 3 | AC65: =COUNTIF(AC4:AC63,"F") -> 3 | AD65: =COUNTIF(AD4:AD63,"F") -> 3 | AE65: =COUNTIF(AE4:AE63,"F") -> 1 | AF65: =COUNTIF(AF4:AF63,"F") -> 1 | AG65: =COUNTIF(AG4:AG63,"F") -> 1 | ... AN65: =COUNTIF(AN4:AN63,"F") -> 1 | AV65: =COUNTIF(AV4:AV63,"F") -> 0 | AW65: =COUNTIF(AW4:AW63,"F") -> 2 | AX65: =COUNTIF(AX4:AX63,"F") -> 3 | AY65: =COUNTIF(AY4:AY63,"F") -> 3 | AZ65: =COUNTIF(AZ4:AZ63,"F") -> 3 | BA65: =COUNTIF(BA4:BA63,"F") -> 1 | BB65: =COUNTIF(BB4:BB63,"F") -> 1 | BC65: =COUNTIF(BC4:BC63,"F") -> 1 | ... BJ65: =COUNTIF(BJ4:BJ63,"F") -> 3 | BR65: =COUNTIF(BR4:BR63,"F") -> 0 | BS65: =COUNTIF(BS4:BS63,"F") -> 2 | BT65: =COUNTIF(BT4:BT63,"F") -> 3 | BU65: =COUNTIF(BU4:BU63,"F") -> 3 | BV65: =COUNTIF(BV4:BV63,"F") -> 3 | BW65: =COUNTIF(BW4:BW63,"F") -> 1 | BX65: =COUNTIF(BX4:BX63,"F") -> 1 | BY65: =COUNTIF(BY4:BY63,"F") -> 1 | ... CF65: =COUNTIF(CF4:CF63,"F") -> 3
C66: Presentes | D66: =COUNTIF(D4:D63,"P") -> 5 | E66: =COUNTIF(E4:E63,"P") -> 2 | F66: =COUNTIF(F4:F63,"P") -> 1 | G66: =COUNTIF(G4:G63,"P") -> 1 | H66: =COUNTIF(H4:H63,"P") -> 3 | I66: =COUNTIF(I4:I63,"P") -> 4 | J66: =COUNTIF(J4:J63,"P") -> 4 | K66: =COUNTIF(K4:K63,"P") -> 4 | ... R66: =COUNTIF(R4:R63,"P") -> 3 | Z66: =COUNTIF(Z4:Z63,"P") -> 5 | AA66: =COUNTIF(AA4:AA63,"P") -> 3 | AB66: =COUNTIF(AB4:AB63,"P") -> 2 | AC66: =COUNTIF(AC4:AC63,"P") -> 2 | AD66: =COUNTIF(AD4:AD63,"P") -> 2 | AE66: =COUNTIF(AE4:AE63,"P") -> 4 | AF66: =COUNTIF(AF4:AF63,"P") -> 4 | AG66: =COUNTIF(AG4:AG63,"P") -> 4 | ... AN66: =COUNTIF(AN4:AN63,"P") -> 4 | AV66: =COUNTIF(AV4:AV63,"P") -> 5 | AW66: =COUNTIF(AW4:AW63,"P") -> 3 | AX66: =COUNTIF(AX4:AX63,"P") -> 2 | AY66: =COUNTIF(AY4:AY63,"P") -> 2 | AZ66: =COUNTIF(AZ4:AZ63,"P") -> 2 | BA66: =COUNTIF(BA4:BA63,"P") -> 4 | BB66: =COUNTIF(BB4:BB63,"P") -> 4 | BC66: =COUNTIF(BC4:BC63,"P") -> 4 | ... BJ66: =COUNTIF(BJ4:BJ63,"P") -> 2 | BR66: =COUNTIF(BR4:BR63,"P") -> 5 | BS66: =COUNTIF(BS4:BS63,"P") -> 3 | BT66: =COUNTIF(BT4:BT63,"P") -> 2 | BU66: =COUNTIF(BU4:BU63,"P") -> 2 | BV66: =COUNTIF(BV4:BV63,"P") -> 2 | BW66: =COUNTIF(BW4:BW63,"P") -> 4 | BX66: =COUNTIF(BX4:BX63,"P") -> 4 | BY66: =COUNTIF(BY4:BY63,"P") -> 4 | ... CF66: =COUNTIF(CF4:CF63,"P") -> 2
C67: Visitantes | D67: 8 | E67: 6 | F67: 6 | G67: 0 | H67: 6 | I67: 5 | Z67: 8 | AA67: 6 | AB67: 6 | AC67: 0 | AD67: 6 | AE67: 5 | AV67: 8 | AW67: 6 | AX67: 6 | AY67: 0 | AZ67: 6 | BA67: 5 | BR67: 8 | BS67: 6 | BT67: 6 | BU67: 0 | BV67: 6 | BW67: 5
C68: Total de Assistencia | D68: =D66+D67 -> 13 | E68: =E66+E67 -> 8 | F68: =F66+F67 -> 7 | G68: =G66+G67 -> 1 | H68: =H66+H67 -> 9 | I68: =I66+I67 -> 9 | J68: =J66+J67 -> 4 | K68: =K66+K67 -> 4 | ... R68: =R66+R67 -> 3 | Z68: =Z66+Z67 -> 13 | AA68: =AA66+AA67 -> 9 | AB68: =AB66+AB67 -> 8 | AC68: =AC66+AC67 -> 2 | AD68: =AD66+AD67 -> 8 | AE68: =AE66+AE67 -> 9 | AF68: =AF66+AF67 -> 4 | AG68: =AG66+AG67 -> 4 | ... AN68: =AN66+AN67 -> 4 | AV68: =AV66+AV67 -> 13 | AW68: =AW66+AW67 -> 9 | AX68: =AX66+AX67 -> 8 | AY68: =AY66+AY67 -> 2 | AZ68: =AZ66+AZ67 -> 8 | BA68: =BA66+BA67 -> 9 | BB68: =BB66+BB67 -> 4 | BC68: =BC66+BC67 -> 4 | ... BJ68: =BJ66+BJ67 -> 2 | BR68: =BR66+BR67 -> 13 | BS68: =BS66+BS67 -> 9 | BT68: =BT66+BT67 -> 8 | BU68: =BU66+BU67 -> 2 | BV68: =BV66+BV67 -> 8 | BW68: =BW66+BW67 -> 9 | BX68: =BX66+BX67 -> 4 | BY68: =BY66+BY67 -> 4 | ... CF68: =CF66+CF67 -> 2
C69: Bíblias | D69: 30 | E69: 27 | F69: 27 | G69: 0 | H69: 26 | I69: 39 | Z69: 30 | AA69: 27 | AB69: 27 | AC69: 0 | AD69: 26 | AE69: 39 | AV69: 30 | AW69: 27 | AX69: 27 | AY69: 0 | AZ69: 26 | BA69: 39 | BR69: 30 | BS69: 27 | BT69: 27 | BU69: 0 | BV69: 26 | BW69: 39
C70: Revistas | D70: 30 | E70: 25 | F70: 27 | G70: 0 | H70: 20 | I70: 30 | Z70: 30 | AA70: 25 | AB70: 27 | AC70: 0 | AD70: 20 | AE70: 30 | AV70: 30 | AW70: 25 | AX70: 27 | AY70: 0 | AZ70: 20 | BA70: 30 | BR70: 30 | BS70: 25 | BT70: 27 | BU70: 0 | BV70: 20 | BW70: 30
C71: Oferta | D71: 0 | E71: 0 | F71: 0 | G71: 0 | H71: 0 | I71: 0 | Z71: 0 | AA71: 0 | AB71: 0 | AC71: 0 | AD71: 0 | AE71: 0 | AV71: 0 | AW71: 0 | AX71: 0 | AY71: 0 | AZ71: 0 | BA71: 0 | BR71: 0 | BS71: 0 | BT71: 0 | BU71: 0 | BV71: 0 | BW71: 0
C74: MÉDIA GERAL DE ASSISTENCIA | D74: =D79 -> 0.48 | I74: =I79 -> 0.72 | N74: =N79 -> 0.76 | Z74: =Z79 -> 0.56 | AE74: =AE79 -> 0.8 | AJ74: =AJ79 -> 0.8 | AV74: =AV79 -> 0.56 | BA74: =BA79 -> 0.72 | BF74: =BF79 -> 0.72 | BR74: =BR79 -> 0.56 | BW74: =BW79 -> 0.72 | CB74: =CB79 -> 0.72
C77: Matriculados | D77: =SUM(D64:H64) -> 25 | I77: =SUM(I64:M64) -> 25 | N77: =SUM(N64:R64) -> 25 | Z77: =SUM(Z64:AD64) -> 25 | AE77: =SUM(AE64:AI64) -> 25 | AJ77: =SUM(AJ64:AN64) -> 25 | AV77: =SUM(AV64:AZ64) -> 25 | BA77: =SUM(BA64:BE64) -> 25 | BF77: =SUM(BF64:BJ64) -> 25 | BR77: =SUM(BR64:BV64) -> 25 | BW77: =SUM(BW64:CA64) -> 25 | CB77: =SUM(CB64:CF64) -> 25
C78: Presenças | D78: =SUM(D66:H66) -> 12 | I78: =SUM(I66:M66) -> 18 | N78: =SUM(N66:R66) -> 19 | Z78: =SUM(Z66:AD66) -> 14 | AE78: =SUM(AE66:AI66) -> 20 | AJ78: =SUM(AJ66:AN66) -> 20 | AV78: =SUM(AV66:AZ66) -> 14 | BA78: =SUM(BA66:BE66) -> 18 | BF78: =SUM(BF66:BJ66) -> 18 | BR78: =SUM(BR66:BV66) -> 14 | BW78: =SUM(BW66:CA66) -> 18 | CB78: =SUM(CB66:CF66) -> 18
C79: Percetual de pres. | D79: =D78/D77 -> 0.48 | I79: =I78/I77 -> 0.72 | N79: =N78/N77 -> 0.76 | Z79: =Z78/Z77 -> 0.56 | AE79: =AE78/AE77 -> 0.8 | AJ79: =AJ78/AJ77 -> 0.8 | AV79: =AV78/AV77 -> 0.56 | BA79: =BA78/BA77 -> 0.72 | BF79: =BF78/BF77 -> 0.72 | BR79: =BR78/BR77 -> 0.56 | BW79: =BW78/BW77 -> 0.72 | CB79: =CB78/CB77 -> 0.72

Sheet CLASSE 7
A1: NOME DA CLASSE: | C1: CLASSE 7 | Z1: =$C$1 -> CLASSE 7 | AV1: =$C$1 -> CLASSE 7 | BR1: =$C$1 -> CLASSE 7
A2: Nº | B2: ALUNO | C2: OBSERVAÇÕES | D2: JANEIRO | I2: FEVEREIRO | N2: MARÇO | S2: Frequencia do Trimestre | Z2: ABRIL | AE2: MAIO | AJ2: JUNHO | AO2: Frequencia do Trimestre | AV2: JULHO | BA2: AGOSTO | BF2: SETEMBRO | BK2: Frequencia do Trimestre | BR2: OUTUBRO | BW2: NOVEMBRO | CB2: DEZEMBRO | CG2: Frequencia do Trimestre
D3: 1º | E3: 2º | F3: 3º | G3: 4º | H3: 5º | I3: 1º | J3: 2º | K3: 3º | L3: 4º | M3: 5º | N3: 1º | O3: 2º | P3: 3º | Q3: 4º | R3: 5º | S3: J | T3: F | U3: M | V3: P | W3: F | X3: Frequencia % | Z3: 1º | AA3: 2º | AB3: 3º | AC3: 4º | AD3: 5º | AE3: 1º | AF3: 2º | AG3: 3º | AH3: 4º | AI3: 5º | AJ3: 1º | AK3: 2º | AL3: 3º | AM3: 4º | AN3: 5º | AO3: J | AP3: F | AQ3: M | AR3: P | AS3: F | AT3: Frequencia % | AV3: 1º | AW3: 2º | AX3: 3º | AY3: 4º | AZ3: 5º | BA3: 1º | BB3: 2º | BC3: 3º | BD3: 4º | BE3: 5º | BF3: 1º | BG3: 2º | BH3: 3º | BI3: 4º | BJ3: 5º | BK3: J | BL3: F | BM3: M | BN3: P | BO3: F | BP3: Frequencia % | BR3: 1º | BS3: 2º | BT3: 3º | BU3: 4º | BV3: 5º | BW3: 1º | BX3: 2º | BY3: 3º | BZ3: 4º | CA3: 5º | CB3: 1º | CC3: 2º | CD3: 3º | CE3: 4º | CF3: 5º | CG3: J | CH3: F | CI3: M | CJ3: P | CK3: F | CL3: Frequencia %
A4: 1 | B4: ALUNO 1 | D4: P | E4: J | F4: F | G4: F | H4: P | I4: P | J4: P | K4: P | L4: F | M4: P | N4: P | O4: P | P4: P | Q4: P | R4: P | S4: =COUNTIF(D4:R4,"J") -> 1 | T4: =COUNTIF(D4:R4,"F") -> 3 | U4: =COUNTIF(D4:R4,"M") -> 0 | V4: =COUNTIF(D4:R4,"P") -> 11 | W4: =COUNTIF(D4:R4,"F") -> 3 | X4: =SUM(V4/(V4+W4)) -> 0.78571429 | Z4: P | AA4: P | AB4: P | AC4: P | AD4: F | AE4: P | AF4: P | AG4: P | AH4: P | AI4: P | AJ4: P | AK4: P | AL4: P | AM4: P | AN4: P | AO4: =COUNTIF(Z4:AN4,"J") -> 0 | AP4: =COUNTIF(Z4:AN4,"F") -> 1 | AQ4: =COUNTIF(Z4:AN4,"M") -> 0 | AR4: =COUNTIF(Z4:AN4,"P") -> 14 | AS4: =COUNTIF(Z4:AN4,"F") -> 1 | AT4: =SUM(AR4/(AR4+AS4)) -> 0.93333333 | AV4: P | AW4: P | AX4: P | AY4: P | AZ4: F | BA4: P | BB4: P | BC4: P | BD4: P | BE4: F | BF4: P | BG4: P | BH4: P | BI4: P | BJ4: F | BK4: =COUNTIF(AV4:BJ4,"J") -> 0 | BL4: =COUNTIF(AV4:BJ4,"F") -> 3 | BM4: =COUNTIF(AV4:BJ4,"M") -> 0 | BN4: =COUNTIF(AV4:BJ4,"P") -> 12 | BO4: =COUNTIF(AV4:BJ4,"F") -> 3 | BP4: =SUM(BN4/(BN4+BO4)) -> 0.8 | BR4: P | BS4: P | BT4: P | BU4: P | BV4: F | BW4: P | BX4: P | BY4: P | BZ4: P | CA4: F | CB4: P | CC4: P | CD4: P | CE4: P | CF4: F | CG4: =COUNTIF(BR4:CF4,"J") -> 0 | CH4: =COUNTIF(BR4:CF4,"F") -> 3 | CI4: =COUNTIF(BR4:CF4,"M") -> 0 | CJ4: =COUNTIF(BR4:CF4,"P") -> 12 | CK4: =COUNTIF(BR4:CF4,"F") -> 3 | CL4: =SUM(CJ4/(CJ4+CK4)) -> 0.8
A5: =A4+1 -> 2 | B5: ALUNO 2 | D5: P | E5: P | F5: F | G5: F | H5: F | I5: F | J5: F | K5: F | L5: F | M5: F | N5: F | O5: F | P5: F | Q5: F | R5: F | S5: =COUNTIF(D5:R5,"J") -> 0 | T5: =COUNTIF(D5:R5,"F") -> 13 | U5: =COUNTIF(D5:R5,"M") -> 0 | V5: =COUNTIF(D5:R5,"P") -> 2 | W5: =COUNTIF(D5:R5,"F") -> 13 | X5: =SUM(V5/(V5+W5)) -> 0.13333333 | Z5: P | AA5: P | AB5: F | AC5: F | AD5: F | AE5: F | AF5: F | AG5: F | AH5: F | AI5: F | AJ5: F | AK5: F | AL5: F | AM5: F | AN5: F | AO5: =COUNTIF(Z5:AN5,"J") -> 0 | AP5: =COUNTIF(Z5:AN5,"F") -> 13 | AQ5: =COUNTIF(Z5:AN5,"M") -> 0 | AR5: =COUNTIF(Z5:AN5,"P") -> 2 | AS5: =COUNTIF(Z5:AN5,"F") -> 13 | AT5: =SUM(AR5/(AR5+AS5)) -> 0.13333333 | AV5: P | AW5: P | AX5: F | AY5: F | AZ5: F | BA5: F | BB5: F | BC5: F | BD5: F | BE5: F | BF5: F | BG5: F | BH5: F | BI5: F | BJ5: F | BK5: =COUNTIF(AV5:BJ5,"J") -> 0 | BL5: =COUNTIF(AV5:BJ5,"F") -> 13 | BM5: =COUNTIF(AV5:BJ5,"M") -> 0 | BN5: =COUNTIF(AV5:BJ5,"P") -> 2 | BO5: =COUNTIF(AV5:BJ5,"F") -> 13 | BP5: =SUM(BN5/(BN5+BO5)) -> 0.13333333 | BR5: P | BS5: P | BT5: F | BU5: F | BV5: F | BW5: F | BX5: F | BY5: F | BZ5: F | CA5: F | CB5: F | CC5: F | CD5: F | CE5: F | CF5: F | CG5: =COUNTIF(BR5:CF5,"J") -> 0 | CH5: =COUNTIF(BR5:CF5,"F") -> 13 | CI5: =COUNTIF(BR5:CF5,"M") -> 0 | CJ5: =COUNTIF(BR5:CF5,"P") -> 2 | CK5: =COUNTIF(BR5:CF5,"F") -> 13 | CL5: =SUM(CJ5/(CJ5+CK5)) -> 0.13333333
A6: =A5+1 -> 3 | B6: ALUNO 3 | D6: P | E6: P | F6: F | G6: F | H6: P | I6: P | J6: P | K6: P | L6: P | M6: P | N6: P | O6: P | P6: P | Q6: P | R6: P | S6: =COUNTIF(D6:R6,"J") -> 0 | T6: =COUNTIF(D6:R6,"F") -> 2 | U6: =COUNTIF(D6:R6,"M") -> 0 | V6: =COUNTIF(D6:R6,"P") -> 13 | W6: =COUNTIF(D6:R6,"F") -> 2 | X6: =SUM(V6/(V6+W6)) -> 0.86666667 | Z6: P | AA6: P | AB6: F | AC6: F | AD6: P | AE6: P | AF6: P | AG6: P | AH6: P | AI6: P | AJ6: P | AK6: P | AL6: P | AM6: P | AN6: P | AO6: =COUNTIF(Z6:AN6,"J") -> 0 | AP6: =COUNTIF(Z6:AN6,"F") -> 2 | AQ6: =COUNTIF(Z6:AN6,"M") -> 0 | AR6: =COUNTIF(Z6:AN6,"P") -> 13 | AS6: =COUNTIF(Z6:AN6,"F") -> 2 | AT6: =SUM(AR6/(AR6+AS6)) -> 0.86666667 | AV6: P | AW6: P | AX6: F | AY6: F | AZ6: P | BA6: P | BB6: P | BC6: P | BD6: P | BE6: P | BF6: P | BG6: P | BH6: P | BI6: P | BJ6: P | BK6: =COUNTIF(AV6:BJ6,"J") -> 0 | BL6: =COUNTIF(AV6:BJ6,"F") -> 2 | BM6: =COUNTIF(AV6:BJ6,"M") -> 0 | BN6: =COUNTIF(AV6:BJ6,"P") -> 13 | BO6: =COUNTIF(AV6:BJ6,"F") -> 2 | BP6: =SUM(BN6/(BN6+BO6)) -> 0.86666667 | BR6: P | BS6: P | BT6: F | BU6: F | BV6: P | BW6: P | BX6: P | BY6: P | BZ6: P | CA6: P | CB6: P | CC6: P | CD6: P | CE6: P | CF6: P | CG6: =COUNTIF(BR6:CF6,"J") -> 0 | CH6: =COUNTIF(BR6:CF6,"F") -> 2 | CI6: =COUNTIF(BR6:CF6,"M") -> 0 | CJ6: =COUNTIF(BR6:CF6,"P") -> 13 | CK6: =COUNTIF(BR6:CF6,"F") -> 2 | CL6: =SUM(CJ6/(CJ6+CK6)) -> 0.86666667
A7: =A6+1 -> 4 | B7: ALUNO 4 | D7: P | E7: F | F7: F | G7: F | H7: F | I7: P | J7: P | K7: P | L7: P | M7: F | N7: P | O7: P | P7: P | Q7: P | R7: F | S7: =COUNTIF(D7:R7,"J") -> 0 | T7: =COUNTIF(D7:R7,"F") -> 6 | U7: =COUNTIF(D7:R7,"M") -> 0 | V7: =COUNTIF(D7:R7,"P") -> 9 | W7: =COUNTIF(D7:R7,"F") -> 6 | X7: =SUM(V7/(V7+W7)) -> 0.6 | Z7: P | AA7: F | AB7: F | AC7: F | AD7: F | AE7: P | AF7: P | AG7: P | AH7: P | AI7: P | AJ7: P | AK7: P | AL7: P | AM7: P | AN7: P | AO7: =COUNTIF(Z7:AN7,"J") -> 0 | AP7: =COUNTIF(Z7:AN7,"F") -> 4 | AQ7: =COUNTIF(Z7:AN7,"M") -> 0 | AR7: =COUNTIF(Z7:AN7,"P") -> 11 | AS7: =COUNTIF(Z7:AN7,"F") -> 4 | AT7: =SUM(AR7/(AR7+AS7)) -> 0.73333333 | AV7: P | AW7: F | AX7: F | AY7: F | AZ7: F | BA7: P | BB7: P | BC7: P | BD7: P | BE7: F | BF7: P | BG7: P | BH7: P | BI7: P | BJ7: F | BK7: =COUNTIF(AV7:BJ7,"J") -> 0 | BL7: =COUNTIF(AV7:BJ7,"F") -> 6 | BM7: =COUNTIF(AV7:BJ7,"M") -> 0 | BN7: =COUNTIF(AV7:BJ7,"P") -> 9 | BO7: =COUNTIF(AV7:BJ7,"F") -> 6 | BP7: =SUM(BN7/(BN7+BO7)) -> 0.6 | BR7: P | BS7: F | BT7: F | BU7: F | BV7: F | BW7: P | BX7: P | BY7: P | BZ7: P | CA7: F | CB7: P | CC7: P | CD7: P | CE7: P | CF7: F | CG7: =COUNTIF(BR7:CF7,"J") -> 0 | CH7: =COUNTIF(BR7:CF7,"F") -> 6 | CI7: =COUNTIF(BR7:CF7,"M") -> 0 | CJ7: =COUNTIF(BR7:CF7,"P") -> 9 | CK7: =COUNTIF(BR7:CF7,"F") -> 6 | CL7: =SUM(CJ7/(CJ7+CK7)) -> 0.6
A8: =A7+1 -> 5 | B8: ALUNO 5 | D8: P | E8: F | F8: P | G8: P | H8: P | I8: P | J8: P | K8: P | L8: P | M8: P | N8: P | O8: P | P8: P | Q8: P | R8: P | S8: =COUNTIF(D8:R8,"J") -> 0 | T8: =COUNTIF(D8:R8,"F") -> 1 | U8: =COUNTIF(D8:R8,"M") -> 0 | V8: =COUNTIF(D8:R8,"P") -> 14 | W8: =COUNTIF(D8:R8,"F") -> 1 | X8: =SUM(V8/(V8+W8)) -> 0.93333333 | Z8: P | AA8: F | AB8: P | AC8: P | AD8: P | AE8: P | AF8: P | AG8: P | AH8: P | AI8: P | AJ8: P | AK8: P | AL8: P | AM8: P | AN8: P | AO8: =COUNTIF(Z8:AN8,"J") -> 0 | AP8: =COUNTIF(Z8:AN8,"F") -> 1 | AQ8: =COUNTIF(Z8:AN8,"M") -> 0 | AR8: =COUNTIF(Z8:AN8,"P") -> 14 | AS8: =COUNTIF(Z8:AN8,"F") -> 1 | AT8: =SUM(AR8/(AR8+AS8)) -> 0.93333333 | AV8: P | AW8: F | AX8: P | AY8: P | AZ8: P | BA8: P | BB8: P | BC8: P | BD8: P | BE8: P | BF8: P | BG8: P | BH8: P | BI8: P | BJ8: P | BK8: =COUNTIF(AV8:BJ8,"J") -> 0 | BL8: =COUNTIF(AV8:BJ8,"F") -> 1 | BM8: =COUNTIF(AV8:BJ8,"M") -> 0 | BN8: =COUNTIF(AV8:BJ8,"P") -> 14 | BO8: =COUNTIF(AV8:BJ8,"F") -> 1 | BP8: =SUM(BN8/(BN8+BO8)) -> 0.93333333 | BR8: P | BS8: F | BT8: P | BU8: P | BV8: P | BW8: P | BX8: P | BY8: P | BZ8: P | CA8: P | CB8: P | CC8: P | CD8: P | CE8: P | CF8: P | CG8: =COUNTIF(BR8:CF8,"J") -> 0 | CH8: =COUNTIF(BR8:CF8,"F") -> 1 | CI8: =COUNTIF(BR8:CF8,"M") -> 0 | CJ8: =COUNTIF(BR8:CF8,"P") -> 14 | CK8: =COUNTIF(BR8:CF8,"F") -> 1 | CL8: =SUM(CJ8/(CJ8+CK8)) -> 0.93333333
A9: =A8+1 -> 6 | S9: =COUNTIF(D9:R9,"J") -> 0 | T9: =COUNTIF(D9:R9,"F") -> 0 | U9: =COUNTIF(D9:R9,"M") -> 0 | V9: =COUNTIF(D9:R9,"P") -> 0 | W9: =COUNTIF(D9:R9,"F") -> 0 | X9: =SUM(V9/(V9+W9)) -> #DIV/0! | AO9: =COUNTIF(Z9:AN9,"J") -> 0 | AP9: =COUNTIF(Z9:AN9,"F") -> 0 | AQ9: =COUNTIF(Z9:AN9,"M") -> 0 | AR9: =COUNTIF(Z9:AN9,"P") -> 0 | AS9: =COUNTIF(Z9:AN9,"F") -> 0 | AT9: =SUM(AR9/(AR9+AS9)) -> #DIV/0! | BK9: =COUNTIF(AV9:BJ9,"J") -> 0 | BL9: =COUNTIF(AV9:BJ9,"F") -> 0 | BM9: =COUNTIF(AV9:BJ9,"M") -> 0 | BN9: =COUNTIF(AV9:BJ9,"P") -> 0 | BO9: =COUNTIF(AV9:BJ9,"F") -> 0 | BP9: =SUM(BN9/(BN9+BO9)) -> #DIV/0! | CG9: =COUNTIF(BR9:CF9,"J") -> 0 | CH9: =COUNTIF(BR9:CF9,"F") -> 0 | CI9: =COUNTIF(BR9:CF9,"M") -> 0 | CJ9: =COUNTIF(BR9:CF9,"P") -> 0 | CK9: =COUNTIF(BR9:CF9,"F") -> 0 | CL9: =SUM(CJ9/(CJ9+CK9)) -> #DIV/0!
A10: =A9+1 -> 7 | S10: =COUNTIF(D10:R10,"J") -> 0 | T10: =COUNTIF(D10:R10,"F") -> 0 | U10: =COUNTIF(D10:R10,"M") -> 0 | V10: =COUNTIF(D10:R10,"P") -> 0 | W10: =COUNTIF(D10:R10,"F") -> 0 | X10: =SUM(V10/(V10+W10)) -> #DIV/0! | AO10: =COUNTIF(Z10:AN10,"J") -> 0 | AP10: =COUNTIF(Z10:AN10,"F") -> 0 | AQ10: =COUNTIF(Z10:AN10,"M") -> 0 | AR10: =COUNTIF(Z10:AN10,"P") -> 0 | AS10: =COUNTIF(Z10:AN10,"F") -> 0 | AT10: =SUM(AR10/(AR10+AS10)) -> #DIV/0! | BK10: =COUNTIF(AV10:BJ10,"J") -> 0 | BL10: =COUNTIF(AV10:BJ10,"F") -> 0 | BM10: =COUNTIF(AV10:BJ10,"M") -> 0 | BN10: =COUNTIF(AV10:BJ10,"P") -> 0 | BO10: =COUNTIF(AV10:BJ10,"F") -> 0 | BP10: =SUM(BN10/(BN10+BO10)) -> #DIV/0! | CG10: =COUNTIF(BR10:CF10,"J") -> 0 | CH10: =COUNTIF(BR10:CF10,"F") -> 0 | CI10: =COUNTIF(BR10:CF10,"M") -> 0 | CJ10: =COUNTIF(BR10:CF10,"P") -> 0 | CK10: =COUNTIF(BR10:CF10,"F") -> 0 | CL10: =SUM(CJ10/(CJ10+CK10)) -> #DIV/0!
A11: =A10+1 -> 8 | S11: =COUNTIF(D11:R11,"J") -> 0 | T11: =COUNTIF(D11:R11,"F") -> 0 | U11: =COUNTIF(D11:R11,"M") -> 0 | V11: =COUNTIF(D11:R11,"P") -> 0 | W11: =COUNTIF(D11:R11,"F") -> 0 | X11: =SUM(V11/(V11+W11)) -> #DIV/0! | AO11: =COUNTIF(Z11:AN11,"J") -> 0 | AP11: =COUNTIF(Z11:AN11,"F") -> 0 | AQ11: =COUNTIF(Z11:AN11,"M") -> 0 | AR11: =COUNTIF(Z11:AN11,"P") -> 0 | AS11: =COUNTIF(Z11:AN11,"F") -> 0 | AT11: =SUM(AR11/(AR11+AS11)) -> #DIV/0! | BK11: =COUNTIF(AV11:BJ11,"J") -> 0 | BL11: =COUNTIF(AV11:BJ11,"F") -> 0 | BM11: =COUNTIF(AV11:BJ11,"M") -> 0 | BN11: =COUNTIF(AV11:BJ11,"P") -> 0 | BO11: =COUNTIF(AV11:BJ11,"F") -> 0 | BP11: =SUM(BN11/(BN11+BO11)) -> #DIV/0! | CG11: =COUNTIF(BR11:CF11,"J") -> 0 | CH11: =COUNTIF(BR11:CF11,"F") -> 0 | CI11: =COUNTIF(BR11:CF11,"M") -> 0 | CJ11: =COUNTIF(BR11:CF11,"P") -> 0 | CK11: =COUNTIF(BR11:CF11,"F") -> 0 | CL11: =SUM(CJ11/(CJ11+CK11)) -> #DIV/0!
A12: =A11+1 -> 9 | S12: =COUNTIF(D12:R12,"J") -> 0 | T12: =COUNTIF(D12:R12,"F") -> 0 | U12: =COUNTIF(D12:R12,"M") -> 0 | V12: =COUNTIF(D12:R12,"P") -> 0 | W12: =COUNTIF(D12:R12,"F") -> 0 | X12: =SUM(V12/(V12+W12)) -> #DIV/0! | AO12: =COUNTIF(Z12:AN12,"J") -> 0 | AP12: =COUNTIF(Z12:AN12,"F") -> 0 | AQ12: =COUNTIF(Z12:AN12,"M") -> 0 | AR12: =COUNTIF(Z12:AN12,"P") -> 0 | AS12: =COUNTIF(Z12:AN12,"F") -> 0 | AT12: =SUM(AR12/(AR12+AS12)) -> #DIV/0! | BK12: =COUNTIF(AV12:BJ12,"J") -> 0 | BL12: =COUNTIF(AV12:BJ12,"F") -> 0 | BM12: =COUNTIF(AV12:BJ12,"M") -> 0 | BN12: =COUNTIF(AV12:BJ12,"P") -> 0 | BO12: =COUNTIF(AV12:BJ12,"F") -> 0 | BP12: =SUM(BN12/(BN12+BO12)) -> #DIV/0! | CG12: =COUNTIF(BR12:CF12,"J") -> 0 | CH12: =COUNTIF(BR12:CF12,"F") -> 0 | CI12: =COUNTIF(BR12:CF12,"M") -> 0 | CJ12: =COUNTIF(BR12:CF12,"P") -> 0 | CK12: =COUNTIF(BR12:CF12,"F") -> 0 | CL12: =SUM(CJ12/(CJ12+CK12)) -> #DIV/0!
A13: =A12+1 -> 10 | S13: =COUNTIF(D13:R13,"J") -> 0 | T13: =COUNTIF(D13:R13,"F") -> 0 | U13: =COUNTIF(D13:R13,"M") -> 0 | V13: =COUNTIF(D13:R13,"P") -> 0 | W13: =COUNTIF(D13:R13,"F") -> 0 | X13: =SUM(V13/(V13+W13)) -> #DIV/0! | AO13: =COUNTIF(Z13:AN13,"J") -> 0 | AP13: =COUNTIF(Z13:AN13,"F") -> 0 | AQ13: =COUNTIF(Z13:AN13,"M") -> 0 | AR13: =COUNTIF(Z13:AN13,"P") -> 0 | AS13: =COUNTIF(Z13:AN13,"F") -> 0 | AT13: =SUM(AR13/(AR13+AS13)) -> #DIV/0! | BK13: =COUNTIF(AV13:BJ13,"J") -> 0 | BL13: =COUNTIF(AV13:BJ13,"F") -> 0 | BM13: =COUNTIF(AV13:BJ13,"M") -> 0 | BN13: =COUNTIF(AV13:BJ13,"P") -> 0 | BO13: =COUNTIF(AV13:BJ13,"F") -> 0 | BP13: =SUM(BN13/(BN13+BO13)) -> #DIV/0! | CG13: =COUNTIF(BR13:CF13,"J") -> 0 | CH13: =COUNTIF(BR13:CF13,"F") -> 0 | CI13: =COUNTIF(BR13:CF13,"M") -> 0 | CJ13: =COUNTIF(BR13:CF13,"P") -> 0 | CK13: =COUNTIF(BR13:CF13,"F") -> 0 | CL13: =SUM(CJ13/(CJ13+CK13)) -> #DIV/0!
A14: =A13+1 -> 11 | S14: =COUNTIF(D14:R14,"J") -> 0 | T14: =COUNTIF(D14:R14,"F") -> 0 | U14: =COUNTIF(D14:R14,"M") -> 0 | V14: =COUNTIF(D14:R14,"P") -> 0 | W14: =COUNTIF(D14:R14,"F") -> 0 | X14: =SUM(V14/(V14+W14)) -> #DIV/0! | AO14: =COUNTIF(Z14:AN14,"J") -> 0 | AP14: =COUNTIF(Z14:AN14,"F") -> 0 | AQ14: =COUNTIF(Z14:AN14,"M") -> 0 | AR14: =COUNTIF(Z14:AN14,"P") -> 0 | AS14: =COUNTIF(Z14:AN14,"F") -> 0 | AT14: =SUM(AR14/(AR14+AS14)) -> #DIV/0! | BK14: =COUNTIF(AV14:BJ14,"J") -> 0 | BL14: =COUNTIF(AV14:BJ14,"F") -> 0 | BM14: =COUNTIF(AV14:BJ14,"M") -> 0 | BN14: =COUNTIF(AV14:BJ14,"P") -> 0 | BO14: =COUNTIF(AV14:BJ14,"F") -> 0 | BP14: =SUM(BN14/(BN14+BO14)) -> #DIV/0! | CG14: =COUNTIF(BR14:CF14,"J") -> 0 | CH14: =COUNTIF(BR14:CF14,"F") -> 0 | CI14: =COUNTIF(BR14:CF14,"M") -> 0 | CJ14: =COUNTIF(BR14:CF14,"P") -> 0 | CK14: =COUNTIF(BR14:CF14,"F") -> 0 | CL14: =SUM(CJ14/(CJ14+CK14)) -> #DIV/0!
A15: =A14+1 -> 12 | S15: =COUNTIF(D15:R15,"J") -> 0 | T15: =COUNTIF(D15:R15,"F") -> 0 | U15: =COUNTIF(D15:R15,"M") -> 0 | V15: =COUNTIF(D15:R15,"P") -> 0 | W15: =COUNTIF(D15:R15,"F") -> 0 | X15: =SUM(V15/(V15+W15)) -> #DIV/0! | AO15: =COUNTIF(Z15:AN15,"J") -> 0 | AP15: =COUNTIF(Z15:AN15,"F") -> 0 | AQ15: =COUNTIF(Z15:AN15,"M") -> 0 | AR15: =COUNTIF(Z15:AN15,"P") -> 0 | AS15: =COUNTIF(Z15:AN15,"F") -> 0 | AT15: =SUM(AR15/(AR15+AS15)) -> #DIV/0! | BK15: =COUNTIF(AV15:BJ15,"J") -> 0 | BL15: =COUNTIF(AV15:BJ15,"F") -> 0 | BM15: =COUNTIF(AV15:BJ15,"M") -> 0 | BN15: =COUNTIF(AV15:BJ15,"P") -> 0 | BO15: =COUNTIF(AV15:BJ15,"F") -> 0 | BP15: =SUM(BN15/(BN15+BO15)) -> #DIV/0! | CG15: =COUNTIF(BR15:CF15,"J") -> 0 | CH15: =COUNTIF(BR15:CF15,"F") -> 0 | CI15: =COUNTIF(BR15:CF15,"M") -> 0 | CJ15: =COUNTIF(BR15:CF15,"P") -> 0 | CK15: =COUNTIF(BR15:CF15,"F") -> 0 | CL15: =SUM(CJ15/(CJ15+CK15)) -> #DIV/0!
A16: =A15+1 -> 13 | S16: =COUNTIF(D16:R16,"J") -> 0 | T16: =COUNTIF(D16:R16,"F") -> 0 | U16: =COUNTIF(D16:R16,"M") -> 0 | V16: =COUNTIF(D16:R16,"P") -> 0 | W16: =COUNTIF(D16:R16,"F") -> 0 | X16: =SUM(V16/(V16+W16)) -> #DIV/0! | AO16: =COUNTIF(Z16:AN16,"J") -> 0 | AP16: =COUNTIF(Z16:AN16,"F") -> 0 | AQ16: =COUNTIF(Z16:AN16,"M") -> 0 | AR16: =COUNTIF(Z16:AN16,"P") -> 0 | AS16: =COUNTIF(Z16:AN16,"F") -> 0 | AT16: =SUM(AR16/(AR16+AS16)) -> #DIV/0! | BK16: =COUNTIF(AV16:BJ16,"J") -> 0 | BL16: =COUNTIF(AV16:BJ16,"F") -> 0 | BM16: =COUNTIF(AV16:BJ16,"M") -> 0 | BN16: =COUNTIF(AV16:BJ16,"P") -> 0 | BO16: =COUNTIF(AV16:BJ16,"F") -> 0 | BP16: =SUM(BN16/(BN16+BO16)) -> #DIV/0! | CG16: =COUNTIF(BR16:CF16,"J") -> 0 | CH16: =COUNTIF(BR16:CF16,"F") -> 0 | CI16: =COUNTIF(BR16:CF16,"M") -> 0 | CJ16: =COUNTIF(BR16:CF16,"P") -> 0 | CK16: =COUNTIF(BR16:CF16,"F") -> 0 | CL16: =SUM(CJ16/(CJ16+CK16)) -> #DIV/0!
A17: =A16+1 -> 14 | S17: =COUNTIF(D17:R17,"J") -> 0 | T17: =COUNTIF(D17:R17,"F") -> 0 | U17: =COUNTIF(D17:R17,"M") -> 0 | V17: =COUNTIF(D17:R17,"P") -> 0 | W17: =COUNTIF(D17:R17,"F") -> 0 | X17: =SUM(V17/(V17+W17)) -> #DIV/0! | AO17: =COUNTIF(Z17:AN17,"J") -> 0 | AP17: =COUNTIF(Z17:AN17,"F") -> 0 | AQ17: =COUNTIF(Z17:AN17,"M") -> 0 | AR17: =COUNTIF(Z17:AN17,"P") -> 0 | AS17: =COUNTIF(Z17:AN17,"F") -> 0 | AT17: =SUM(AR17/(AR17+AS17)) -> #DIV/0! | BK17: =COUNTIF(AV17:BJ17,"J") -> 0 | BL17: =COUNTIF(AV17:BJ17,"F") -> 0 | BM17: =COUNTIF(AV17:BJ17,"M") -> 0 | BN17: =COUNTIF(AV17:BJ17,"P") -> 0 | BO17: =COUNTIF(AV17:BJ17,"F") -> 0 | BP17: =SUM(BN17/(BN17+BO17)) -> #DIV/0! | CG17: =COUNTIF(BR17:CF17,"J") -> 0 | CH17: =COUNTIF(BR17:CF17,"F") -> 0 | CI17: =COUNTIF(BR17:CF17,"M") -> 0 | CJ17: =COUNTIF(BR17:CF17,"P") -> 0 | CK17: =COUNTIF(BR17:CF17,"F") -> 0 | CL17: =SUM(CJ17/(CJ17+CK17)) -> #DIV/0!
A18: =A17+1 -> 15 | S18: =COUNTIF(D18:R18,"J") -> 0 | T18: =COUNTIF(D18:R18,"F") -> 0 | U18: =COUNTIF(D18:R18,"M") -> 0 | V18: =COUNTIF(D18:R18,"P") -> 0 | W18: =COUNTIF(D18:R18,"F") -> 0 | X18: =SUM(V18/(V18+W18)) -> #DIV/0! | AO18: =COUNTIF(Z18:AN18,"J") -> 0 | AP18: =COUNTIF(Z18:AN18,"F") -> 0 | AQ18: =COUNTIF(Z18:AN18,"M") -> 0 | AR18: =COUNTIF(Z18:AN18,"P") -> 0 | AS18: =COUNTIF(Z18:AN18,"F") -> 0 | AT18: =SUM(AR18/(AR18+AS18)) -> #DIV/0! | BK18: =COUNTIF(AV18:BJ18,"J") -> 0 | BL18: =COUNTIF(AV18:BJ18,"F") -> 0 | BM18: =COUNTIF(AV18:BJ18,"M") -> 0 | BN18: =COUNTIF(AV18:BJ18,"P") -> 0 | BO18: =COUNTIF(AV18:BJ18,"F") -> 0 | BP18: =SUM(BN18/(BN18+BO18)) -> #DIV/0! | CG18: =COUNTIF(BR18:CF18,"J") -> 0 | CH18: =COUNTIF(BR18:CF18,"F") -> 0 | CI18: =COUNTIF(BR18:CF18,"M") -> 0 | CJ18: =COUNTIF(BR18:CF18,"P") -> 0 | CK18: =COUNTIF(BR18:CF18,"F") -> 0 | CL18: =SUM(CJ18/(CJ18+CK18)) -> #DIV/0!
A19: =A18+1 -> 16 | S19: =COUNTIF(D19:R19,"J") -> 0 | T19: =COUNTIF(D19:R19,"F") -> 0 | U19: =COUNTIF(D19:R19,"M") -> 0 | V19: =COUNTIF(D19:R19,"P") -> 0 | W19: =COUNTIF(D19:R19,"F") -> 0 | X19: =SUM(V19/(V19+W19)) -> #DIV/0! | AO19: =COUNTIF(Z19:AN19,"J") -> 0 | AP19: =COUNTIF(Z19:AN19,"F") -> 0 | AQ19: =COUNTIF(Z19:AN19,"M") -> 0 | AR19: =COUNTIF(Z19:AN19,"P") -> 0 | AS19: =COUNTIF(Z19:AN19,"F") -> 0 | AT19: =SUM(AR19/(AR19+AS19)) -> #DIV/0! | BK19: =COUNTIF(AV19:BJ19,"J") -> 0 | BL19: =COUNTIF(AV19:BJ19,"F") -> 0 | BM19: =COUNTIF(AV19:BJ19,"M") -> 0 | BN19: =COUNTIF(AV19:BJ19,"P") -> 0 | BO19: =COUNTIF(AV19:BJ19,"F") -> 0 | BP19: =SUM(BN19/(BN19+BO19)) -> #DIV/0! | CG19: =COUNTIF(BR19:CF19,"J") -> 0 | CH19: =COUNTIF(BR19:CF19,"F") -> 0 | CI19: =COUNTIF(BR19:CF19,"M") -> 0 | CJ19: =COUNTIF(BR19:CF19,"P") -> 0 | CK19: =COUNTIF(BR19:CF19,"F") -> 0 | CL19: =SUM(CJ19/(CJ19+CK19)) -> #DIV/0!
A20: =A19+1 -> 17 | S20: =COUNTIF(D20:R20,"J") -> 0 | T20: =COUNTIF(D20:R20,"F") -> 0 | U20: =COUNTIF(D20:R20,"M") -> 0 | V20: =COUNTIF(D20:R20,"P") -> 0 | W20: =COUNTIF(D20:R20,"F") -> 0 | X20: =SUM(V20/(V20+W20)) -> #DIV/0! | AO20: =COUNTIF(Z20:AN20,"J") -> 0 | AP20: =COUNTIF(Z20:AN20,"F") -> 0 | AQ20: =COUNTIF(Z20:AN20,"M") -> 0 | AR20: =COUNTIF(Z20:AN20,"P") -> 0 | AS20: =COUNTIF(Z20:AN20,"F") -> 0 | AT20: =SUM(AR20/(AR20+AS20)) -> #DIV/0! | BK20: =COUNTIF(AV20:BJ20,"J") -> 0 | BL20: =COUNTIF(AV20:BJ20,"F") -> 0 | BM20: =COUNTIF(AV20:BJ20,"M") -> 0 | BN20: =COUNTIF(AV20:BJ20,"P") -> 0 | BO20: =COUNTIF(AV20:BJ20,"F") -> 0 | BP20: =SUM(BN20/(BN20+BO20)) -> #DIV/0! | CG20: =COUNTIF(BR20:CF20,"J") -> 0 | CH20: =COUNTIF(BR20:CF20,"F") -> 0 | CI20: =COUNTIF(BR20:CF20,"M") -> 0 | CJ20: =COUNTIF(BR20:CF20,"P") -> 0 | CK20: =COUNTIF(BR20:CF20,"F") -> 0 | CL20: =SUM(CJ20/(CJ20+CK20)) -> #DIV/0!
... A63: =A62+1 -> 60 | S63: =COUNTIF(D63:R63,"J") -> 0 | T63: =COUNTIF(D63:R63,"F") -> 0 | U63: =COUNTIF(D63:R63,"M") -> 0 | V63: =COUNTIF(D63:R63,"P") -> 0 | W63: =COUNTIF(D63:R63,"F") -> 0 | X63: =SUM(V63/(V63+W63)) -> #DIV/0! | AO63: =COUNTIF(Z63:AN63,"J") -> 0 | AP63: =COUNTIF(Z63:AN63,"F") -> 0 | AQ63: =COUNTIF(Z63:AN63,"M") -> 0 | AR63: =COUNTIF(Z63:AN63,"P") -> 0 | AS63: =COUNTIF(Z63:AN63,"F") -> 0 | AT63: =SUM(AR63/(AR63+AS63)) -> #DIV/0! | BK63: =COUNTIF(AV63:BJ63,"J") -> 0 | BL63: =COUNTIF(AV63:BJ63,"F") -> 0 | BM63: =COUNTIF(AV63:BJ63,"M") -> 0 | BN63: =COUNTIF(AV63:BJ63,"P") -> 0 | BO63: =COUNTIF(AV63:BJ63,"F") -> 0 | BP63: =SUM(BN63/(BN63+BO63)) -> #DIV/0! | CG63: =COUNTIF(BR63:CF63,"J") -> 0 | CH63: =COUNTIF(BR63:CF63,"F") -> 0 | CI63: =COUNTIF(BR63:CF63,"M") -> 0 | CJ63: =COUNTIF(BR63:CF63,"P") -> 0 | CK63: =COUNTIF(BR63:CF63,"F") -> 0 | CL63: =SUM(CJ63/(CJ63+CK63)) -> #DIV/0!
C64: Alunos matriculados | D64: =COUNTA(D4:D63) -> 5 | E64: =COUNTA(E4:E63) -> 5 | F64: =COUNTA(F4:F63) -> 5 | G64: =COUNTA(G4:G63) -> 5 | H64: =COUNTA(H4:H63) -> 5 | I64: =COUNTA(I4:I63) -> 5 | J64: =COUNTA(J4:J63) -> 5 | K64: =COUNTA(K4:K63) -> 5 | ... R64: =COUNTA(R4:R63) -> 5 | Z64: =COUNTA(Z4:Z63) -> 5 | AA64: =COUNTA(AA4:AA63) -> 5 | AB64: =COUNTA(AB4:AB63) -> 5 | AC64: =COUNTA(AC4:AC63) -> 5 | AD64: =COUNTA(AD4:AD63) -> 5 | AE64: =COUNTA(AE4:AE63) -> 5 | AF64: =COUNTA(AF4:AF63) -> 5 | AG64: =COUNTA(AG4:AG63) -> 5 | ... AN64: =COUNTA(AN4:AN63) -> 5 | AV64: =COUNTA(AV4:AV63) -> 5 | AW64: =COUNTA(AW4:AW63) -> 5 | AX64: =COUNTA(AX4:AX63) -> 5 | AY64: =COUNTA(AY4:AY63) -> 5 | AZ64: =COUNTA(AZ4:AZ63) -> 5 | BA64: =COUNTA(BA4:BA63) -> 5 | BB64: =COUNTA(BB4:BB63) -> 5 | BC64: =COUNTA(BC4:BC63) -> 5 | ... BJ64: =COUNTA(BJ4:BJ63) -> 5 | BR64: =COUNTA(BR4:BR63) -> 5 | BS64: =COUNTA(BS4:BS63) -> 5 | BT64: =COUNTA(BT4:BT63) -> 5 | BU64: =COUNTA(BU4:BU63) -> 5 | BV64: =COUNTA(BV4:BV63) -> 5 | BW64: =COUNTA(BW4:BW63) -> 5 | BX64: =COUNTA(BX4:BX63) -> 5 | BY64: =COUNTA(BY4:BY63) -> 5 | ... CF64: =COUNTA(CF4:CF63) -> 5
C65: Ausentes | D65: =COUNTIF(D4:D63,"F") -> 0 | E65: =COUNTIF(E4:E63,"F") -> 2 | F65: =COUNTIF(F4:F63,"F") -> 4 | G65: =COUNTIF(G4:G63,"F") -> 4 | H65: =COUNTIF(H4:H63,"F") -> 2 | I65: =COUNTIF(I4:I63,"F") -> 1 | J65: =COUNTIF(J4:J63,"F") -> 1 | K65: =COUNTIF(K4:K63,"F") -> 1 | ... R65: =COUNTIF(R4:R63,"F") -> 2 | Z65: =COUNTIF(Z4:Z63,"F") -> 0 | AA65: =COUNTIF(AA4:AA63,"F") -> 2 | AB65: =COUNTIF(AB4:AB63,"F") -> 3 | AC65: =COUNTIF(AC4:AC63,"F") -> 3 | AD65: =COUNTIF(AD4:AD63,"F") -> 3 | AE65: =COUNTIF(AE4:AE63,"F") -> 1 | AF65: =COUNTIF(AF4:AF63,"F") -> 1 | AG65: =COUNTIF(AG4:AG63,"F") -> 1 | ... AN65: =COUNTIF(AN4:AN63,"F") -> 1 | AV65: =COUNTIF(AV4:AV63,"F") -> 0 | AW65: =COUNTIF(AW4:AW63,"F") -> 2 | AX65: =COUNTIF(AX4:AX63,"F") -> 3 | AY65: =COUNTIF(AY4:AY63,"F") -> 3 | AZ65: =COUNTIF(AZ4:AZ63,"F") -> 3 | BA65: =COUNTIF(BA4:BA63,"F") -> 1 | BB65: =COUNTIF(BB4:BB63,"F") -> 1 | BC65: =COUNTIF(BC4:BC63,"F") -> 1 | ... BJ65: =COUNTIF(BJ4:BJ63,"F") -> 3 | BR65: =COUNTIF(BR4:BR63,"F") -> 0 | BS65: =COUNTIF(BS4:BS63,"F") -> 2 | BT65: =COUNTIF(BT4:BT63,"F") -> 3 | BU65: =COUNTIF(BU4:BU63,"F") -> 3 | BV65: =COUNTIF(BV4:BV63,"F") -> 3 | BW65: =COUNTIF(BW4:BW63,"F") -> 1 | BX65: =COUNTIF(BX4:BX63,"F") -> 1 | BY65: =COUNTIF(BY4:BY63,"F") -> 1 | ... CF65: =COUNTIF(CF4:CF63,"F") -> 3
C66: Presentes | D66: =COUNTIF(D4:D63,"P") -> 5 | E66: =COUNTIF(E4:E63,"P") -> 2 | F66: =COUNTIF(F4:F63,"P") -> 1 | G66: =COUNTIF(G4:G63,"P") -> 1 | H66: =COUNTIF(H4:H63,"P") -> 3 | I66: =COUNTIF(I4:I63,"P") -> 4 | J66: =COUNTIF(J4:J63,"P") -> 4 | K66: =COUNTIF(K4:K63,"P") -> 4 | ... R66: =COUNTIF(R4:R63,"P") -> 3 | Z66: =COUNTIF(Z4:Z63,"P") -> 5 | AA66: =COUNTIF(AA4:AA63,"P") -> 3 | AB66: =COUNTIF(AB4:AB63,"P") -> 2 | AC66: =COUNTIF(AC4:AC63,"P") -> 2 | AD66: =COUNTIF(AD4:AD63,"P") -> 2 | AE66: =COUNTIF(AE4:AE63,"P") -> 4 | AF66: =COUNTIF(AF4:AF63,"P") -> 4 | AG66: =COUNTIF(AG4:AG63,"P") -> 4 | ... AN66: =COUNTIF(AN4:AN63,"P") -> 4 | AV66: =COUNTIF(AV4:AV63,"P") -> 5 | AW66: =COUNTIF(AW4:AW63,"P") -> 3 | AX66: =COUNTIF(AX4:AX63,"P") -> 2 | AY66: =COUNTIF(AY4:AY63,"P") -> 2 | AZ66: =COUNTIF(AZ4:AZ63,"P") -> 2 | BA66: =COUNTIF(BA4:BA63,"P") -> 4 | BB66: =COUNTIF(BB4:BB63,"P") -> 4 | BC66: =COUNTIF(BC4:BC63,"P") -> 4 | ... BJ66: =COUNTIF(BJ4:BJ63,"P") -> 2 | BR66: =COUNTIF(BR4:BR63,"P") -> 5 | BS66: =COUNTIF(BS4:BS63,"P") -> 3 | BT66: =COUNTIF(BT4:BT63,"P") -> 2 | BU66: =COUNTIF(BU4:BU63,"P") -> 2 | BV66: =COUNTIF(BV4:BV63,"P") -> 2 | BW66: =COUNTIF(BW4:BW63,"P") -> 4 | BX66: =COUNTIF(BX4:BX63,"P") -> 4 | BY66: =COUNTIF(BY4:BY63,"P") -> 4 | ... CF66: =COUNTIF(CF4:CF63,"P") -> 2
C67: Visitantes | D67: 8 | E67: 6 | F67: 6 | G67: 0 | H67: 6 | I67: 5 | Z67: 8 | AA67: 6 | AB67: 6 | AC67: 0 | AD67: 6 | AE67: 5 | AV67: 8 | AW67: 6 | AX67: 6 | AY67: 0 | AZ67: 6 | BA67: 5 | BR67: 8 | BS67: 6 | BT67: 6 | BU67: 0 | BV67: 6 | BW67: 5
C68: Total de Assistencia | D68: =D66+D67 -> 13 | E68: =E66+E67 -> 8 | F68: =F66+F67 -> 7 | G68: =G66+G67 -> 1 | H68: =H66+H67 -> 9 | I68: =I66+I67 -> 9 | J68: =J66+J67 -> 4 | K68: =K66+K67 -> 4 | ... R68: =R66+R67 -> 3 | Z68: =Z66+Z67 -> 13 | AA68: =AA66+AA67 -> 9 | AB68: =AB66+AB67 -> 8 | AC68: =AC66+AC67 -> 2 | AD68: =AD66+AD67 -> 8 | AE68: =AE66+AE67 -> 9 | AF68: =AF66+AF67 -> 4 | AG68: =AG66+AG67 -> 4 | ... AN68: =AN66+AN67 -> 4 | AV68: =AV66+AV67 -> 13 | AW68: =AW66+AW67 -> 9 | AX68: =AX66+AX67 -> 8 | AY68: =AY66+AY67 -> 2 | AZ68: =AZ66+AZ67 -> 8 | BA68: =BA66+BA67 -> 9 | BB68: =BB66+BB67 -> 4 | BC68: =BC66+BC67 -> 4 | ... BJ68: =BJ66+BJ67 -> 2 | BR68: =BR66+BR67 -> 13 | BS68: =BS66+BS67 -> 9 | BT68: =BT66+BT67 -> 8 | BU68: =BU66+BU67 -> 2 | BV68: =BV66+BV67 -> 8 | BW68: =BW66+BW67 -> 9 | BX68: =BX66+BX67 -> 4 | BY68: =BY66+BY67 -> 4 | ... CF68: =CF66+CF67 -> 2
C69: Bíblias | D69: 30 | E69: 27 | F69: 27 | G69: 0 | H69: 26 | I69: 39 | Z69: 30 | AA69: 27 | AB69: 27 | AC69: 0 | AD69: 26 | AE69: 39 | AV69: 30 | AW69: 27 | AX69: 27 | AY69: 0 | AZ69: 26 | BA69: 39 | BR69: 30 | BS69: 27 | BT69: 27 | BU69: 0 | BV69: 26 | BW69: 39
C70: Revistas | D70: 30 | E70: 25 | F70: 27 | G70: 0 | H70: 20 | I70: 30 | Z70: 30 | AA70: 25 | AB70: 27 | AC70: 0 | AD70: 20 | AE70: 30 | AV70: 30 | AW70: 25 | AX70: 27 | AY70: 0 | AZ70: 20 | BA70: 30 | BR70: 30 | BS70: 25 | BT70: 27 | BU70: 0 | BV70: 20 | BW70: 30
C71: Oferta | D71: 0 | E71: 0 | F71: 0 | G71: 0 | H71: 0 | I71: 0 | Z71: 0 | AA71: 0 | AB71: 0 | AC71: 0 | AD71: 0 | AE71: 0 | AV71: 0 | AW71: 0 | AX71: 0 | AY71: 0 | AZ71: 0 | BA71: 0 | BR71: 0 | BS71: 0 | BT71: 0 | BU71: 0 | BV71: 0 | BW71: 0
C74: MÉDIA GERAL DE ASSISTENCIA | D74: =D79 -> 0.48 | I74: =I79 -> 0.72 | N74: =N79 -> 0.76 | Z74: =Z79 -> 0.56 | AE74: =AE79 -> 0.8 | AJ74: =AJ79 -> 0.8 | AV74: =AV79 -> 0.56 | BA74: =BA79 -> 0.72 | BF74: =BF79 -> 0.72 | BR74: =BR79 -> 0.56 | BW74: =BW79 -> 0.72 | CB74: =CB79 -> 0.72
C77: Matriculados | D77: =SUM(D64:H64) -> 25 | I77: =SUM(I64:M64) -> 25 | N77: =SUM(N64:R64) -> 25 | Z77: =SUM(Z64:AD64) -> 25 | AE77: =SUM(AE64:AI64) -> 25 | AJ77: =SUM(AJ64:AN64) -> 25 | AV77: =SUM(AV64:AZ64) -> 25 | BA77: =SUM(BA64:BE64) -> 25 | BF77: =SUM(BF64:BJ64) -> 25 | BR77: =SUM(BR64:BV64) -> 25 | BW77: =SUM(BW64:CA64) -> 25 | CB77: =SUM(CB64:CF64) -> 25
C78: Presenças | D78: =SUM(D66:H66) -> 12 | I78: =SUM(I66:M66) -> 18 | N78: =SUM(N66:R66) -> 19 | Z78: =SUM(Z66:AD66) -> 14 | AE78: =SUM(AE66:AI66) -> 20 | AJ78: =SUM(AJ66:AN66) -> 20 | AV78: =SUM(AV66:AZ66) -> 14 | BA78: =SUM(BA66:BE66) -> 18 | BF78: =SUM(BF66:BJ66) -> 18 | BR78: =SUM(BR66:BV66) -> 14 | BW78: =SUM(BW66:CA66) -> 18 | CB78: =SUM(CB66:CF66) -> 18
C79: Percetual de pres. | D79: =D78/D77 -> 0.48 | I79: =I78/I77 -> 0.72 | N79: =N78/N77 -> 0.76 | Z79: =Z78/Z77 -> 0.56 | AE79: =AE78/AE77 -> 0.8 | AJ79: =AJ78/AJ77 -> 0.8 | AV79: =AV78/AV77 -> 0.56 | BA79: =BA78/BA77 -> 0.72 | BF79: =BF78/BF77 -> 0.72 | BR79: =BR78/BR77 -> 0.56 | BW79: =BW78/BW77 -> 0.72 | CB79: =CB78/CB77 -> 0.72

Sheet CLASSE 8
A1: NOME DA CLASSE: | C1: CLASSE 8 | Z1: =$C$1 -> CLASSE 8 | AV1: =$C$1 -> CLASSE 8 | BR1: =$C$1 -> CLASSE 8
A2: Nº | B2: ALUNO | C2: OBSERVAÇÕES | D2: JANEIRO | I2: FEVEREIRO | N2: MARÇO | S2: Frequencia do Trimestre | Z2: ABRIL | AE2: MAIO | AJ2: JUNHO | AO2: Frequencia do Trimestre | AV2: JULHO | BA2: AGOSTO | BF2: SETEMBRO | BK2: Frequencia do Trimestre | BR2: OUTUBRO | BW2: NOVEMBRO | CB2: DEZEMBRO | CG2: Frequencia do Trimestre
D3: 1º | E3: 2º | F3: 3º | G3: 4º | H3: 5º | I3: 1º | J3: 2º | K3: 3º | L3: 4º | M3: 5º | N3: 1º | O3: 2º | P3: 3º | Q3: 4º | R3: 5º | S3: J | T3: F | U3: M | V3: P | W3: F | X3: Frequencia % | Z3: 1º | AA3: 2º | AB3: 3º | AC3: 4º | AD3: 5º | AE3: 1º | AF3: 2º | AG3: 3º | AH3: 4º | AI3: 5º | AJ3: 1º | AK3: 2º | AL3: 3º | AM3: 4º | AN3: 5º | AO3: J | AP3: F | AQ3: M | AR3: P | AS3: F | AT3: Frequencia % | AV3: 1º | AW3: 2º | AX3: 3º | AY3: 4º | AZ3: 5º | BA3: 1º | BB3: 2º | BC3: 3º | BD3: 4º | BE3: 5º | BF3: 1º | BG3: 2º | BH3: 3º | BI3: 4º | BJ3: 5º | BK3: J | BL3: F | BM3: M | BN3: P | BO3: F | BP3: Frequencia % | BR3: 1º | BS3: 2º | BT3: 3º | BU3: 4º | BV3: 5º | BW3: 1º | BX3: 2º | BY3: 3º | BZ3: 4º | CA3: 5º | CB3: 1º | CC3: 2º | CD3: 3º | CE3: 4º | CF3: 5º | CG3: J | CH3: F | CI3: M | CJ3: P | CK3: F | CL3: Frequencia %
A4: 1 | B4: ALUNO 1 | D4: P | E4: J | F4: F | G4: F | H4: P | I4: P | J4: P | K4: P | L4: F | M4: P | N4: P | O4: P | P4: P | Q4: P | R4: P | S4: =COUNTIF(D4:R4,"J") -> 1 | T4: =COUNTIF(D4:R4,"F") -> 3 | U4: =COUNTIF(D4:R4,"M") -> 0 | V4: =COUNTIF(D4:R4,"P") -> 11 | W4: =COUNTIF(D4:R4,"F") -> 3 | X4: =SUM(V4/(V4+W4)) -> 0.78571429 | Z4: P | AA4: P | AB4: P | AC4: P | AD4: F | AE4: P | AF4: P | AG4: P | AH4: P | AI4: P | AJ4: P | AK4: P | AL4: P | AM4: P | AN4: P | AO4: =COUNTIF(Z4:AN4,"J") -> 0 | AP4: =COUNTIF(Z4:AN4,"F") -> 1 | AQ4: =COUNTIF(Z4:AN4,"M") -> 0 | AR4: =COUNTIF(Z4:AN4,"P") -> 14 | AS4: =COUNTIF(Z4:AN4,"F") -> 1 | AT4: =SUM(AR4/(AR4+AS4)) -> 0.93333333 | AV4: P | AW4: P | AX4: P | AY4: P | AZ4: F | BA4: P | BB4: P | BC4: P | BD4: P | BE4: F | BF4: P | BG4: P | BH4: P | BI4: P | BJ4: F | BK4: =COUNTIF(AV4:BJ4,"J") -> 0 | BL4: =COUNTIF(AV4:BJ4,"F") -> 3 | BM4: =COUNTIF(AV4:BJ4,"M") -> 0 | BN4: =COUNTIF(AV4:BJ4,"P") -> 12 | BO4: =COUNTIF(AV4:BJ4,"F") -> 3 | BP4: =SUM(BN4/(BN4+BO4)) -> 0.8 | BR4: P | BS4: P | BT4: P | BU4: P | BV4: F | BW4: P | BX4: P | BY4: P | BZ4: P | CA4: F | CB4: P | CC4: P | CD4: P | CE4: P | CF4: F | CG4: =COUNTIF(BR4:CF4,"J") -> 0 | CH4: =COUNTIF(BR4:CF4,"F") -> 3 | CI4: =COUNTIF(BR4:CF4,"M") -> 0 | CJ4: =COUNTIF(BR4:CF4,"P") -> 12 | CK4: =COUNTIF(BR4:CF4,"F") -> 3 | CL4: =SUM(CJ4/(CJ4+CK4)) -> 0.8
A5: =A4+1 -> 2 | B5: ALUNO 2 | D5: P | E5: P | F5: F | G5: F | H5: F | I5: F | J5: F | K5: F | L5: F | M5: F | N5: F | O5: F | P5: F | Q5: F | R5: F | S5: =COUNTIF(D5:R5,"J") -> 0 | T5: =COUNTIF(D5:R5,"F") -> 13 | U5: =COUNTIF(D5:R5,"M") -> 0 | V5: =COUNTIF(D5:R5,"P") -> 2 | W5: =COUNTIF(D5:R5,"F") -> 13 | X5: =SUM(V5/(V5+W5)) -> 0.13333333 | Z5: P | AA5: P | AB5: F | AC5: F | AD5: F | AE5: F | AF5: F | AG5: F | AH5: F | AI5: F | AJ5: F | AK5: F | AL5: F | AM5: F | AN5: F | AO5: =COUNTIF(Z5:AN5,"J") -> 0 | AP5: =COUNTIF(Z5:AN5,"F") -> 13 | AQ5: =COUNTIF(Z5:AN5,"M") -> 0 | AR5: =COUNTIF(Z5:AN5,"P") -> 2 | AS5: =COUNTIF(Z5:AN5,"F") -> 13 | AT5: =SUM(AR5/(AR5+AS5)) -> 0.13333333 | AV5: P | AW5: P | AX5: F | AY5: F | AZ5: F | BA5: F | BB5: F | BC5: F | BD5: F | BE5: F | BF5: F | BG5: F | BH5: F | BI5: F | BJ5: F | BK5: =COUNTIF(AV5:BJ5,"J") -> 0 | BL5: =COUNTIF(AV5:BJ5,"F") -> 13 | BM5: =COUNTIF(AV5:BJ5,"M") -> 0 | BN5: =COUNTIF(AV5:BJ5,"P") -> 2 | BO5: =COUNTIF(AV5:BJ5,"F") -> 13 | BP5: =SUM(BN5/(BN5+BO5)) -> 0.13333333 | BR5: P | BS5: P | BT5: F | BU5: F | BV5: F | BW5: F | BX5: F | BY5: F | BZ5: F | CA5: F | CB5: F | CC5: F | CD5: F | CE5: F | CF5: F | CG5: =COUNTIF(BR5:CF5,"J") -> 0 | CH5: =COUNTIF(BR5:CF5,"F") -> 13 | CI5: =COUNTIF(BR5:CF5,"M") -> 0 | CJ5: =COUNTIF(BR5:CF5,"P") -> 2 | CK5: =COUNTIF(BR5:CF5,"F") -> 13 | CL5: =SUM(CJ5/(CJ5+CK5)) -> 0.13333333
A6: =A5+1 -> 3 | B6: ALUNO 3 | D6: P | E6: P | F6: F | G6: F | H6: P | I6: P | J6: P | K6: P | L6: P | M6: P | N6: P | O6: P | P6: P | Q6: P | R6: P | S6: =COUNTIF(D6:R6,"J") -> 0 | T6: =COUNTIF(D6:R6,"F") -> 2 | U6: =COUNTIF(D6:R6,"M") -> 0 | V6: =COUNTIF(D6:R6,"P") -> 13 | W6: =COUNTIF(D6:R6,"F") -> 2 | X6: =SUM(V6/(V6+W6)) -> 0.86666667 | Z6: P | AA6: P | AB6: F | AC6: F | AD6: P | AE6: P | AF6: P | AG6: P | AH6: P | AI6: P | AJ6: P | AK6: P | AL6: P | AM6: P | AN6: P | AO6: =COUNTIF(Z6:AN6,"J") -> 0 | AP6: =COUNTIF(Z6:AN6,"F") -> 2 | AQ6: =COUNTIF(Z6:AN6,"M") -> 0 | AR6: =COUNTIF(Z6:AN6,"P") -> 13 | AS6: =COUNTIF(Z6:AN6,"F") -> 2 | AT6: =SUM(AR6/(AR6+AS6)) -> 0.86666667 | AV6: P | AW6: P | AX6: F | AY6: F | AZ6: P | BA6: P | BB6: P | BC6: P | BD6: P | BE6: P | BF6: P | BG6: P | BH6: P | BI6: P | BJ6: P | BK6: =COUNTIF(AV6:BJ6,"J") -> 0 | BL6: =COUNTIF(AV6:BJ6,"F") -> 2 | BM6: =COUNTIF(AV6:BJ6,"M") -> 0 | BN6: =COUNTIF(AV6:BJ6,"P") -> 13 | BO6: =COUNTIF(AV6:BJ6,"F") -> 2 | BP6: =SUM(BN6/(BN6+BO6)) -> 0.86666667 | BR6: P | BS6: P | BT6: F | BU6: F | BV6: P | BW6: P | BX6: P | BY6: P | BZ6: P | CA6: P | CB6: P | CC6: P | CD6: P | CE6: P | CF6: P | CG6: =COUNTIF(BR6:CF6,"J") -> 0 | CH6: =COUNTIF(BR6:CF6,"F") -> 2 | CI6: =COUNTIF(BR6:CF6,"M") -> 0 | CJ6: =COUNTIF(BR6:CF6,"P") -> 13 | CK6: =COUNTIF(BR6:CF6,"F") -> 2 | CL6: =SUM(CJ6/(CJ6+CK6)) -> 0.86666667
A7: =A6+1 -> 4 | B7: ALUNO 4 | D7: P | E7: F | F7: F | G7: F | H7: F | I7: P | J7: P | K7: P | L7: P | M7: F | N7: P | O7: P | P7: P | Q7: P | R7: F | S7: =COUNTIF(D7:R7,"J") -> 0 | T7: =COUNTIF(D7:R7,"F") -> 6 | U7: =COUNTIF(D7:R7,"M") -> 0 | V7: =COUNTIF(D7:R7,"P") -> 9 | W7: =COUNTIF(D7:R7,"F") -> 6 | X7: =SUM(V7/(V7+W7)) -> 0.6 | Z7: P | AA7: F | AB7: F | AC7: F | AD7: F | AE7: P | AF7: P | AG7: P | AH7: P | AI7: P | AJ7: P | AK7: P | AL7: P | AM7: P | AN7: P | AO7: =COUNTIF(Z7:AN7,"J") -> 0 | AP7: =COUNTIF(Z7:AN7,"F") -> 4 | AQ7: =COUNTIF(Z7:AN7,"M") -> 0 | AR7: =COUNTIF(Z7:AN7,"P") -> 11 | AS7: =COUNTIF(Z7:AN7,"F") -> 4 | AT7: =SUM(AR7/(AR7+AS7)) -> 0.73333333 | AV7: P | AW7: F | AX7: F | AY7: F | AZ7: F | BA7: P | BB7: P | BC7: P | BD7: P | BE7: F | BF7: P | BG7: P | BH7: P | BI7: P | BJ7: F | BK7: =COUNTIF(AV7:BJ7,"J") -> 0 | BL7: =COUNTIF(AV7:BJ7,"F") -> 6 | BM7: =COUNTIF(AV7:BJ7,"M") -> 0 | BN7: =COUNTIF(AV7:BJ7,"P") -> 9 | BO7: =COUNTIF(AV7:BJ7,"F") -> 6 | BP7: =SUM(BN7/(BN7+BO7)) -> 0.6 | BR7: P | BS7: F | BT7: F | BU7: F | BV7: F | BW7: P | BX7: P | BY7: P | BZ7: P | CA7: F | CB7: P | CC7: P | CD7: P | CE7: P | CF7: F | CG7: =COUNTIF(BR7:CF7,"J") -> 0 | CH7: =COUNTIF(BR7:CF7,"F") -> 6 | CI7: =COUNTIF(BR7:CF7,"M") -> 0 | CJ7: =COUNTIF(BR7:CF7,"P") -> 9 | CK7: =COUNTIF(BR7:CF7,"F") -> 6 | CL7: =SUM(CJ7/(CJ7+CK7)) -> 0.6
A8: =A7+1 -> 5 | B8: ALUNO 5 | D8: P | E8: F | F8: P | G8: P | H8: P | I8: P | J8: P | K8: P | L8: P | M8: P | N8: P | O8: P | P8: P | Q8: P | R8: P | S8: =COUNTIF(D8:R8,"J") -> 0 | T8: =COUNTIF(D8:R8,"F") -> 1 | U8: =COUNTIF(D8:R8,"M") -> 0 | V8: =COUNTIF(D8:R8,"P") -> 14 | W8: =COUNTIF(D8:R8,"F") -> 1 | X8: =SUM(V8/(V8+W8)) -> 0.93333333 | Z8: P | AA8: F | AB8: P | AC8: P | AD8: P | AE8: P | AF8: P | AG8: P | AH8: P | AI8: P | AJ8: P | AK8: P | AL8: P | AM8: P | AN8: P | AO8: =COUNTIF(Z8:AN8,"J") -> 0 | AP8: =COUNTIF(Z8:AN8,"F") -> 1 | AQ8: =COUNTIF(Z8:AN8,"M") -> 0 | AR8: =COUNTIF(Z8:AN8,"P") -> 14 | AS8: =COUNTIF(Z8:AN8,"F") -> 1 | AT8: =SUM(AR8/(AR8+AS8)) -> 0.93333333 | AV8: P | AW8: F | AX8: P | AY8: P | AZ8: P | BA8: P | BB8: P | BC8: P | BD8: P | BE8: P | BF8: P | BG8: P | BH8: P | BI8: P | BJ8: P | BK8: =COUNTIF(AV8:BJ8,"J") -> 0 | BL8: =COUNTIF(AV8:BJ8,"F") -> 1 | BM8: =COUNTIF(AV8:BJ8,"M") -> 0 | BN8: =COUNTIF(AV8:BJ8,"P") -> 14 | BO8: =COUNTIF(AV8:BJ8,"F") -> 1 | BP8: =SUM(BN8/(BN8+BO8)) -> 0.93333333 | BR8: P | BS8: F | BT8: P | BU8: P | BV8: P | BW8: P | BX8: P | BY8: P | BZ8: P | CA8: P | CB8: P | CC8: P | CD8: P | CE8: P | CF8: P | CG8: =COUNTIF(BR8:CF8,"J") -> 0 | CH8: =COUNTIF(BR8:CF8,"F") -> 1 | CI8: =COUNTIF(BR8:CF8,"M") -> 0 | CJ8: =COUNTIF(BR8:CF8,"P") -> 14 | CK8: =COUNTIF(BR8:CF8,"F") -> 1 | CL8: =SUM(CJ8/(CJ8+CK8)) -> 0.93333333
A9: =A8+1 -> 6 | S9: =COUNTIF(D9:R9,"J") -> 0 | T9: =COUNTIF(D9:R9,"F") -> 0 | U9: =COUNTIF(D9:R9,"M") -> 0 | V9: =COUNTIF(D9:R9,"P") -> 0 | W9: =COUNTIF(D9:R9,"F") -> 0 | X9: =SUM(V9/(V9+W9)) -> #DIV/0! | AO9: =COUNTIF(Z9:AN9,"J") -> 0 | AP9: =COUNTIF(Z9:AN9,"F") -> 0 | AQ9: =COUNTIF(Z9:AN9,"M") -> 0 | AR9: =COUNTIF(Z9:AN9,"P") -> 0 | AS9: =COUNTIF(Z9:AN9,"F") -> 0 | AT9: =SUM(AR9/(AR9+AS9)) -> #DIV/0! | BK9: =COUNTIF(AV9:BJ9,"J") -> 0 | BL9: =COUNTIF(AV9:BJ9,"F") -> 0 | BM9: =COUNTIF(AV9:BJ9,"M") -> 0 | BN9: =COUNTIF(AV9:BJ9,"P") -> 0 | BO9: =COUNTIF(AV9:BJ9,"F") -> 0 | BP9: =SUM(BN9/(BN9+BO9)) -> #DIV/0! | CG9: =COUNTIF(BR9:CF9,"J") -> 0 | CH9: =COUNTIF(BR9:CF9,"F") -> 0 | CI9: =COUNTIF(BR9:CF9,"M") -> 0 | CJ9: =COUNTIF(BR9:CF9,"P") -> 0 | CK9: =COUNTIF(BR9:CF9,"F") -> 0 | CL9: =SUM(CJ9/(CJ9+CK9)) -> #DIV/0!
A10: =A9+1 -> 7 | S10: =COUNTIF(D10:R10,"J") -> 0 | T10: =COUNTIF(D10:R10,"F") -> 0 | U10: =COUNTIF(D10:R10,"M") -> 0 | V10: =COUNTIF(D10:R10,"P") -> 0 | W10: =COUNTIF(D10:R10,"F") -> 0 | X10: =SUM(V10/(V10+W10)) -> #DIV/0! | AO10: =COUNTIF(Z10:AN10,"J") -> 0 | AP10: =COUNTIF(Z10:AN10,"F") -> 0 | AQ10: =COUNTIF(Z10:AN10,"M") -> 0 | AR10: =COUNTIF(Z10:AN10,"P") -> 0 | AS10: =COUNTIF(Z10:AN10,"F") -> 0 | AT10: =SUM(AR10/(AR10+AS10)) -> #DIV/0! | BK10: =COUNTIF(AV10:BJ10,"J") -> 0 | BL10: =COUNTIF(AV10:BJ10,"F") -> 0 | BM10: =COUNTIF(AV10:BJ10,"M") -> 0 | BN10: =COUNTIF(AV10:BJ10,"P") -> 0 | BO10: =COUNTIF(AV10:BJ10,"F") -> 0 | BP10: =SUM(BN10/(BN10+BO10)) -> #DIV/0! | CG10: =COUNTIF(BR10:CF10,"J") -> 0 | CH10: =COUNTIF(BR10:CF10,"F") -> 0 | CI10: =COUNTIF(BR10:CF10,"M") -> 0 | CJ10: =COUNTIF(BR10:CF10,"P") -> 0 | CK10: =COUNTIF(BR10:CF10,"F") -> 0 | CL10: =SUM(CJ10/(CJ10+CK10)) -> #DIV/0!
